{"text_format":"1","workbook":"xlsx","n_sheets":10,"sheets":["表紙","選手入力【男子】","選手入力【女子】","提出用紙【男子】","提出用紙【女子】","作業シート","男子GSL","男子SL","女子GSL","女子SL"],"not_rendered":{"charts":0,"images":0,"macros":1,"external_links":0,"defined_names":7,"comments":0,"pivot_tables":0},"unopened":[],"bounds":{"document_bytes":16777216,"sheet_cells":100000,"rows_first":2000,"rows_last":500,"rows_between":2000,"halvings":0,"cell_chars":16384,"cell_head_chars":4096},"cells_cut":0,"cells_raw":0,"read":"whole","date_system":"1900"}

{"sheet":"表紙","index":0,"n_rows":50,"n_cols":11,"rows_kept":50,"cut":false,"hidden":false,"merged":[[16,9,16,10],[1,3,1,9],[20,2,20,10],[46,3,46,4],[2,7,2,9],[12,5,12,7],[4,1,4,9],[18,5,18,7],[42,3,42,4],[42,5,42,7],[14,5,14,7],[17,5,17,7],[17,9,17,10],[18,9,18,10]]}
[]
[null,"第","５５","回　北海道中学校スキー大会アルペン競技　　《北海道大会代表選手一覧》",null,null,null,null,null,null,"ver.6.01"]
[null,null,null,null,null,null,null,"『様式２』・・・各地区専門委員作成用シート"]
[]
[null,"　北海道中学校スキー大会のプログラム作成等の事務軽減のため、作成後すぐにメールでも送付することとなっております。　すべての情報を、遺漏なく入力し、期日厳守で下記アドレスまで送付してください。　なお、作成・印刷した選手一覧は地区中体連事務局に提出してください。"]
[]
[]
[null,"手順０","マクロを有効にしてください。"]
[]
[]
[null,"手順１","下の□欄に地区名、会長名、専門委員名、代表者会議参加者名を入力する"]
[]
[null,null,"地区名",null,null,"地区中体連会長名"]
[]
[null,null,null,null,null,"地区中体連専門委員名"]
[]
[null,null,null,null,null,null,null,null,"氏　名","学校名"]
[null,null,null,null,null,"代表者会議参加者"]
[null,null,null,null,null,"【２名まで】"]
[]
[null,null,"※代表者会議参加者は、地区内の中学校の「監督」の先生から２名以内となっています。（外部コーチは参加できません）"]
[null,null,"※代表者会議参加者の中学校名は、略称でお願いします。（例：「小樽市立銭函」中学校 → 『小樽銭函』）"]
[]
[null,"手順２","『選手入力【○子】』のシートに、参加する生徒の情報を"]
[null,null,"入力する（右のボタンを押すことで移動できます）"]
[]
[null,null,"※各学校からのデータを元に、男女別でシートを作成してください。"]
[null,null,"　　なお、事前に入力しておき、予選会終了後ランクを入力し、代表選手以外を消去して作成すると、早くできます。"]
[null,null,"　　ただしその際には、『切り取り→貼り付け』ではなく、『コピー→貼り付け」で作業をしてください。"]
[null,null,"※ランク順に記入する必要はありません。"]
[null,null,"　　　　記入漏れがないことを確認するために並べ替えるボタンがありますので、記入後に確認して下さい。"]
[null,null,"　　　　なお確認後は、ナンバー(№)順に戻して提出して下さい。"]
[]
[null,"手順３","提出用のシートを確認し、印刷・押印し、地区中体連"]
[null,null,"に提出する。（右のボタンを押すことで移動できます）"]
[]
[null,null,"※提出期限は１月７日（土）です。"]
[null,null,null,"ご協力よろしくお願いします。"]
[]
[null,"手順４","ファイル名を　『 ◇◇地区代表選手一覧 』　と変更して保存する"]
[]
[null,"手順５","ファイルを北海道大会事務局へメールで送付する"]
[null,null,null,"メールアドレス： ",null,"alpenski_jh@yahoo.co.jp"]
[null,null,"なお、送信するメールの『件名』はファイル名と同じにし、『本文』の中に送信者の名前を記入してください。"]
[null,null,"また受信後、受け取ったことの返信を１月６日までに送信されたアドレスにしますので、返信がない場合は"]
[null,null,"大会事務局まで連絡をください。"]
[]
[null,null,null,"提出期限は１月６日（金）です。ご協力よろしくお願いします。"]
[]
[null,"※不明の点がある場合には大会事務局（小樽市立銭函中学校）まで連絡ください。"]

{"sheet":"選手入力【男子】","index":1,"n_rows":54,"n_cols":11,"rows_kept":54,"cut":false,"hidden":false,"merged":[[2,10,3,11],[3,0,4,0],[3,1,4,1],[3,3,4,3],[3,4,4,4],[3,7,3,8],[3,2,4,2]]}
[{"$f":"CONCATENATE(\"第 \",表紙!$C$2,\" 回　北海道中学校スキー大会　アルペン競技\")","v":"第 ５５ 回　北海道中学校スキー大会　アルペン競技"}]
[null,null,{"$f":"表紙!$D$13","v":0},"地区　代表選手一覧　入力シート　【男子】"]
[null,null,null,null,null,null,null,null,null,null,"記入確認用\n並べ替えマクロ"]
["№","氏　　名","しめい","学年","市町村","プログラム等標記","プログラム等標記","ランク"]
[null,null,null,null,null,"学校名","がっこうめい","ＧＳＬ","ＳＬ"]
["例","北海　太郎","ほっかい　たろう",3,"富良野市","富良野樹海","ふらのじゅかい","特２",1]
[1]
[2]
[3]
[4]
[5]
[6]
[7]
[8]
[9]
[10]
[11]
[12]
[13]
[14]
[15]
[16]
[17]
[18]
[19]
[20]
[21]
[22]
[23]
[24]
[25]
[26]
[27]
[28]
[29]
[30]
[31]
[32]
[33]
[34]
[35]
[36]
[37]
[38]
[39]
[40]
[41]
[42]
[43]
[44]
[45]
[]
[]
["※　「ランク」の欄は、特枠選手は『特◇』、予選通過選手はランクを数字（１、２、…）で入力してください。"]

{"sheet":"選手入力【女子】","index":2,"n_rows":54,"n_cols":11,"rows_kept":54,"cut":false,"hidden":false,"merged":[[2,10,3,11],[3,0,4,0],[3,1,4,1],[3,2,4,2],[3,3,4,3],[3,4,4,4],[3,7,3,8]]}
[{"$f":"CONCATENATE(\"第 \",表紙!$C$2,\" 回　北海道中学校スキー大会　アルペン競技\")","v":"第 ５５ 回　北海道中学校スキー大会　アルペン競技"}]
[null,null,{"$f":"表紙!$D$13","v":0},"地区　代表選手一覧　入力シート　【女子】"]
[null,null,null,null,null,null,null,null,null,null,"記入確認用\n並べ替えマクロ"]
["№","氏　　名","しめい","学年","市町村","プログラム等標記","プログラム等標記","ランク"]
[null,null,null,null,null,"学校名","がっこうめい","ＧＳＬ","ＳＬ"]
["例","北海　花子","ほっかい　はなこ",3,"富良野市","富良野樹海","ふらのじゅかい",1,"特１"]
[1]
[2]
[3]
[4]
[5]
[6]
[7]
[8]
[9]
[10]
[11]
[12]
[13]
[14]
[15]
[16]
[17]
[18]
[19]
[20]
[21]
[22]
[23]
[24]
[25]
[26]
[27]
[28]
[29]
[30]
[31]
[32]
[33]
[34]
[35]
[36]
[37]
[38]
[39]
[40]
[41]
[42]
[43]
[44]
[45]
[]
[]
["※　「ランク」の欄は、特枠選手は『特◇』、予選通過選手はランクを数字（１、２、…）で入力してください。"]

{"sheet":"提出用紙【男子】","index":3,"n_rows":57,"n_cols":7,"rows_kept":57,"cut":false,"hidden":false,"merged":[[3,5,3,6],[0,0,0,6],[51,5,51,6],[56,2,56,3],[54,4,54,6],[56,4,56,6],[3,0,4,0],[3,1,4,1],[3,2,4,2],[3,3,4,3],[3,4,4,4]]}
[{"$f":"CONCATENATE(\"第 \",表紙!$C$2,\" 回　北海道中学校スキー大会　アルペン競技\")","v":"第 ５５ 回　北海道中学校スキー大会　アルペン競技"}]
[null,{"$f":"表紙!$D$13","v":0},"地区　代表選手一覧　【男子】"]
[]
["№","氏　　名","学年","市町村","学校名","ランク"]
[null,null,null,null,null,"ＧＳＬ","ＳＬ"]
[1,{"$f":"IF(COUNTBLANK(選手入力【男子】!B7),\"\",選手入力【男子】!B7)","v":""},{"$f":"IF(COUNTBLANK(選手入力【男子】!D7),\"\",選手入力【男子】!D7)","v":""},{"$f":"IF(COUNTBLANK(選手入力【男子】!E7),\"\",選手入力【男子】!E7)","v":""},{"$f":"IF(COUNTBLANK(選手入力【男子】!F7),\"\",選手入力【男子】!F7)","v":""},{"$f":"IF(COUNTBLANK(選手入力【男子】!H7),\"\",選手入力【男子】!H7)","v":""},{"$f":"IF(COUNTBLANK(選手入力【男子】!I7),\"\",選手入力【男子】!I7)","v":""}]
[2,{"$f":"IF(COUNTBLANK(選手入力【男子】!B8),\"\",選手入力【男子】!B8)","v":""},{"$f":"IF(COUNTBLANK(選手入力【男子】!D8),\"\",選手入力【男子】!D8)","v":""},{"$f":"IF(COUNTBLANK(選手入力【男子】!E8),\"\",選手入力【男子】!E8)","v":""},{"$f":"IF(COUNTBLANK(選手入力【男子】!F8),\"\",選手入力【男子】!F8)","v":""},{"$f":"IF(COUNTBLANK(選手入力【男子】!H8),\"\",選手入力【男子】!H8)","v":""},{"$f":"IF(COUNTBLANK(選手入力【男子】!I8),\"\",選手入力【男子】!I8)","v":""}]
[3,{"$f":"IF(COUNTBLANK(選手入力【男子】!B9),\"\",選手入力【男子】!B9)","v":""},{"$f":"IF(COUNTBLANK(選手入力【男子】!D9),\"\",選手入力【男子】!D9)","v":""},{"$f":"IF(COUNTBLANK(選手入力【男子】!E9),\"\",選手入力【男子】!E9)","v":""},{"$f":"IF(COUNTBLANK(選手入力【男子】!F9),\"\",選手入力【男子】!F9)","v":""},{"$f":"IF(COUNTBLANK(選手入力【男子】!H9),\"\",選手入力【男子】!H9)","v":""},{"$f":"IF(COUNTBLANK(選手入力【男子】!I9),\"\",選手入力【男子】!I9)","v":""}]
[4,{"$f":"IF(COUNTBLANK(選手入力【男子】!B10),\"\",選手入力【男子】!B10)","v":""},{"$f":"IF(COUNTBLANK(選手入力【男子】!D10),\"\",選手入力【男子】!D10)","v":""},{"$f":"IF(COUNTBLANK(選手入力【男子】!E10),\"\",選手入力【男子】!E10)","v":""},{"$f":"IF(COUNTBLANK(選手入力【男子】!F10),\"\",選手入力【男子】!F10)","v":""},{"$f":"IF(COUNTBLANK(選手入力【男子】!H10),\"\",選手入力【男子】!H10)","v":""},{"$f":"IF(COUNTBLANK(選手入力【男子】!I10),\"\",選手入力【男子】!I10)","v":""}]
[5,{"$f":"IF(COUNTBLANK(選手入力【男子】!B11),\"\",選手入力【男子】!B11)","v":""},{"$f":"IF(COUNTBLANK(選手入力【男子】!D11),\"\",選手入力【男子】!D11)","v":""},{"$f":"IF(COUNTBLANK(選手入力【男子】!E11),\"\",選手入力【男子】!E11)","v":""},{"$f":"IF(COUNTBLANK(選手入力【男子】!F11),\"\",選手入力【男子】!F11)","v":""},{"$f":"IF(COUNTBLANK(選手入力【男子】!H11),\"\",選手入力【男子】!H11)","v":""},{"$f":"IF(COUNTBLANK(選手入力【男子】!I11),\"\",選手入力【男子】!I11)","v":""}]
[6,{"$f":"IF(COUNTBLANK(選手入力【男子】!B12),\"\",選手入力【男子】!B12)","v":""},{"$f":"IF(COUNTBLANK(選手入力【男子】!D12),\"\",選手入力【男子】!D12)","v":""},{"$f":"IF(COUNTBLANK(選手入力【男子】!E12),\"\",選手入力【男子】!E12)","v":""},{"$f":"IF(COUNTBLANK(選手入力【男子】!F12),\"\",選手入力【男子】!F12)","v":""},{"$f":"IF(COUNTBLANK(選手入力【男子】!H12),\"\",選手入力【男子】!H12)","v":""},{"$f":"IF(COUNTBLANK(選手入力【男子】!I12),\"\",選手入力【男子】!I12)","v":""}]
[7,{"$f":"IF(COUNTBLANK(選手入力【男子】!B13),\"\",選手入力【男子】!B13)","v":""},{"$f":"IF(COUNTBLANK(選手入力【男子】!D13),\"\",選手入力【男子】!D13)","v":""},{"$f":"IF(COUNTBLANK(選手入力【男子】!E13),\"\",選手入力【男子】!E13)","v":""},{"$f":"IF(COUNTBLANK(選手入力【男子】!F13),\"\",選手入力【男子】!F13)","v":""},{"$f":"IF(COUNTBLANK(選手入力【男子】!H13),\"\",選手入力【男子】!H13)","v":""},{"$f":"IF(COUNTBLANK(選手入力【男子】!I13),\"\",選手入力【男子】!I13)","v":""}]
[8,{"$f":"IF(COUNTBLANK(選手入力【男子】!B14),\"\",選手入力【男子】!B14)","v":""},{"$f":"IF(COUNTBLANK(選手入力【男子】!D14),\"\",選手入力【男子】!D14)","v":""},{"$f":"IF(COUNTBLANK(選手入力【男子】!E14),\"\",選手入力【男子】!E14)","v":""},{"$f":"IF(COUNTBLANK(選手入力【男子】!F14),\"\",選手入力【男子】!F14)","v":""},{"$f":"IF(COUNTBLANK(選手入力【男子】!H14),\"\",選手入力【男子】!H14)","v":""},{"$f":"IF(COUNTBLANK(選手入力【男子】!I14),\"\",選手入力【男子】!I14)","v":""}]
[9,{"$f":"IF(COUNTBLANK(選手入力【男子】!B15),\"\",選手入力【男子】!B15)","v":""},{"$f":"IF(COUNTBLANK(選手入力【男子】!D15),\"\",選手入力【男子】!D15)","v":""},{"$f":"IF(COUNTBLANK(選手入力【男子】!E15),\"\",選手入力【男子】!E15)","v":""},{"$f":"IF(COUNTBLANK(選手入力【男子】!F15),\"\",選手入力【男子】!F15)","v":""},{"$f":"IF(COUNTBLANK(選手入力【男子】!H15),\"\",選手入力【男子】!H15)","v":""},{"$f":"IF(COUNTBLANK(選手入力【男子】!I15),\"\",選手入力【男子】!I15)","v":""}]
[10,{"$f":"IF(COUNTBLANK(選手入力【男子】!B16),\"\",選手入力【男子】!B16)","v":""},{"$f":"IF(COUNTBLANK(選手入力【男子】!D16),\"\",選手入力【男子】!D16)","v":""},{"$f":"IF(COUNTBLANK(選手入力【男子】!E16),\"\",選手入力【男子】!E16)","v":""},{"$f":"IF(COUNTBLANK(選手入力【男子】!F16),\"\",選手入力【男子】!F16)","v":""},{"$f":"IF(COUNTBLANK(選手入力【男子】!H16),\"\",選手入力【男子】!H16)","v":""},{"$f":"IF(COUNTBLANK(選手入力【男子】!I16),\"\",選手入力【男子】!I16)","v":""}]
[11,{"$f":"IF(COUNTBLANK(選手入力【男子】!B17),\"\",選手入力【男子】!B17)","v":""},{"$f":"IF(COUNTBLANK(選手入力【男子】!D17),\"\",選手入力【男子】!D17)","v":""},{"$f":"IF(COUNTBLANK(選手入力【男子】!E17),\"\",選手入力【男子】!E17)","v":""},{"$f":"IF(COUNTBLANK(選手入力【男子】!F17),\"\",選手入力【男子】!F17)","v":""},{"$f":"IF(COUNTBLANK(選手入力【男子】!H17),\"\",選手入力【男子】!H17)","v":""},{"$f":"IF(COUNTBLANK(選手入力【男子】!I17),\"\",選手入力【男子】!I17)","v":""}]
[12,{"$f":"IF(COUNTBLANK(選手入力【男子】!B18),\"\",選手入力【男子】!B18)","v":""},{"$f":"IF(COUNTBLANK(選手入力【男子】!D18),\"\",選手入力【男子】!D18)","v":""},{"$f":"IF(COUNTBLANK(選手入力【男子】!E18),\"\",選手入力【男子】!E18)","v":""},{"$f":"IF(COUNTBLANK(選手入力【男子】!F18),\"\",選手入力【男子】!F18)","v":""},{"$f":"IF(COUNTBLANK(選手入力【男子】!H18),\"\",選手入力【男子】!H18)","v":""},{"$f":"IF(COUNTBLANK(選手入力【男子】!I18),\"\",選手入力【男子】!I18)","v":""}]
[13,{"$f":"IF(COUNTBLANK(選手入力【男子】!B19),\"\",選手入力【男子】!B19)","v":""},{"$f":"IF(COUNTBLANK(選手入力【男子】!D19),\"\",選手入力【男子】!D19)","v":""},{"$f":"IF(COUNTBLANK(選手入力【男子】!E19),\"\",選手入力【男子】!E19)","v":""},{"$f":"IF(COUNTBLANK(選手入力【男子】!F19),\"\",選手入力【男子】!F19)","v":""},{"$f":"IF(COUNTBLANK(選手入力【男子】!H19),\"\",選手入力【男子】!H19)","v":""},{"$f":"IF(COUNTBLANK(選手入力【男子】!I19),\"\",選手入力【男子】!I19)","v":""}]
[14,{"$f":"IF(COUNTBLANK(選手入力【男子】!B20),\"\",選手入力【男子】!B20)","v":""},{"$f":"IF(COUNTBLANK(選手入力【男子】!D20),\"\",選手入力【男子】!D20)","v":""},{"$f":"IF(COUNTBLANK(選手入力【男子】!E20),\"\",選手入力【男子】!E20)","v":""},{"$f":"IF(COUNTBLANK(選手入力【男子】!F20),\"\",選手入力【男子】!F20)","v":""},{"$f":"IF(COUNTBLANK(選手入力【男子】!H20),\"\",選手入力【男子】!H20)","v":""},{"$f":"IF(COUNTBLANK(選手入力【男子】!I20),\"\",選手入力【男子】!I20)","v":""}]
[15,{"$f":"IF(COUNTBLANK(選手入力【男子】!B21),\"\",選手入力【男子】!B21)","v":""},{"$f":"IF(COUNTBLANK(選手入力【男子】!D21),\"\",選手入力【男子】!D21)","v":""},{"$f":"IF(COUNTBLANK(選手入力【男子】!E21),\"\",選手入力【男子】!E21)","v":""},{"$f":"IF(COUNTBLANK(選手入力【男子】!F21),\"\",選手入力【男子】!F21)","v":""},{"$f":"IF(COUNTBLANK(選手入力【男子】!H21),\"\",選手入力【男子】!H21)","v":""},{"$f":"IF(COUNTBLANK(選手入力【男子】!I21),\"\",選手入力【男子】!I21)","v":""}]
[16,{"$f":"IF(COUNTBLANK(選手入力【男子】!B22),\"\",選手入力【男子】!B22)","v":""},{"$f":"IF(COUNTBLANK(選手入力【男子】!D22),\"\",選手入力【男子】!D22)","v":""},{"$f":"IF(COUNTBLANK(選手入力【男子】!E22),\"\",選手入力【男子】!E22)","v":""},{"$f":"IF(COUNTBLANK(選手入力【男子】!F22),\"\",選手入力【男子】!F22)","v":""},{"$f":"IF(COUNTBLANK(選手入力【男子】!H22),\"\",選手入力【男子】!H22)","v":""},{"$f":"IF(COUNTBLANK(選手入力【男子】!I22),\"\",選手入力【男子】!I22)","v":""}]
[17,{"$f":"IF(COUNTBLANK(選手入力【男子】!B23),\"\",選手入力【男子】!B23)","v":""},{"$f":"IF(COUNTBLANK(選手入力【男子】!D23),\"\",選手入力【男子】!D23)","v":""},{"$f":"IF(COUNTBLANK(選手入力【男子】!E23),\"\",選手入力【男子】!E23)","v":""},{"$f":"IF(COUNTBLANK(選手入力【男子】!F23),\"\",選手入力【男子】!F23)","v":""},{"$f":"IF(COUNTBLANK(選手入力【男子】!H23),\"\",選手入力【男子】!H23)","v":""},{"$f":"IF(COUNTBLANK(選手入力【男子】!I23),\"\",選手入力【男子】!I23)","v":""}]
[18,{"$f":"IF(COUNTBLANK(選手入力【男子】!B24),\"\",選手入力【男子】!B24)","v":""},{"$f":"IF(COUNTBLANK(選手入力【男子】!D24),\"\",選手入力【男子】!D24)","v":""},{"$f":"IF(COUNTBLANK(選手入力【男子】!E24),\"\",選手入力【男子】!E24)","v":""},{"$f":"IF(COUNTBLANK(選手入力【男子】!F24),\"\",選手入力【男子】!F24)","v":""},{"$f":"IF(COUNTBLANK(選手入力【男子】!H24),\"\",選手入力【男子】!H24)","v":""},{"$f":"IF(COUNTBLANK(選手入力【男子】!I24),\"\",選手入力【男子】!I24)","v":""}]
[19,{"$f":"IF(COUNTBLANK(選手入力【男子】!B25),\"\",選手入力【男子】!B25)","v":""},{"$f":"IF(COUNTBLANK(選手入力【男子】!D25),\"\",選手入力【男子】!D25)","v":""},{"$f":"IF(COUNTBLANK(選手入力【男子】!E25),\"\",選手入力【男子】!E25)","v":""},{"$f":"IF(COUNTBLANK(選手入力【男子】!F25),\"\",選手入力【男子】!F25)","v":""},{"$f":"IF(COUNTBLANK(選手入力【男子】!H25),\"\",選手入力【男子】!H25)","v":""},{"$f":"IF(COUNTBLANK(選手入力【男子】!I25),\"\",選手入力【男子】!I25)","v":""}]
[20,{"$f":"IF(COUNTBLANK(選手入力【男子】!B26),\"\",選手入力【男子】!B26)","v":""},{"$f":"IF(COUNTBLANK(選手入力【男子】!D26),\"\",選手入力【男子】!D26)","v":""},{"$f":"IF(COUNTBLANK(選手入力【男子】!E26),\"\",選手入力【男子】!E26)","v":""},{"$f":"IF(COUNTBLANK(選手入力【男子】!F26),\"\",選手入力【男子】!F26)","v":""},{"$f":"IF(COUNTBLANK(選手入力【男子】!H26),\"\",選手入力【男子】!H26)","v":""},{"$f":"IF(COUNTBLANK(選手入力【男子】!I26),\"\",選手入力【男子】!I26)","v":""}]
[21,{"$f":"IF(COUNTBLANK(選手入力【男子】!B27),\"\",選手入力【男子】!B27)","v":""},{"$f":"IF(COUNTBLANK(選手入力【男子】!D27),\"\",選手入力【男子】!D27)","v":""},{"$f":"IF(COUNTBLANK(選手入力【男子】!E27),\"\",選手入力【男子】!E27)","v":""},{"$f":"IF(COUNTBLANK(選手入力【男子】!F27),\"\",選手入力【男子】!F27)","v":""},{"$f":"IF(COUNTBLANK(選手入力【男子】!H27),\"\",選手入力【男子】!H27)","v":""},{"$f":"IF(COUNTBLANK(選手入力【男子】!I27),\"\",選手入力【男子】!I27)","v":""}]
[22,{"$f":"IF(COUNTBLANK(選手入力【男子】!B28),\"\",選手入力【男子】!B28)","v":""},{"$f":"IF(COUNTBLANK(選手入力【男子】!D28),\"\",選手入力【男子】!D28)","v":""},{"$f":"IF(COUNTBLANK(選手入力【男子】!E28),\"\",選手入力【男子】!E28)","v":""},{"$f":"IF(COUNTBLANK(選手入力【男子】!F28),\"\",選手入力【男子】!F28)","v":""},{"$f":"IF(COUNTBLANK(選手入力【男子】!H28),\"\",選手入力【男子】!H28)","v":""},{"$f":"IF(COUNTBLANK(選手入力【男子】!I28),\"\",選手入力【男子】!I28)","v":""}]
[23,{"$f":"IF(COUNTBLANK(選手入力【男子】!B29),\"\",選手入力【男子】!B29)","v":""},{"$f":"IF(COUNTBLANK(選手入力【男子】!D29),\"\",選手入力【男子】!D29)","v":""},{"$f":"IF(COUNTBLANK(選手入力【男子】!E29),\"\",選手入力【男子】!E29)","v":""},{"$f":"IF(COUNTBLANK(選手入力【男子】!F29),\"\",選手入力【男子】!F29)","v":""},{"$f":"IF(COUNTBLANK(選手入力【男子】!H29),\"\",選手入力【男子】!H29)","v":""},{"$f":"IF(COUNTBLANK(選手入力【男子】!I29),\"\",選手入力【男子】!I29)","v":""}]
[24,{"$f":"IF(COUNTBLANK(選手入力【男子】!B30),\"\",選手入力【男子】!B30)","v":""},{"$f":"IF(COUNTBLANK(選手入力【男子】!D30),\"\",選手入力【男子】!D30)","v":""},{"$f":"IF(COUNTBLANK(選手入力【男子】!E30),\"\",選手入力【男子】!E30)","v":""},{"$f":"IF(COUNTBLANK(選手入力【男子】!F30),\"\",選手入力【男子】!F30)","v":""},{"$f":"IF(COUNTBLANK(選手入力【男子】!H30),\"\",選手入力【男子】!H30)","v":""},{"$f":"IF(COUNTBLANK(選手入力【男子】!I30),\"\",選手入力【男子】!I30)","v":""}]
[25,{"$f":"IF(COUNTBLANK(選手入力【男子】!B31),\"\",選手入力【男子】!B31)","v":""},{"$f":"IF(COUNTBLANK(選手入力【男子】!D31),\"\",選手入力【男子】!D31)","v":""},{"$f":"IF(COUNTBLANK(選手入力【男子】!E31),\"\",選手入力【男子】!E31)","v":""},{"$f":"IF(COUNTBLANK(選手入力【男子】!F31),\"\",選手入力【男子】!F31)","v":""},{"$f":"IF(COUNTBLANK(選手入力【男子】!H31),\"\",選手入力【男子】!H31)","v":""},{"$f":"IF(COUNTBLANK(選手入力【男子】!I31),\"\",選手入力【男子】!I31)","v":""}]
[26,{"$f":"IF(COUNTBLANK(選手入力【男子】!B32),\"\",選手入力【男子】!B32)","v":""},{"$f":"IF(COUNTBLANK(選手入力【男子】!D32),\"\",選手入力【男子】!D32)","v":""},{"$f":"IF(COUNTBLANK(選手入力【男子】!E32),\"\",選手入力【男子】!E32)","v":""},{"$f":"IF(COUNTBLANK(選手入力【男子】!F32),\"\",選手入力【男子】!F32)","v":""},{"$f":"IF(COUNTBLANK(選手入力【男子】!H32),\"\",選手入力【男子】!H32)","v":""},{"$f":"IF(COUNTBLANK(選手入力【男子】!I32),\"\",選手入力【男子】!I32)","v":""}]
[27,{"$f":"IF(COUNTBLANK(選手入力【男子】!B33),\"\",選手入力【男子】!B33)","v":""},{"$f":"IF(COUNTBLANK(選手入力【男子】!D33),\"\",選手入力【男子】!D33)","v":""},{"$f":"IF(COUNTBLANK(選手入力【男子】!E33),\"\",選手入力【男子】!E33)","v":""},{"$f":"IF(COUNTBLANK(選手入力【男子】!F33),\"\",選手入力【男子】!F33)","v":""},{"$f":"IF(COUNTBLANK(選手入力【男子】!H33),\"\",選手入力【男子】!H33)","v":""},{"$f":"IF(COUNTBLANK(選手入力【男子】!I33),\"\",選手入力【男子】!I33)","v":""}]
[28,{"$f":"IF(COUNTBLANK(選手入力【男子】!B34),\"\",選手入力【男子】!B34)","v":""},{"$f":"IF(COUNTBLANK(選手入力【男子】!D34),\"\",選手入力【男子】!D34)","v":""},{"$f":"IF(COUNTBLANK(選手入力【男子】!E34),\"\",選手入力【男子】!E34)","v":""},{"$f":"IF(COUNTBLANK(選手入力【男子】!F34),\"\",選手入力【男子】!F34)","v":""},{"$f":"IF(COUNTBLANK(選手入力【男子】!H34),\"\",選手入力【男子】!H34)","v":""},{"$f":"IF(COUNTBLANK(選手入力【男子】!I34),\"\",選手入力【男子】!I34)","v":""}]
[29,{"$f":"IF(COUNTBLANK(選手入力【男子】!B35),\"\",選手入力【男子】!B35)","v":""},{"$f":"IF(COUNTBLANK(選手入力【男子】!D35),\"\",選手入力【男子】!D35)","v":""},{"$f":"IF(COUNTBLANK(選手入力【男子】!E35),\"\",選手入力【男子】!E35)","v":""},{"$f":"IF(COUNTBLANK(選手入力【男子】!F35),\"\",選手入力【男子】!F35)","v":""},{"$f":"IF(COUNTBLANK(選手入力【男子】!H35),\"\",選手入力【男子】!H35)","v":""},{"$f":"IF(COUNTBLANK(選手入力【男子】!I35),\"\",選手入力【男子】!I35)","v":""}]
[30,{"$f":"IF(COUNTBLANK(選手入力【男子】!B36),\"\",選手入力【男子】!B36)","v":""},{"$f":"IF(COUNTBLANK(選手入力【男子】!D36),\"\",選手入力【男子】!D36)","v":""},{"$f":"IF(COUNTBLANK(選手入力【男子】!E36),\"\",選手入力【男子】!E36)","v":""},{"$f":"IF(COUNTBLANK(選手入力【男子】!F36),\"\",選手入力【男子】!F36)","v":""},{"$f":"IF(COUNTBLANK(選手入力【男子】!H36),\"\",選手入力【男子】!H36)","v":""},{"$f":"IF(COUNTBLANK(選手入力【男子】!I36),\"\",選手入力【男子】!I36)","v":""}]
[31,{"$f":"IF(COUNTBLANK(選手入力【男子】!B37),\"\",選手入力【男子】!B37)","v":""},{"$f":"IF(COUNTBLANK(選手入力【男子】!D37),\"\",選手入力【男子】!D37)","v":""},{"$f":"IF(COUNTBLANK(選手入力【男子】!E37),\"\",選手入力【男子】!E37)","v":""},{"$f":"IF(COUNTBLANK(選手入力【男子】!F37),\"\",選手入力【男子】!F37)","v":""},{"$f":"IF(COUNTBLANK(選手入力【男子】!H37),\"\",選手入力【男子】!H37)","v":""},{"$f":"IF(COUNTBLANK(選手入力【男子】!I37),\"\",選手入力【男子】!I37)","v":""}]
[32,{"$f":"IF(COUNTBLANK(選手入力【男子】!B38),\"\",選手入力【男子】!B38)","v":""},{"$f":"IF(COUNTBLANK(選手入力【男子】!D38),\"\",選手入力【男子】!D38)","v":""},{"$f":"IF(COUNTBLANK(選手入力【男子】!E38),\"\",選手入力【男子】!E38)","v":""},{"$f":"IF(COUNTBLANK(選手入力【男子】!F38),\"\",選手入力【男子】!F38)","v":""},{"$f":"IF(COUNTBLANK(選手入力【男子】!H38),\"\",選手入力【男子】!H38)","v":""},{"$f":"IF(COUNTBLANK(選手入力【男子】!I38),\"\",選手入力【男子】!I38)","v":""}]
[33,{"$f":"IF(COUNTBLANK(選手入力【男子】!B39),\"\",選手入力【男子】!B39)","v":""},{"$f":"IF(COUNTBLANK(選手入力【男子】!D39),\"\",選手入力【男子】!D39)","v":""},{"$f":"IF(COUNTBLANK(選手入力【男子】!E39),\"\",選手入力【男子】!E39)","v":""},{"$f":"IF(COUNTBLANK(選手入力【男子】!F39),\"\",選手入力【男子】!F39)","v":""},{"$f":"IF(COUNTBLANK(選手入力【男子】!H39),\"\",選手入力【男子】!H39)","v":""},{"$f":"IF(COUNTBLANK(選手入力【男子】!I39),\"\",選手入力【男子】!I39)","v":""}]
[34,{"$f":"IF(COUNTBLANK(選手入力【男子】!B40),\"\",選手入力【男子】!B40)","v":""},{"$f":"IF(COUNTBLANK(選手入力【男子】!D40),\"\",選手入力【男子】!D40)","v":""},{"$f":"IF(COUNTBLANK(選手入力【男子】!E40),\"\",選手入力【男子】!E40)","v":""},{"$f":"IF(COUNTBLANK(選手入力【男子】!F40),\"\",選手入力【男子】!F40)","v":""},{"$f":"IF(COUNTBLANK(選手入力【男子】!H40),\"\",選手入力【男子】!H40)","v":""},{"$f":"IF(COUNTBLANK(選手入力【男子】!I40),\"\",選手入力【男子】!I40)","v":""}]
[35,{"$f":"IF(COUNTBLANK(選手入力【男子】!B41),\"\",選手入力【男子】!B41)","v":""},{"$f":"IF(COUNTBLANK(選手入力【男子】!D41),\"\",選手入力【男子】!D41)","v":""},{"$f":"IF(COUNTBLANK(選手入力【男子】!E41),\"\",選手入力【男子】!E41)","v":""},{"$f":"IF(COUNTBLANK(選手入力【男子】!F41),\"\",選手入力【男子】!F41)","v":""},{"$f":"IF(COUNTBLANK(選手入力【男子】!H41),\"\",選手入力【男子】!H41)","v":""},{"$f":"IF(COUNTBLANK(選手入力【男子】!I41),\"\",選手入力【男子】!I41)","v":""}]
[36,{"$f":"IF(COUNTBLANK(選手入力【男子】!B42),\"\",選手入力【男子】!B42)","v":""},{"$f":"IF(COUNTBLANK(選手入力【男子】!D42),\"\",選手入力【男子】!D42)","v":""},{"$f":"IF(COUNTBLANK(選手入力【男子】!E42),\"\",選手入力【男子】!E42)","v":""},{"$f":"IF(COUNTBLANK(選手入力【男子】!F42),\"\",選手入力【男子】!F42)","v":""},{"$f":"IF(COUNTBLANK(選手入力【男子】!H42),\"\",選手入力【男子】!H42)","v":""},{"$f":"IF(COUNTBLANK(選手入力【男子】!I42),\"\",選手入力【男子】!I42)","v":""}]
[37,{"$f":"IF(COUNTBLANK(選手入力【男子】!B43),\"\",選手入力【男子】!B43)","v":""},{"$f":"IF(COUNTBLANK(選手入力【男子】!D43),\"\",選手入力【男子】!D43)","v":""},{"$f":"IF(COUNTBLANK(選手入力【男子】!E43),\"\",選手入力【男子】!E43)","v":""},{"$f":"IF(COUNTBLANK(選手入力【男子】!F43),\"\",選手入力【男子】!F43)","v":""},{"$f":"IF(COUNTBLANK(選手入力【男子】!H43),\"\",選手入力【男子】!H43)","v":""},{"$f":"IF(COUNTBLANK(選手入力【男子】!I43),\"\",選手入力【男子】!I43)","v":""}]
[38,{"$f":"IF(COUNTBLANK(選手入力【男子】!B44),\"\",選手入力【男子】!B44)","v":""},{"$f":"IF(COUNTBLANK(選手入力【男子】!D44),\"\",選手入力【男子】!D44)","v":""},{"$f":"IF(COUNTBLANK(選手入力【男子】!E44),\"\",選手入力【男子】!E44)","v":""},{"$f":"IF(COUNTBLANK(選手入力【男子】!F44),\"\",選手入力【男子】!F44)","v":""},{"$f":"IF(COUNTBLANK(選手入力【男子】!H44),\"\",選手入力【男子】!H44)","v":""},{"$f":"IF(COUNTBLANK(選手入力【男子】!I44),\"\",選手入力【男子】!I44)","v":""}]
[39,{"$f":"IF(COUNTBLANK(選手入力【男子】!B45),\"\",選手入力【男子】!B45)","v":""},{"$f":"IF(COUNTBLANK(選手入力【男子】!D45),\"\",選手入力【男子】!D45)","v":""},{"$f":"IF(COUNTBLANK(選手入力【男子】!E45),\"\",選手入力【男子】!E45)","v":""},{"$f":"IF(COUNTBLANK(選手入力【男子】!F45),\"\",選手入力【男子】!F45)","v":""},{"$f":"IF(COUNTBLANK(選手入力【男子】!H45),\"\",選手入力【男子】!H45)","v":""},{"$f":"IF(COUNTBLANK(選手入力【男子】!I45),\"\",選手入力【男子】!I45)","v":""}]
[40,{"$f":"IF(COUNTBLANK(選手入力【男子】!B46),\"\",選手入力【男子】!B46)","v":""},{"$f":"IF(COUNTBLANK(選手入力【男子】!D46),\"\",選手入力【男子】!D46)","v":""},{"$f":"IF(COUNTBLANK(選手入力【男子】!E46),\"\",選手入力【男子】!E46)","v":""},{"$f":"IF(COUNTBLANK(選手入力【男子】!F46),\"\",選手入力【男子】!F46)","v":""},{"$f":"IF(COUNTBLANK(選手入力【男子】!H46),\"\",選手入力【男子】!H46)","v":""},{"$f":"IF(COUNTBLANK(選手入力【男子】!I46),\"\",選手入力【男子】!I46)","v":""}]
[41,{"$f":"IF(COUNTBLANK(選手入力【男子】!B47),\"\",選手入力【男子】!B47)","v":""},{"$f":"IF(COUNTBLANK(選手入力【男子】!D47),\"\",選手入力【男子】!D47)","v":""},{"$f":"IF(COUNTBLANK(選手入力【男子】!E47),\"\",選手入力【男子】!E47)","v":""},{"$f":"IF(COUNTBLANK(選手入力【男子】!F47),\"\",選手入力【男子】!F47)","v":""},{"$f":"IF(COUNTBLANK(選手入力【男子】!H47),\"\",選手入力【男子】!H47)","v":""},{"$f":"IF(COUNTBLANK(選手入力【男子】!I47),\"\",選手入力【男子】!I47)","v":""}]
[42,{"$f":"IF(COUNTBLANK(選手入力【男子】!B48),\"\",選手入力【男子】!B48)","v":""},{"$f":"IF(COUNTBLANK(選手入力【男子】!D48),\"\",選手入力【男子】!D48)","v":""},{"$f":"IF(COUNTBLANK(選手入力【男子】!E48),\"\",選手入力【男子】!E48)","v":""},{"$f":"IF(COUNTBLANK(選手入力【男子】!F48),\"\",選手入力【男子】!F48)","v":""},{"$f":"IF(COUNTBLANK(選手入力【男子】!H48),\"\",選手入力【男子】!H48)","v":""},{"$f":"IF(COUNTBLANK(選手入力【男子】!I48),\"\",選手入力【男子】!I48)","v":""}]
[43,{"$f":"IF(COUNTBLANK(選手入力【男子】!B49),\"\",選手入力【男子】!B49)","v":""},{"$f":"IF(COUNTBLANK(選手入力【男子】!D49),\"\",選手入力【男子】!D49)","v":""},{"$f":"IF(COUNTBLANK(選手入力【男子】!E49),\"\",選手入力【男子】!E49)","v":""},{"$f":"IF(COUNTBLANK(選手入力【男子】!F49),\"\",選手入力【男子】!F49)","v":""},{"$f":"IF(COUNTBLANK(選手入力【男子】!H49),\"\",選手入力【男子】!H49)","v":""},{"$f":"IF(COUNTBLANK(選手入力【男子】!I49),\"\",選手入力【男子】!I49)","v":""}]
[44,{"$f":"IF(COUNTBLANK(選手入力【男子】!B50),\"\",選手入力【男子】!B50)","v":""},{"$f":"IF(COUNTBLANK(選手入力【男子】!D50),\"\",選手入力【男子】!D50)","v":""},{"$f":"IF(COUNTBLANK(選手入力【男子】!E50),\"\",選手入力【男子】!E50)","v":""},{"$f":"IF(COUNTBLANK(選手入力【男子】!F50),\"\",選手入力【男子】!F50)","v":""},{"$f":"IF(COUNTBLANK(選手入力【男子】!H50),\"\",選手入力【男子】!H50)","v":""},{"$f":"IF(COUNTBLANK(選手入力【男子】!I50),\"\",選手入力【男子】!I50)","v":""}]
[45,{"$f":"IF(COUNTBLANK(選手入力【男子】!B51),\"\",選手入力【男子】!B51)","v":""},{"$f":"IF(COUNTBLANK(選手入力【男子】!D51),\"\",選手入力【男子】!D51)","v":""},{"$f":"IF(COUNTBLANK(選手入力【男子】!E51),\"\",選手入力【男子】!E51)","v":""},{"$f":"IF(COUNTBLANK(選手入力【男子】!F51),\"\",選手入力【男子】!F51)","v":""},{"$f":"IF(COUNTBLANK(選手入力【男子】!H51),\"\",選手入力【男子】!H51)","v":""},{"$f":"IF(COUNTBLANK(選手入力【男子】!I51),\"\",選手入力【男子】!I51)","v":""}]
[]
[null,null,null,null,"参加料等合計",{"$f":"作業シート!$B$62","v":0}]
[]
[]
[null,{"$f":"表紙!$D$13","v":0},"地区中体連会長",null,{"$f":"表紙!$I$13","v":0}]
[]
[null,{"$f":"表紙!$D$13","v":0},"地区中体連専門委員",null,{"$f":"表紙!$I$15","v":0}]

{"sheet":"提出用紙【女子】","index":4,"n_rows":57,"n_cols":7,"rows_kept":57,"cut":false,"hidden":false,"merged":[[51,5,51,6],[54,4,54,6],[56,2,56,3],[56,4,56,6],[0,0,0,6],[3,0,4,0],[3,1,4,1],[3,2,4,2],[3,3,4,3],[3,4,4,4],[3,5,3,6]]}
[{"$f":"CONCATENATE(\"第 \",表紙!$C$2,\" 回　北海道中学校スキー大会　アルペン競技\")","v":"第 ５５ 回　北海道中学校スキー大会　アルペン競技"}]
[null,{"$f":"表紙!$D$13","v":0},"地区　代表選手一覧　【女子】"]
[]
["№","氏　　名","学年","市町村","学校名","ランク"]
[null,null,null,null,null,"ＧＳＬ","ＳＬ"]
[1,{"$f":"IF(COUNTBLANK(選手入力【女子】!B7),\"\",選手入力【女子】!B7)","v":""},{"$f":"IF(COUNTBLANK(選手入力【女子】!D7),\"\",選手入力【女子】!D7)","v":""},{"$f":"IF(COUNTBLANK(選手入力【女子】!E7),\"\",選手入力【女子】!E7)","v":""},{"$f":"IF(COUNTBLANK(選手入力【女子】!F7),\"\",選手入力【女子】!F7)","v":""},{"$f":"IF(COUNTBLANK(選手入力【女子】!H7),\"\",選手入力【女子】!H7)","v":""},{"$f":"IF(COUNTBLANK(選手入力【女子】!I7),\"\",選手入力【女子】!I7)","v":""}]
[2,{"$f":"IF(COUNTBLANK(選手入力【女子】!B8),\"\",選手入力【女子】!B8)","v":""},{"$f":"IF(COUNTBLANK(選手入力【女子】!D8),\"\",選手入力【女子】!D8)","v":""},{"$f":"IF(COUNTBLANK(選手入力【女子】!E8),\"\",選手入力【女子】!E8)","v":""},{"$f":"IF(COUNTBLANK(選手入力【女子】!F8),\"\",選手入力【女子】!F8)","v":""},{"$f":"IF(COUNTBLANK(選手入力【女子】!H8),\"\",選手入力【女子】!H8)","v":""},{"$f":"IF(COUNTBLANK(選手入力【女子】!I8),\"\",選手入力【女子】!I8)","v":""}]
[3,{"$f":"IF(COUNTBLANK(選手入力【女子】!B9),\"\",選手入力【女子】!B9)","v":""},{"$f":"IF(COUNTBLANK(選手入力【女子】!D9),\"\",選手入力【女子】!D9)","v":""},{"$f":"IF(COUNTBLANK(選手入力【女子】!E9),\"\",選手入力【女子】!E9)","v":""},{"$f":"IF(COUNTBLANK(選手入力【女子】!F9),\"\",選手入力【女子】!F9)","v":""},{"$f":"IF(COUNTBLANK(選手入力【女子】!H9),\"\",選手入力【女子】!H9)","v":""},{"$f":"IF(COUNTBLANK(選手入力【女子】!I9),\"\",選手入力【女子】!I9)","v":""}]
[4,{"$f":"IF(COUNTBLANK(選手入力【女子】!B10),\"\",選手入力【女子】!B10)","v":""},{"$f":"IF(COUNTBLANK(選手入力【女子】!D10),\"\",選手入力【女子】!D10)","v":""},{"$f":"IF(COUNTBLANK(選手入力【女子】!E10),\"\",選手入力【女子】!E10)","v":""},{"$f":"IF(COUNTBLANK(選手入力【女子】!F10),\"\",選手入力【女子】!F10)","v":""},{"$f":"IF(COUNTBLANK(選手入力【女子】!H10),\"\",選手入力【女子】!H10)","v":""},{"$f":"IF(COUNTBLANK(選手入力【女子】!I10),\"\",選手入力【女子】!I10)","v":""}]
[5,{"$f":"IF(COUNTBLANK(選手入力【女子】!B11),\"\",選手入力【女子】!B11)","v":""},{"$f":"IF(COUNTBLANK(選手入力【女子】!D11),\"\",選手入力【女子】!D11)","v":""},{"$f":"IF(COUNTBLANK(選手入力【女子】!E11),\"\",選手入力【女子】!E11)","v":""},{"$f":"IF(COUNTBLANK(選手入力【女子】!F11),\"\",選手入力【女子】!F11)","v":""},{"$f":"IF(COUNTBLANK(選手入力【女子】!H11),\"\",選手入力【女子】!H11)","v":""},{"$f":"IF(COUNTBLANK(選手入力【女子】!I11),\"\",選手入力【女子】!I11)","v":""}]
[6,{"$f":"IF(COUNTBLANK(選手入力【女子】!B12),\"\",選手入力【女子】!B12)","v":""},{"$f":"IF(COUNTBLANK(選手入力【女子】!D12),\"\",選手入力【女子】!D12)","v":""},{"$f":"IF(COUNTBLANK(選手入力【女子】!E12),\"\",選手入力【女子】!E12)","v":""},{"$f":"IF(COUNTBLANK(選手入力【女子】!F12),\"\",選手入力【女子】!F12)","v":""},{"$f":"IF(COUNTBLANK(選手入力【女子】!H12),\"\",選手入力【女子】!H12)","v":""},{"$f":"IF(COUNTBLANK(選手入力【女子】!I12),\"\",選手入力【女子】!I12)","v":""}]
[7,{"$f":"IF(COUNTBLANK(選手入力【女子】!B13),\"\",選手入力【女子】!B13)","v":""},{"$f":"IF(COUNTBLANK(選手入力【女子】!D13),\"\",選手入力【女子】!D13)","v":""},{"$f":"IF(COUNTBLANK(選手入力【女子】!E13),\"\",選手入力【女子】!E13)","v":""},{"$f":"IF(COUNTBLANK(選手入力【女子】!F13),\"\",選手入力【女子】!F13)","v":""},{"$f":"IF(COUNTBLANK(選手入力【女子】!H13),\"\",選手入力【女子】!H13)","v":""},{"$f":"IF(COUNTBLANK(選手入力【女子】!I13),\"\",選手入力【女子】!I13)","v":""}]
[8,{"$f":"IF(COUNTBLANK(選手入力【女子】!B14),\"\",選手入力【女子】!B14)","v":""},{"$f":"IF(COUNTBLANK(選手入力【女子】!D14),\"\",選手入力【女子】!D14)","v":""},{"$f":"IF(COUNTBLANK(選手入力【女子】!E14),\"\",選手入力【女子】!E14)","v":""},{"$f":"IF(COUNTBLANK(選手入力【女子】!F14),\"\",選手入力【女子】!F14)","v":""},{"$f":"IF(COUNTBLANK(選手入力【女子】!H14),\"\",選手入力【女子】!H14)","v":""},{"$f":"IF(COUNTBLANK(選手入力【女子】!I14),\"\",選手入力【女子】!I14)","v":""}]
[9,{"$f":"IF(COUNTBLANK(選手入力【女子】!B15),\"\",選手入力【女子】!B15)","v":""},{"$f":"IF(COUNTBLANK(選手入力【女子】!D15),\"\",選手入力【女子】!D15)","v":""},{"$f":"IF(COUNTBLANK(選手入力【女子】!E15),\"\",選手入力【女子】!E15)","v":""},{"$f":"IF(COUNTBLANK(選手入力【女子】!F15),\"\",選手入力【女子】!F15)","v":""},{"$f":"IF(COUNTBLANK(選手入力【女子】!H15),\"\",選手入力【女子】!H15)","v":""},{"$f":"IF(COUNTBLANK(選手入力【女子】!I15),\"\",選手入力【女子】!I15)","v":""}]
[10,{"$f":"IF(COUNTBLANK(選手入力【女子】!B16),\"\",選手入力【女子】!B16)","v":""},{"$f":"IF(COUNTBLANK(選手入力【女子】!D16),\"\",選手入力【女子】!D16)","v":""},{"$f":"IF(COUNTBLANK(選手入力【女子】!E16),\"\",選手入力【女子】!E16)","v":""},{"$f":"IF(COUNTBLANK(選手入力【女子】!F16),\"\",選手入力【女子】!F16)","v":""},{"$f":"IF(COUNTBLANK(選手入力【女子】!H16),\"\",選手入力【女子】!H16)","v":""},{"$f":"IF(COUNTBLANK(選手入力【女子】!I16),\"\",選手入力【女子】!I16)","v":""}]
[11,{"$f":"IF(COUNTBLANK(選手入力【女子】!B17),\"\",選手入力【女子】!B17)","v":""},{"$f":"IF(COUNTBLANK(選手入力【女子】!D17),\"\",選手入力【女子】!D17)","v":""},{"$f":"IF(COUNTBLANK(選手入力【女子】!E17),\"\",選手入力【女子】!E17)","v":""},{"$f":"IF(COUNTBLANK(選手入力【女子】!F17),\"\",選手入力【女子】!F17)","v":""},{"$f":"IF(COUNTBLANK(選手入力【女子】!H17),\"\",選手入力【女子】!H17)","v":""},{"$f":"IF(COUNTBLANK(選手入力【女子】!I17),\"\",選手入力【女子】!I17)","v":""}]
[12,{"$f":"IF(COUNTBLANK(選手入力【女子】!B18),\"\",選手入力【女子】!B18)","v":""},{"$f":"IF(COUNTBLANK(選手入力【女子】!D18),\"\",選手入力【女子】!D18)","v":""},{"$f":"IF(COUNTBLANK(選手入力【女子】!E18),\"\",選手入力【女子】!E18)","v":""},{"$f":"IF(COUNTBLANK(選手入力【女子】!F18),\"\",選手入力【女子】!F18)","v":""},{"$f":"IF(COUNTBLANK(選手入力【女子】!H18),\"\",選手入力【女子】!H18)","v":""},{"$f":"IF(COUNTBLANK(選手入力【女子】!I18),\"\",選手入力【女子】!I18)","v":""}]
[13,{"$f":"IF(COUNTBLANK(選手入力【女子】!B19),\"\",選手入力【女子】!B19)","v":""},{"$f":"IF(COUNTBLANK(選手入力【女子】!D19),\"\",選手入力【女子】!D19)","v":""},{"$f":"IF(COUNTBLANK(選手入力【女子】!E19),\"\",選手入力【女子】!E19)","v":""},{"$f":"IF(COUNTBLANK(選手入力【女子】!F19),\"\",選手入力【女子】!F19)","v":""},{"$f":"IF(COUNTBLANK(選手入力【女子】!H19),\"\",選手入力【女子】!H19)","v":""},{"$f":"IF(COUNTBLANK(選手入力【女子】!I19),\"\",選手入力【女子】!I19)","v":""}]
[14,{"$f":"IF(COUNTBLANK(選手入力【女子】!B20),\"\",選手入力【女子】!B20)","v":""},{"$f":"IF(COUNTBLANK(選手入力【女子】!D20),\"\",選手入力【女子】!D20)","v":""},{"$f":"IF(COUNTBLANK(選手入力【女子】!E20),\"\",選手入力【女子】!E20)","v":""},{"$f":"IF(COUNTBLANK(選手入力【女子】!F20),\"\",選手入力【女子】!F20)","v":""},{"$f":"IF(COUNTBLANK(選手入力【女子】!H20),\"\",選手入力【女子】!H20)","v":""},{"$f":"IF(COUNTBLANK(選手入力【女子】!I20),\"\",選手入力【女子】!I20)","v":""}]
[15,{"$f":"IF(COUNTBLANK(選手入力【女子】!B21),\"\",選手入力【女子】!B21)","v":""},{"$f":"IF(COUNTBLANK(選手入力【女子】!D21),\"\",選手入力【女子】!D21)","v":""},{"$f":"IF(COUNTBLANK(選手入力【女子】!E21),\"\",選手入力【女子】!E21)","v":""},{"$f":"IF(COUNTBLANK(選手入力【女子】!F21),\"\",選手入力【女子】!F21)","v":""},{"$f":"IF(COUNTBLANK(選手入力【女子】!H21),\"\",選手入力【女子】!H21)","v":""},{"$f":"IF(COUNTBLANK(選手入力【女子】!I21),\"\",選手入力【女子】!I21)","v":""}]
[16,{"$f":"IF(COUNTBLANK(選手入力【女子】!B22),\"\",選手入力【女子】!B22)","v":""},{"$f":"IF(COUNTBLANK(選手入力【女子】!D22),\"\",選手入力【女子】!D22)","v":""},{"$f":"IF(COUNTBLANK(選手入力【女子】!E22),\"\",選手入力【女子】!E22)","v":""},{"$f":"IF(COUNTBLANK(選手入力【女子】!F22),\"\",選手入力【女子】!F22)","v":""},{"$f":"IF(COUNTBLANK(選手入力【女子】!H22),\"\",選手入力【女子】!H22)","v":""},{"$f":"IF(COUNTBLANK(選手入力【女子】!I22),\"\",選手入力【女子】!I22)","v":""}]
[17,{"$f":"IF(COUNTBLANK(選手入力【女子】!B23),\"\",選手入力【女子】!B23)","v":""},{"$f":"IF(COUNTBLANK(選手入力【女子】!D23),\"\",選手入力【女子】!D23)","v":""},{"$f":"IF(COUNTBLANK(選手入力【女子】!E23),\"\",選手入力【女子】!E23)","v":""},{"$f":"IF(COUNTBLANK(選手入力【女子】!F23),\"\",選手入力【女子】!F23)","v":""},{"$f":"IF(COUNTBLANK(選手入力【女子】!H23),\"\",選手入力【女子】!H23)","v":""},{"$f":"IF(COUNTBLANK(選手入力【女子】!I23),\"\",選手入力【女子】!I23)","v":""}]
[18,{"$f":"IF(COUNTBLANK(選手入力【女子】!B24),\"\",選手入力【女子】!B24)","v":""},{"$f":"IF(COUNTBLANK(選手入力【女子】!D24),\"\",選手入力【女子】!D24)","v":""},{"$f":"IF(COUNTBLANK(選手入力【女子】!E24),\"\",選手入力【女子】!E24)","v":""},{"$f":"IF(COUNTBLANK(選手入力【女子】!F24),\"\",選手入力【女子】!F24)","v":""},{"$f":"IF(COUNTBLANK(選手入力【女子】!H24),\"\",選手入力【女子】!H24)","v":""},{"$f":"IF(COUNTBLANK(選手入力【女子】!I24),\"\",選手入力【女子】!I24)","v":""}]
[19,{"$f":"IF(COUNTBLANK(選手入力【女子】!B25),\"\",選手入力【女子】!B25)","v":""},{"$f":"IF(COUNTBLANK(選手入力【女子】!D25),\"\",選手入力【女子】!D25)","v":""},{"$f":"IF(COUNTBLANK(選手入力【女子】!E25),\"\",選手入力【女子】!E25)","v":""},{"$f":"IF(COUNTBLANK(選手入力【女子】!F25),\"\",選手入力【女子】!F25)","v":""},{"$f":"IF(COUNTBLANK(選手入力【女子】!H25),\"\",選手入力【女子】!H25)","v":""},{"$f":"IF(COUNTBLANK(選手入力【女子】!I25),\"\",選手入力【女子】!I25)","v":""}]
[20,{"$f":"IF(COUNTBLANK(選手入力【女子】!B26),\"\",選手入力【女子】!B26)","v":""},{"$f":"IF(COUNTBLANK(選手入力【女子】!D26),\"\",選手入力【女子】!D26)","v":""},{"$f":"IF(COUNTBLANK(選手入力【女子】!E26),\"\",選手入力【女子】!E26)","v":""},{"$f":"IF(COUNTBLANK(選手入力【女子】!F26),\"\",選手入力【女子】!F26)","v":""},{"$f":"IF(COUNTBLANK(選手入力【女子】!H26),\"\",選手入力【女子】!H26)","v":""},{"$f":"IF(COUNTBLANK(選手入力【女子】!I26),\"\",選手入力【女子】!I26)","v":""}]
[21,{"$f":"IF(COUNTBLANK(選手入力【女子】!B27),\"\",選手入力【女子】!B27)","v":""},{"$f":"IF(COUNTBLANK(選手入力【女子】!D27),\"\",選手入力【女子】!D27)","v":""},{"$f":"IF(COUNTBLANK(選手入力【女子】!E27),\"\",選手入力【女子】!E27)","v":""},{"$f":"IF(COUNTBLANK(選手入力【女子】!F27),\"\",選手入力【女子】!F27)","v":""},{"$f":"IF(COUNTBLANK(選手入力【女子】!H27),\"\",選手入力【女子】!H27)","v":""},{"$f":"IF(COUNTBLANK(選手入力【女子】!I27),\"\",選手入力【女子】!I27)","v":""}]
[22,{"$f":"IF(COUNTBLANK(選手入力【女子】!B28),\"\",選手入力【女子】!B28)","v":""},{"$f":"IF(COUNTBLANK(選手入力【女子】!D28),\"\",選手入力【女子】!D28)","v":""},{"$f":"IF(COUNTBLANK(選手入力【女子】!E28),\"\",選手入力【女子】!E28)","v":""},{"$f":"IF(COUNTBLANK(選手入力【女子】!F28),\"\",選手入力【女子】!F28)","v":""},{"$f":"IF(COUNTBLANK(選手入力【女子】!H28),\"\",選手入力【女子】!H28)","v":""},{"$f":"IF(COUNTBLANK(選手入力【女子】!I28),\"\",選手入力【女子】!I28)","v":""}]
[23,{"$f":"IF(COUNTBLANK(選手入力【女子】!B29),\"\",選手入力【女子】!B29)","v":""},{"$f":"IF(COUNTBLANK(選手入力【女子】!D29),\"\",選手入力【女子】!D29)","v":""},{"$f":"IF(COUNTBLANK(選手入力【女子】!E29),\"\",選手入力【女子】!E29)","v":""},{"$f":"IF(COUNTBLANK(選手入力【女子】!F29),\"\",選手入力【女子】!F29)","v":""},{"$f":"IF(COUNTBLANK(選手入力【女子】!H29),\"\",選手入力【女子】!H29)","v":""},{"$f":"IF(COUNTBLANK(選手入力【女子】!I29),\"\",選手入力【女子】!I29)","v":""}]
[24,{"$f":"IF(COUNTBLANK(選手入力【女子】!B30),\"\",選手入力【女子】!B30)","v":""},{"$f":"IF(COUNTBLANK(選手入力【女子】!D30),\"\",選手入力【女子】!D30)","v":""},{"$f":"IF(COUNTBLANK(選手入力【女子】!E30),\"\",選手入力【女子】!E30)","v":""},{"$f":"IF(COUNTBLANK(選手入力【女子】!F30),\"\",選手入力【女子】!F30)","v":""},{"$f":"IF(COUNTBLANK(選手入力【女子】!H30),\"\",選手入力【女子】!H30)","v":""},{"$f":"IF(COUNTBLANK(選手入力【女子】!I30),\"\",選手入力【女子】!I30)","v":""}]
[25,{"$f":"IF(COUNTBLANK(選手入力【女子】!B31),\"\",選手入力【女子】!B31)","v":""},{"$f":"IF(COUNTBLANK(選手入力【女子】!D31),\"\",選手入力【女子】!D31)","v":""},{"$f":"IF(COUNTBLANK(選手入力【女子】!E31),\"\",選手入力【女子】!E31)","v":""},{"$f":"IF(COUNTBLANK(選手入力【女子】!F31),\"\",選手入力【女子】!F31)","v":""},{"$f":"IF(COUNTBLANK(選手入力【女子】!H31),\"\",選手入力【女子】!H31)","v":""},{"$f":"IF(COUNTBLANK(選手入力【女子】!I31),\"\",選手入力【女子】!I31)","v":""}]
[26,{"$f":"IF(COUNTBLANK(選手入力【女子】!B32),\"\",選手入力【女子】!B32)","v":""},{"$f":"IF(COUNTBLANK(選手入力【女子】!D32),\"\",選手入力【女子】!D32)","v":""},{"$f":"IF(COUNTBLANK(選手入力【女子】!E32),\"\",選手入力【女子】!E32)","v":""},{"$f":"IF(COUNTBLANK(選手入力【女子】!F32),\"\",選手入力【女子】!F32)","v":""},{"$f":"IF(COUNTBLANK(選手入力【女子】!H32),\"\",選手入力【女子】!H32)","v":""},{"$f":"IF(COUNTBLANK(選手入力【女子】!I32),\"\",選手入力【女子】!I32)","v":""}]
[27,{"$f":"IF(COUNTBLANK(選手入力【女子】!B33),\"\",選手入力【女子】!B33)","v":""},{"$f":"IF(COUNTBLANK(選手入力【女子】!D33),\"\",選手入力【女子】!D33)","v":""},{"$f":"IF(COUNTBLANK(選手入力【女子】!E33),\"\",選手入力【女子】!E33)","v":""},{"$f":"IF(COUNTBLANK(選手入力【女子】!F33),\"\",選手入力【女子】!F33)","v":""},{"$f":"IF(COUNTBLANK(選手入力【女子】!H33),\"\",選手入力【女子】!H33)","v":""},{"$f":"IF(COUNTBLANK(選手入力【女子】!I33),\"\",選手入力【女子】!I33)","v":""}]
[28,{"$f":"IF(COUNTBLANK(選手入力【女子】!B34),\"\",選手入力【女子】!B34)","v":""},{"$f":"IF(COUNTBLANK(選手入力【女子】!D34),\"\",選手入力【女子】!D34)","v":""},{"$f":"IF(COUNTBLANK(選手入力【女子】!E34),\"\",選手入力【女子】!E34)","v":""},{"$f":"IF(COUNTBLANK(選手入力【女子】!F34),\"\",選手入力【女子】!F34)","v":""},{"$f":"IF(COUNTBLANK(選手入力【女子】!H34),\"\",選手入力【女子】!H34)","v":""},{"$f":"IF(COUNTBLANK(選手入力【女子】!I34),\"\",選手入力【女子】!I34)","v":""}]
[29,{"$f":"IF(COUNTBLANK(選手入力【女子】!B35),\"\",選手入力【女子】!B35)","v":""},{"$f":"IF(COUNTBLANK(選手入力【女子】!D35),\"\",選手入力【女子】!D35)","v":""},{"$f":"IF(COUNTBLANK(選手入力【女子】!E35),\"\",選手入力【女子】!E35)","v":""},{"$f":"IF(COUNTBLANK(選手入力【女子】!F35),\"\",選手入力【女子】!F35)","v":""},{"$f":"IF(COUNTBLANK(選手入力【女子】!H35),\"\",選手入力【女子】!H35)","v":""},{"$f":"IF(COUNTBLANK(選手入力【女子】!I35),\"\",選手入力【女子】!I35)","v":""}]
[30,{"$f":"IF(COUNTBLANK(選手入力【女子】!B36),\"\",選手入力【女子】!B36)","v":""},{"$f":"IF(COUNTBLANK(選手入力【女子】!D36),\"\",選手入力【女子】!D36)","v":""},{"$f":"IF(COUNTBLANK(選手入力【女子】!E36),\"\",選手入力【女子】!E36)","v":""},{"$f":"IF(COUNTBLANK(選手入力【女子】!F36),\"\",選手入力【女子】!F36)","v":""},{"$f":"IF(COUNTBLANK(選手入力【女子】!H36),\"\",選手入力【女子】!H36)","v":""},{"$f":"IF(COUNTBLANK(選手入力【女子】!I36),\"\",選手入力【女子】!I36)","v":""}]
[31,{"$f":"IF(COUNTBLANK(選手入力【女子】!B37),\"\",選手入力【女子】!B37)","v":""},{"$f":"IF(COUNTBLANK(選手入力【女子】!D37),\"\",選手入力【女子】!D37)","v":""},{"$f":"IF(COUNTBLANK(選手入力【女子】!E37),\"\",選手入力【女子】!E37)","v":""},{"$f":"IF(COUNTBLANK(選手入力【女子】!F37),\"\",選手入力【女子】!F37)","v":""},{"$f":"IF(COUNTBLANK(選手入力【女子】!H37),\"\",選手入力【女子】!H37)","v":""},{"$f":"IF(COUNTBLANK(選手入力【女子】!I37),\"\",選手入力【女子】!I37)","v":""}]
[32,{"$f":"IF(COUNTBLANK(選手入力【女子】!B38),\"\",選手入力【女子】!B38)","v":""},{"$f":"IF(COUNTBLANK(選手入力【女子】!D38),\"\",選手入力【女子】!D38)","v":""},{"$f":"IF(COUNTBLANK(選手入力【女子】!E38),\"\",選手入力【女子】!E38)","v":""},{"$f":"IF(COUNTBLANK(選手入力【女子】!F38),\"\",選手入力【女子】!F38)","v":""},{"$f":"IF(COUNTBLANK(選手入力【女子】!H38),\"\",選手入力【女子】!H38)","v":""},{"$f":"IF(COUNTBLANK(選手入力【女子】!I38),\"\",選手入力【女子】!I38)","v":""}]
[33,{"$f":"IF(COUNTBLANK(選手入力【女子】!B39),\"\",選手入力【女子】!B39)","v":""},{"$f":"IF(COUNTBLANK(選手入力【女子】!D39),\"\",選手入力【女子】!D39)","v":""},{"$f":"IF(COUNTBLANK(選手入力【女子】!E39),\"\",選手入力【女子】!E39)","v":""},{"$f":"IF(COUNTBLANK(選手入力【女子】!F39),\"\",選手入力【女子】!F39)","v":""},{"$f":"IF(COUNTBLANK(選手入力【女子】!H39),\"\",選手入力【女子】!H39)","v":""},{"$f":"IF(COUNTBLANK(選手入力【女子】!I39),\"\",選手入力【女子】!I39)","v":""}]
[34,{"$f":"IF(COUNTBLANK(選手入力【女子】!B40),\"\",選手入力【女子】!B40)","v":""},{"$f":"IF(COUNTBLANK(選手入力【女子】!D40),\"\",選手入力【女子】!D40)","v":""},{"$f":"IF(COUNTBLANK(選手入力【女子】!E40),\"\",選手入力【女子】!E40)","v":""},{"$f":"IF(COUNTBLANK(選手入力【女子】!F40),\"\",選手入力【女子】!F40)","v":""},{"$f":"IF(COUNTBLANK(選手入力【女子】!H40),\"\",選手入力【女子】!H40)","v":""},{"$f":"IF(COUNTBLANK(選手入力【女子】!I40),\"\",選手入力【女子】!I40)","v":""}]
[35,{"$f":"IF(COUNTBLANK(選手入力【女子】!B41),\"\",選手入力【女子】!B41)","v":""},{"$f":"IF(COUNTBLANK(選手入力【女子】!D41),\"\",選手入力【女子】!D41)","v":""},{"$f":"IF(COUNTBLANK(選手入力【女子】!E41),\"\",選手入力【女子】!E41)","v":""},{"$f":"IF(COUNTBLANK(選手入力【女子】!F41),\"\",選手入力【女子】!F41)","v":""},{"$f":"IF(COUNTBLANK(選手入力【女子】!H41),\"\",選手入力【女子】!H41)","v":""},{"$f":"IF(COUNTBLANK(選手入力【女子】!I41),\"\",選手入力【女子】!I41)","v":""}]
[36,{"$f":"IF(COUNTBLANK(選手入力【女子】!B42),\"\",選手入力【女子】!B42)","v":""},{"$f":"IF(COUNTBLANK(選手入力【女子】!D42),\"\",選手入力【女子】!D42)","v":""},{"$f":"IF(COUNTBLANK(選手入力【女子】!E42),\"\",選手入力【女子】!E42)","v":""},{"$f":"IF(COUNTBLANK(選手入力【女子】!F42),\"\",選手入力【女子】!F42)","v":""},{"$f":"IF(COUNTBLANK(選手入力【女子】!H42),\"\",選手入力【女子】!H42)","v":""},{"$f":"IF(COUNTBLANK(選手入力【女子】!I42),\"\",選手入力【女子】!I42)","v":""}]
[37,{"$f":"IF(COUNTBLANK(選手入力【女子】!B43),\"\",選手入力【女子】!B43)","v":""},{"$f":"IF(COUNTBLANK(選手入力【女子】!D43),\"\",選手入力【女子】!D43)","v":""},{"$f":"IF(COUNTBLANK(選手入力【女子】!E43),\"\",選手入力【女子】!E43)","v":""},{"$f":"IF(COUNTBLANK(選手入力【女子】!F43),\"\",選手入力【女子】!F43)","v":""},{"$f":"IF(COUNTBLANK(選手入力【女子】!H43),\"\",選手入力【女子】!H43)","v":""},{"$f":"IF(COUNTBLANK(選手入力【女子】!I43),\"\",選手入力【女子】!I43)","v":""}]
[38,{"$f":"IF(COUNTBLANK(選手入力【女子】!B44),\"\",選手入力【女子】!B44)","v":""},{"$f":"IF(COUNTBLANK(選手入力【女子】!D44),\"\",選手入力【女子】!D44)","v":""},{"$f":"IF(COUNTBLANK(選手入力【女子】!E44),\"\",選手入力【女子】!E44)","v":""},{"$f":"IF(COUNTBLANK(選手入力【女子】!F44),\"\",選手入力【女子】!F44)","v":""},{"$f":"IF(COUNTBLANK(選手入力【女子】!H44),\"\",選手入力【女子】!H44)","v":""},{"$f":"IF(COUNTBLANK(選手入力【女子】!I44),\"\",選手入力【女子】!I44)","v":""}]
[39,{"$f":"IF(COUNTBLANK(選手入力【女子】!B45),\"\",選手入力【女子】!B45)","v":""},{"$f":"IF(COUNTBLANK(選手入力【女子】!D45),\"\",選手入力【女子】!D45)","v":""},{"$f":"IF(COUNTBLANK(選手入力【女子】!E45),\"\",選手入力【女子】!E45)","v":""},{"$f":"IF(COUNTBLANK(選手入力【女子】!F45),\"\",選手入力【女子】!F45)","v":""},{"$f":"IF(COUNTBLANK(選手入力【女子】!H45),\"\",選手入力【女子】!H45)","v":""},{"$f":"IF(COUNTBLANK(選手入力【女子】!I45),\"\",選手入力【女子】!I45)","v":""}]
[40,{"$f":"IF(COUNTBLANK(選手入力【女子】!B46),\"\",選手入力【女子】!B46)","v":""},{"$f":"IF(COUNTBLANK(選手入力【女子】!D46),\"\",選手入力【女子】!D46)","v":""},{"$f":"IF(COUNTBLANK(選手入力【女子】!E46),\"\",選手入力【女子】!E46)","v":""},{"$f":"IF(COUNTBLANK(選手入力【女子】!F46),\"\",選手入力【女子】!F46)","v":""},{"$f":"IF(COUNTBLANK(選手入力【女子】!H46),\"\",選手入力【女子】!H46)","v":""},{"$f":"IF(COUNTBLANK(選手入力【女子】!I46),\"\",選手入力【女子】!I46)","v":""}]
[41,{"$f":"IF(COUNTBLANK(選手入力【女子】!B47),\"\",選手入力【女子】!B47)","v":""},{"$f":"IF(COUNTBLANK(選手入力【女子】!D47),\"\",選手入力【女子】!D47)","v":""},{"$f":"IF(COUNTBLANK(選手入力【女子】!E47),\"\",選手入力【女子】!E47)","v":""},{"$f":"IF(COUNTBLANK(選手入力【女子】!F47),\"\",選手入力【女子】!F47)","v":""},{"$f":"IF(COUNTBLANK(選手入力【女子】!H47),\"\",選手入力【女子】!H47)","v":""},{"$f":"IF(COUNTBLANK(選手入力【女子】!I47),\"\",選手入力【女子】!I47)","v":""}]
[42,{"$f":"IF(COUNTBLANK(選手入力【女子】!B48),\"\",選手入力【女子】!B48)","v":""},{"$f":"IF(COUNTBLANK(選手入力【女子】!D48),\"\",選手入力【女子】!D48)","v":""},{"$f":"IF(COUNTBLANK(選手入力【女子】!E48),\"\",選手入力【女子】!E48)","v":""},{"$f":"IF(COUNTBLANK(選手入力【女子】!F48),\"\",選手入力【女子】!F48)","v":""},{"$f":"IF(COUNTBLANK(選手入力【女子】!H48),\"\",選手入力【女子】!H48)","v":""},{"$f":"IF(COUNTBLANK(選手入力【女子】!I48),\"\",選手入力【女子】!I48)","v":""}]
[43,{"$f":"IF(COUNTBLANK(選手入力【女子】!B49),\"\",選手入力【女子】!B49)","v":""},{"$f":"IF(COUNTBLANK(選手入力【女子】!D49),\"\",選手入力【女子】!D49)","v":""},{"$f":"IF(COUNTBLANK(選手入力【女子】!E49),\"\",選手入力【女子】!E49)","v":""},{"$f":"IF(COUNTBLANK(選手入力【女子】!F49),\"\",選手入力【女子】!F49)","v":""},{"$f":"IF(COUNTBLANK(選手入力【女子】!H49),\"\",選手入力【女子】!H49)","v":""},{"$f":"IF(COUNTBLANK(選手入力【女子】!I49),\"\",選手入力【女子】!I49)","v":""}]
[44,{"$f":"IF(COUNTBLANK(選手入力【女子】!B50),\"\",選手入力【女子】!B50)","v":""},{"$f":"IF(COUNTBLANK(選手入力【女子】!D50),\"\",選手入力【女子】!D50)","v":""},{"$f":"IF(COUNTBLANK(選手入力【女子】!E50),\"\",選手入力【女子】!E50)","v":""},{"$f":"IF(COUNTBLANK(選手入力【女子】!F50),\"\",選手入力【女子】!F50)","v":""},{"$f":"IF(COUNTBLANK(選手入力【女子】!H50),\"\",選手入力【女子】!H50)","v":""},{"$f":"IF(COUNTBLANK(選手入力【女子】!I50),\"\",選手入力【女子】!I50)","v":""}]
[45,{"$f":"IF(COUNTBLANK(選手入力【女子】!B51),\"\",選手入力【女子】!B51)","v":""},{"$f":"IF(COUNTBLANK(選手入力【女子】!D51),\"\",選手入力【女子】!D51)","v":""},{"$f":"IF(COUNTBLANK(選手入力【女子】!E51),\"\",選手入力【女子】!E51)","v":""},{"$f":"IF(COUNTBLANK(選手入力【女子】!F51),\"\",選手入力【女子】!F51)","v":""},{"$f":"IF(COUNTBLANK(選手入力【女子】!H51),\"\",選手入力【女子】!H51)","v":""},{"$f":"IF(COUNTBLANK(選手入力【女子】!I51),\"\",選手入力【女子】!I51)","v":""}]
[]
[null,null,null,null,"参加料等合計",{"$f":"作業シート!$G$62","v":0}]
[]
[]
[null,{"$f":"表紙!$D$13","v":0},"地区中体連会長",null,{"$f":"表紙!$I$13","v":0}]
[]
[null,{"$f":"表紙!$D$13","v":0},"地区中体連専門委員",null,{"$f":"表紙!$I$15","v":0}]

{"sheet":"作業シート","index":5,"n_rows":62,"n_cols":10,"rows_kept":62,"cut":false,"hidden":true,"merged":[[3,7,3,8],[61,6,61,8],[61,1,61,3]]}
["※最初に、「表紙」シートにある『締切期日』と『大会数（第○○回）』の設定をしてください！"]
[]
[]
["参加料等設定・参加費用計算用シート",null,null,null,null,null,null,"シート表示用パスワード",null,"alpenski_jh"]
[null,null,null,null,null,null,null,null,"※シート保護用のパスワードも同じです。"]
["※このシートは、参加費用を計算し、表示させるための作業用シートです。"]
["※以下の黄色の部分の金額を設定(入力)してください。あとは自動で表示されるようになっています。"]
["☆各地区専門委員長にこのファイルを配布する前に、下の金額を“必ず”設定してください。"]
[]
[null,"参加料","ゼッケン代","機器使用料"]
["１種目",2000,2000,300]
["２種目",3000,4000,600]
[]
[null,"男子用",null,null,null,null,"女子用"]
["№","参加料","ゼッケン代","機器使用料",null,"№","参加料","ゼッケン代","機器使用料"]
[1,{"$f":"IF(COUNTA(選手入力【男子】!$H7:$I7)=2,$B$12,IF(COUNTA(選手入力【男子】!$H7:$I7)=1,$B$11,\"\"))","v":""},{"$f":"IF(COUNTA(選手入力【男子】!$H7:$I7)=2,$C$12,IF(COUNTA(選手入力【男子】!$H7:$I7)=1,$C$11,\"\"))","v":""},{"$f":"IF(COUNTA(選手入力【男子】!$H7:$I7)=2,$D$12,IF(COUNTA(選手入力【男子】!$H7:$I7)=1,$D$11,\"\"))","v":""},null,46,{"$f":"IF(COUNTA(選手入力【女子】!$H7:$I7)=2,$B$12,IF(COUNTA(選手入力【女子】!$H7:$I7)=1,$B$11,\"\"))","v":""},{"$f":"IF(COUNTA(選手入力【女子】!$H7:$I7)=2,$C$12,IF(COUNTA(選手入力【女子】!$H7:$I7)=1,$C$11,\"\"))","v":""},{"$f":"IF(COUNTA(選手入力【女子】!$H7:$I7)=2,$D$12,IF(COUNTA(選手入力【女子】!$H7:$I7)=1,$D$11,\"\"))","v":""}]
[2,{"$f":"IF(COUNTA(選手入力【男子】!$H8:$I8)=2,$B$12,IF(COUNTA(選手入力【男子】!$H8:$I8)=1,$B$11,\"\"))","v":""},{"$f":"IF(COUNTA(選手入力【男子】!$H8:$I8)=2,$C$12,IF(COUNTA(選手入力【男子】!$H8:$I8)=1,$C$11,\"\"))","v":""},{"$f":"IF(COUNTA(選手入力【男子】!$H8:$I8)=2,$D$12,IF(COUNTA(選手入力【男子】!$H8:$I8)=1,$D$11,\"\"))","v":""},null,47,{"$f":"IF(COUNTA(選手入力【女子】!$H8:$I8)=2,$B$12,IF(COUNTA(選手入力【女子】!$H8:$I8)=1,$B$11,\"\"))","v":""},{"$f":"IF(COUNTA(選手入力【女子】!$H8:$I8)=2,$C$12,IF(COUNTA(選手入力【女子】!$H8:$I8)=1,$C$11,\"\"))","v":""},{"$f":"IF(COUNTA(選手入力【女子】!$H8:$I8)=2,$D$12,IF(COUNTA(選手入力【女子】!$H8:$I8)=1,$D$11,\"\"))","v":""}]
[3,{"$f":"IF(COUNTA(選手入力【男子】!$H9:$I9)=2,$B$12,IF(COUNTA(選手入力【男子】!$H9:$I9)=1,$B$11,\"\"))","v":""},{"$f":"IF(COUNTA(選手入力【男子】!$H9:$I9)=2,$C$12,IF(COUNTA(選手入力【男子】!$H9:$I9)=1,$C$11,\"\"))","v":""},{"$f":"IF(COUNTA(選手入力【男子】!$H9:$I9)=2,$D$12,IF(COUNTA(選手入力【男子】!$H9:$I9)=1,$D$11,\"\"))","v":""},null,48,{"$f":"IF(COUNTA(選手入力【女子】!$H9:$I9)=2,$B$12,IF(COUNTA(選手入力【女子】!$H9:$I9)=1,$B$11,\"\"))","v":""},{"$f":"IF(COUNTA(選手入力【女子】!$H9:$I9)=2,$C$12,IF(COUNTA(選手入力【女子】!$H9:$I9)=1,$C$11,\"\"))","v":""},{"$f":"IF(COUNTA(選手入力【女子】!$H9:$I9)=2,$D$12,IF(COUNTA(選手入力【女子】!$H9:$I9)=1,$D$11,\"\"))","v":""}]
[4,{"$f":"IF(COUNTA(選手入力【男子】!$H10:$I10)=2,$B$12,IF(COUNTA(選手入力【男子】!$H10:$I10)=1,$B$11,\"\"))","v":""},{"$f":"IF(COUNTA(選手入力【男子】!$H10:$I10)=2,$C$12,IF(COUNTA(選手入力【男子】!$H10:$I10)=1,$C$11,\"\"))","v":""},{"$f":"IF(COUNTA(選手入力【男子】!$H10:$I10)=2,$D$12,IF(COUNTA(選手入力【男子】!$H10:$I10)=1,$D$11,\"\"))","v":""},null,49,{"$f":"IF(COUNTA(選手入力【女子】!$H10:$I10)=2,$B$12,IF(COUNTA(選手入力【女子】!$H10:$I10)=1,$B$11,\"\"))","v":""},{"$f":"IF(COUNTA(選手入力【女子】!$H10:$I10)=2,$C$12,IF(COUNTA(選手入力【女子】!$H10:$I10)=1,$C$11,\"\"))","v":""},{"$f":"IF(COUNTA(選手入力【女子】!$H10:$I10)=2,$D$12,IF(COUNTA(選手入力【女子】!$H10:$I10)=1,$D$11,\"\"))","v":""}]
[5,{"$f":"IF(COUNTA(選手入力【男子】!$H11:$I11)=2,$B$12,IF(COUNTA(選手入力【男子】!$H11:$I11)=1,$B$11,\"\"))","v":""},{"$f":"IF(COUNTA(選手入力【男子】!$H11:$I11)=2,$C$12,IF(COUNTA(選手入力【男子】!$H11:$I11)=1,$C$11,\"\"))","v":""},{"$f":"IF(COUNTA(選手入力【男子】!$H11:$I11)=2,$D$12,IF(COUNTA(選手入力【男子】!$H11:$I11)=1,$D$11,\"\"))","v":""},null,50,{"$f":"IF(COUNTA(選手入力【女子】!$H11:$I11)=2,$B$12,IF(COUNTA(選手入力【女子】!$H11:$I11)=1,$B$11,\"\"))","v":""},{"$f":"IF(COUNTA(選手入力【女子】!$H11:$I11)=2,$C$12,IF(COUNTA(選手入力【女子】!$H11:$I11)=1,$C$11,\"\"))","v":""},{"$f":"IF(COUNTA(選手入力【女子】!$H11:$I11)=2,$D$12,IF(COUNTA(選手入力【女子】!$H11:$I11)=1,$D$11,\"\"))","v":""}]
[6,{"$f":"IF(COUNTA(選手入力【男子】!$H12:$I12)=2,$B$12,IF(COUNTA(選手入力【男子】!$H12:$I12)=1,$B$11,\"\"))","v":""},{"$f":"IF(COUNTA(選手入力【男子】!$H12:$I12)=2,$C$12,IF(COUNTA(選手入力【男子】!$H12:$I12)=1,$C$11,\"\"))","v":""},{"$f":"IF(COUNTA(選手入力【男子】!$H12:$I12)=2,$D$12,IF(COUNTA(選手入力【男子】!$H12:$I12)=1,$D$11,\"\"))","v":""},null,51,{"$f":"IF(COUNTA(選手入力【女子】!$H12:$I12)=2,$B$12,IF(COUNTA(選手入力【女子】!$H12:$I12)=1,$B$11,\"\"))","v":""},{"$f":"IF(COUNTA(選手入力【女子】!$H12:$I12)=2,$C$12,IF(COUNTA(選手入力【女子】!$H12:$I12)=1,$C$11,\"\"))","v":""},{"$f":"IF(COUNTA(選手入力【女子】!$H12:$I12)=2,$D$12,IF(COUNTA(選手入力【女子】!$H12:$I12)=1,$D$11,\"\"))","v":""}]
[7,{"$f":"IF(COUNTA(選手入力【男子】!$H13:$I13)=2,$B$12,IF(COUNTA(選手入力【男子】!$H13:$I13)=1,$B$11,\"\"))","v":""},{"$f":"IF(COUNTA(選手入力【男子】!$H13:$I13)=2,$C$12,IF(COUNTA(選手入力【男子】!$H13:$I13)=1,$C$11,\"\"))","v":""},{"$f":"IF(COUNTA(選手入力【男子】!$H13:$I13)=2,$D$12,IF(COUNTA(選手入力【男子】!$H13:$I13)=1,$D$11,\"\"))","v":""},null,52,{"$f":"IF(COUNTA(選手入力【女子】!$H13:$I13)=2,$B$12,IF(COUNTA(選手入力【女子】!$H13:$I13)=1,$B$11,\"\"))","v":""},{"$f":"IF(COUNTA(選手入力【女子】!$H13:$I13)=2,$C$12,IF(COUNTA(選手入力【女子】!$H13:$I13)=1,$C$11,\"\"))","v":""},{"$f":"IF(COUNTA(選手入力【女子】!$H13:$I13)=2,$D$12,IF(COUNTA(選手入力【女子】!$H13:$I13)=1,$D$11,\"\"))","v":""}]
[8,{"$f":"IF(COUNTA(選手入力【男子】!$H14:$I14)=2,$B$12,IF(COUNTA(選手入力【男子】!$H14:$I14)=1,$B$11,\"\"))","v":""},{"$f":"IF(COUNTA(選手入力【男子】!$H14:$I14)=2,$C$12,IF(COUNTA(選手入力【男子】!$H14:$I14)=1,$C$11,\"\"))","v":""},{"$f":"IF(COUNTA(選手入力【男子】!$H14:$I14)=2,$D$12,IF(COUNTA(選手入力【男子】!$H14:$I14)=1,$D$11,\"\"))","v":""},null,53,{"$f":"IF(COUNTA(選手入力【女子】!$H14:$I14)=2,$B$12,IF(COUNTA(選手入力【女子】!$H14:$I14)=1,$B$11,\"\"))","v":""},{"$f":"IF(COUNTA(選手入力【女子】!$H14:$I14)=2,$C$12,IF(COUNTA(選手入力【女子】!$H14:$I14)=1,$C$11,\"\"))","v":""},{"$f":"IF(COUNTA(選手入力【女子】!$H14:$I14)=2,$D$12,IF(COUNTA(選手入力【女子】!$H14:$I14)=1,$D$11,\"\"))","v":""}]
[9,{"$f":"IF(COUNTA(選手入力【男子】!$H15:$I15)=2,$B$12,IF(COUNTA(選手入力【男子】!$H15:$I15)=1,$B$11,\"\"))","v":""},{"$f":"IF(COUNTA(選手入力【男子】!$H15:$I15)=2,$C$12,IF(COUNTA(選手入力【男子】!$H15:$I15)=1,$C$11,\"\"))","v":""},{"$f":"IF(COUNTA(選手入力【男子】!$H15:$I15)=2,$D$12,IF(COUNTA(選手入力【男子】!$H15:$I15)=1,$D$11,\"\"))","v":""},null,54,{"$f":"IF(COUNTA(選手入力【女子】!$H15:$I15)=2,$B$12,IF(COUNTA(選手入力【女子】!$H15:$I15)=1,$B$11,\"\"))","v":""},{"$f":"IF(COUNTA(選手入力【女子】!$H15:$I15)=2,$C$12,IF(COUNTA(選手入力【女子】!$H15:$I15)=1,$C$11,\"\"))","v":""},{"$f":"IF(COUNTA(選手入力【女子】!$H15:$I15)=2,$D$12,IF(COUNTA(選手入力【女子】!$H15:$I15)=1,$D$11,\"\"))","v":""}]
[10,{"$f":"IF(COUNTA(選手入力【男子】!$H16:$I16)=2,$B$12,IF(COUNTA(選手入力【男子】!$H16:$I16)=1,$B$11,\"\"))","v":""},{"$f":"IF(COUNTA(選手入力【男子】!$H16:$I16)=2,$C$12,IF(COUNTA(選手入力【男子】!$H16:$I16)=1,$C$11,\"\"))","v":""},{"$f":"IF(COUNTA(選手入力【男子】!$H16:$I16)=2,$D$12,IF(COUNTA(選手入力【男子】!$H16:$I16)=1,$D$11,\"\"))","v":""},null,55,{"$f":"IF(COUNTA(選手入力【女子】!$H16:$I16)=2,$B$12,IF(COUNTA(選手入力【女子】!$H16:$I16)=1,$B$11,\"\"))","v":""},{"$f":"IF(COUNTA(選手入力【女子】!$H16:$I16)=2,$C$12,IF(COUNTA(選手入力【女子】!$H16:$I16)=1,$C$11,\"\"))","v":""},{"$f":"IF(COUNTA(選手入力【女子】!$H16:$I16)=2,$D$12,IF(COUNTA(選手入力【女子】!$H16:$I16)=1,$D$11,\"\"))","v":""}]
[11,{"$f":"IF(COUNTA(選手入力【男子】!$H17:$I17)=2,$B$12,IF(COUNTA(選手入力【男子】!$H17:$I17)=1,$B$11,\"\"))","v":""},{"$f":"IF(COUNTA(選手入力【男子】!$H17:$I17)=2,$C$12,IF(COUNTA(選手入力【男子】!$H17:$I17)=1,$C$11,\"\"))","v":""},{"$f":"IF(COUNTA(選手入力【男子】!$H17:$I17)=2,$D$12,IF(COUNTA(選手入力【男子】!$H17:$I17)=1,$D$11,\"\"))","v":""},null,56,{"$f":"IF(COUNTA(選手入力【女子】!$H17:$I17)=2,$B$12,IF(COUNTA(選手入力【女子】!$H17:$I17)=1,$B$11,\"\"))","v":""},{"$f":"IF(COUNTA(選手入力【女子】!$H17:$I17)=2,$C$12,IF(COUNTA(選手入力【女子】!$H17:$I17)=1,$C$11,\"\"))","v":""},{"$f":"IF(COUNTA(選手入力【女子】!$H17:$I17)=2,$D$12,IF(COUNTA(選手入力【女子】!$H17:$I17)=1,$D$11,\"\"))","v":""}]
[12,{"$f":"IF(COUNTA(選手入力【男子】!$H18:$I18)=2,$B$12,IF(COUNTA(選手入力【男子】!$H18:$I18)=1,$B$11,\"\"))","v":""},{"$f":"IF(COUNTA(選手入力【男子】!$H18:$I18)=2,$C$12,IF(COUNTA(選手入力【男子】!$H18:$I18)=1,$C$11,\"\"))","v":""},{"$f":"IF(COUNTA(選手入力【男子】!$H18:$I18)=2,$D$12,IF(COUNTA(選手入力【男子】!$H18:$I18)=1,$D$11,\"\"))","v":""},null,57,{"$f":"IF(COUNTA(選手入力【女子】!$H18:$I18)=2,$B$12,IF(COUNTA(選手入力【女子】!$H18:$I18)=1,$B$11,\"\"))","v":""},{"$f":"IF(COUNTA(選手入力【女子】!$H18:$I18)=2,$C$12,IF(COUNTA(選手入力【女子】!$H18:$I18)=1,$C$11,\"\"))","v":""},{"$f":"IF(COUNTA(選手入力【女子】!$H18:$I18)=2,$D$12,IF(COUNTA(選手入力【女子】!$H18:$I18)=1,$D$11,\"\"))","v":""}]
[13,{"$f":"IF(COUNTA(選手入力【男子】!$H19:$I19)=2,$B$12,IF(COUNTA(選手入力【男子】!$H19:$I19)=1,$B$11,\"\"))","v":""},{"$f":"IF(COUNTA(選手入力【男子】!$H19:$I19)=2,$C$12,IF(COUNTA(選手入力【男子】!$H19:$I19)=1,$C$11,\"\"))","v":""},{"$f":"IF(COUNTA(選手入力【男子】!$H19:$I19)=2,$D$12,IF(COUNTA(選手入力【男子】!$H19:$I19)=1,$D$11,\"\"))","v":""},null,58,{"$f":"IF(COUNTA(選手入力【女子】!$H19:$I19)=2,$B$12,IF(COUNTA(選手入力【女子】!$H19:$I19)=1,$B$11,\"\"))","v":""},{"$f":"IF(COUNTA(選手入力【女子】!$H19:$I19)=2,$C$12,IF(COUNTA(選手入力【女子】!$H19:$I19)=1,$C$11,\"\"))","v":""},{"$f":"IF(COUNTA(選手入力【女子】!$H19:$I19)=2,$D$12,IF(COUNTA(選手入力【女子】!$H19:$I19)=1,$D$11,\"\"))","v":""}]
[14,{"$f":"IF(COUNTA(選手入力【男子】!$H20:$I20)=2,$B$12,IF(COUNTA(選手入力【男子】!$H20:$I20)=1,$B$11,\"\"))","v":""},{"$f":"IF(COUNTA(選手入力【男子】!$H20:$I20)=2,$C$12,IF(COUNTA(選手入力【男子】!$H20:$I20)=1,$C$11,\"\"))","v":""},{"$f":"IF(COUNTA(選手入力【男子】!$H20:$I20)=2,$D$12,IF(COUNTA(選手入力【男子】!$H20:$I20)=1,$D$11,\"\"))","v":""},null,59,{"$f":"IF(COUNTA(選手入力【女子】!$H20:$I20)=2,$B$12,IF(COUNTA(選手入力【女子】!$H20:$I20)=1,$B$11,\"\"))","v":""},{"$f":"IF(COUNTA(選手入力【女子】!$H20:$I20)=2,$C$12,IF(COUNTA(選手入力【女子】!$H20:$I20)=1,$C$11,\"\"))","v":""},{"$f":"IF(COUNTA(選手入力【女子】!$H20:$I20)=2,$D$12,IF(COUNTA(選手入力【女子】!$H20:$I20)=1,$D$11,\"\"))","v":""}]
[15,{"$f":"IF(COUNTA(選手入力【男子】!$H21:$I21)=2,$B$12,IF(COUNTA(選手入力【男子】!$H21:$I21)=1,$B$11,\"\"))","v":""},{"$f":"IF(COUNTA(選手入力【男子】!$H21:$I21)=2,$C$12,IF(COUNTA(選手入力【男子】!$H21:$I21)=1,$C$11,\"\"))","v":""},{"$f":"IF(COUNTA(選手入力【男子】!$H21:$I21)=2,$D$12,IF(COUNTA(選手入力【男子】!$H21:$I21)=1,$D$11,\"\"))","v":""},null,60,{"$f":"IF(COUNTA(選手入力【女子】!$H21:$I21)=2,$B$12,IF(COUNTA(選手入力【女子】!$H21:$I21)=1,$B$11,\"\"))","v":""},{"$f":"IF(COUNTA(選手入力【女子】!$H21:$I21)=2,$C$12,IF(COUNTA(選手入力【女子】!$H21:$I21)=1,$C$11,\"\"))","v":""},{"$f":"IF(COUNTA(選手入力【女子】!$H21:$I21)=2,$D$12,IF(COUNTA(選手入力【女子】!$H21:$I21)=1,$D$11,\"\"))","v":""}]
[16,{"$f":"IF(COUNTA(選手入力【男子】!$H22:$I22)=2,$B$12,IF(COUNTA(選手入力【男子】!$H22:$I22)=1,$B$11,\"\"))","v":""},{"$f":"IF(COUNTA(選手入力【男子】!$H22:$I22)=2,$C$12,IF(COUNTA(選手入力【男子】!$H22:$I22)=1,$C$11,\"\"))","v":""},{"$f":"IF(COUNTA(選手入力【男子】!$H22:$I22)=2,$D$12,IF(COUNTA(選手入力【男子】!$H22:$I22)=1,$D$11,\"\"))","v":""},null,61,{"$f":"IF(COUNTA(選手入力【女子】!$H22:$I22)=2,$B$12,IF(COUNTA(選手入力【女子】!$H22:$I22)=1,$B$11,\"\"))","v":""},{"$f":"IF(COUNTA(選手入力【女子】!$H22:$I22)=2,$C$12,IF(COUNTA(選手入力【女子】!$H22:$I22)=1,$C$11,\"\"))","v":""},{"$f":"IF(COUNTA(選手入力【女子】!$H22:$I22)=2,$D$12,IF(COUNTA(選手入力【女子】!$H22:$I22)=1,$D$11,\"\"))","v":""}]
[17,{"$f":"IF(COUNTA(選手入力【男子】!$H23:$I23)=2,$B$12,IF(COUNTA(選手入力【男子】!$H23:$I23)=1,$B$11,\"\"))","v":""},{"$f":"IF(COUNTA(選手入力【男子】!$H23:$I23)=2,$C$12,IF(COUNTA(選手入力【男子】!$H23:$I23)=1,$C$11,\"\"))","v":""},{"$f":"IF(COUNTA(選手入力【男子】!$H23:$I23)=2,$D$12,IF(COUNTA(選手入力【男子】!$H23:$I23)=1,$D$11,\"\"))","v":""},null,62,{"$f":"IF(COUNTA(選手入力【女子】!$H23:$I23)=2,$B$12,IF(COUNTA(選手入力【女子】!$H23:$I23)=1,$B$11,\"\"))","v":""},{"$f":"IF(COUNTA(選手入力【女子】!$H23:$I23)=2,$C$12,IF(COUNTA(選手入力【女子】!$H23:$I23)=1,$C$11,\"\"))","v":""},{"$f":"IF(COUNTA(選手入力【女子】!$H23:$I23)=2,$D$12,IF(COUNTA(選手入力【女子】!$H23:$I23)=1,$D$11,\"\"))","v":""}]
[18,{"$f":"IF(COUNTA(選手入力【男子】!$H24:$I24)=2,$B$12,IF(COUNTA(選手入力【男子】!$H24:$I24)=1,$B$11,\"\"))","v":""},{"$f":"IF(COUNTA(選手入力【男子】!$H24:$I24)=2,$C$12,IF(COUNTA(選手入力【男子】!$H24:$I24)=1,$C$11,\"\"))","v":""},{"$f":"IF(COUNTA(選手入力【男子】!$H24:$I24)=2,$D$12,IF(COUNTA(選手入力【男子】!$H24:$I24)=1,$D$11,\"\"))","v":""},null,63,{"$f":"IF(COUNTA(選手入力【女子】!$H24:$I24)=2,$B$12,IF(COUNTA(選手入力【女子】!$H24:$I24)=1,$B$11,\"\"))","v":""},{"$f":"IF(COUNTA(選手入力【女子】!$H24:$I24)=2,$C$12,IF(COUNTA(選手入力【女子】!$H24:$I24)=1,$C$11,\"\"))","v":""},{"$f":"IF(COUNTA(選手入力【女子】!$H24:$I24)=2,$D$12,IF(COUNTA(選手入力【女子】!$H24:$I24)=1,$D$11,\"\"))","v":""}]
[19,{"$f":"IF(COUNTA(選手入力【男子】!$H25:$I25)=2,$B$12,IF(COUNTA(選手入力【男子】!$H25:$I25)=1,$B$11,\"\"))","v":""},{"$f":"IF(COUNTA(選手入力【男子】!$H25:$I25)=2,$C$12,IF(COUNTA(選手入力【男子】!$H25:$I25)=1,$C$11,\"\"))","v":""},{"$f":"IF(COUNTA(選手入力【男子】!$H25:$I25)=2,$D$12,IF(COUNTA(選手入力【男子】!$H25:$I25)=1,$D$11,\"\"))","v":""},null,64,{"$f":"IF(COUNTA(選手入力【女子】!$H25:$I25)=2,$B$12,IF(COUNTA(選手入力【女子】!$H25:$I25)=1,$B$11,\"\"))","v":""},{"$f":"IF(COUNTA(選手入力【女子】!$H25:$I25)=2,$C$12,IF(COUNTA(選手入力【女子】!$H25:$I25)=1,$C$11,\"\"))","v":""},{"$f":"IF(COUNTA(選手入力【女子】!$H25:$I25)=2,$D$12,IF(COUNTA(選手入力【女子】!$H25:$I25)=1,$D$11,\"\"))","v":""}]
[20,{"$f":"IF(COUNTA(選手入力【男子】!$H26:$I26)=2,$B$12,IF(COUNTA(選手入力【男子】!$H26:$I26)=1,$B$11,\"\"))","v":""},{"$f":"IF(COUNTA(選手入力【男子】!$H26:$I26)=2,$C$12,IF(COUNTA(選手入力【男子】!$H26:$I26)=1,$C$11,\"\"))","v":""},{"$f":"IF(COUNTA(選手入力【男子】!$H26:$I26)=2,$D$12,IF(COUNTA(選手入力【男子】!$H26:$I26)=1,$D$11,\"\"))","v":""},null,65,{"$f":"IF(COUNTA(選手入力【女子】!$H26:$I26)=2,$B$12,IF(COUNTA(選手入力【女子】!$H26:$I26)=1,$B$11,\"\"))","v":""},{"$f":"IF(COUNTA(選手入力【女子】!$H26:$I26)=2,$C$12,IF(COUNTA(選手入力【女子】!$H26:$I26)=1,$C$11,\"\"))","v":""},{"$f":"IF(COUNTA(選手入力【女子】!$H26:$I26)=2,$D$12,IF(COUNTA(選手入力【女子】!$H26:$I26)=1,$D$11,\"\"))","v":""}]
[21,{"$f":"IF(COUNTA(選手入力【男子】!$H27:$I27)=2,$B$12,IF(COUNTA(選手入力【男子】!$H27:$I27)=1,$B$11,\"\"))","v":""},{"$f":"IF(COUNTA(選手入力【男子】!$H27:$I27)=2,$C$12,IF(COUNTA(選手入力【男子】!$H27:$I27)=1,$C$11,\"\"))","v":""},{"$f":"IF(COUNTA(選手入力【男子】!$H27:$I27)=2,$D$12,IF(COUNTA(選手入力【男子】!$H27:$I27)=1,$D$11,\"\"))","v":""},null,66,{"$f":"IF(COUNTA(選手入力【女子】!$H27:$I27)=2,$B$12,IF(COUNTA(選手入力【女子】!$H27:$I27)=1,$B$11,\"\"))","v":""},{"$f":"IF(COUNTA(選手入力【女子】!$H27:$I27)=2,$C$12,IF(COUNTA(選手入力【女子】!$H27:$I27)=1,$C$11,\"\"))","v":""},{"$f":"IF(COUNTA(選手入力【女子】!$H27:$I27)=2,$D$12,IF(COUNTA(選手入力【女子】!$H27:$I27)=1,$D$11,\"\"))","v":""}]
[22,{"$f":"IF(COUNTA(選手入力【男子】!$H28:$I28)=2,$B$12,IF(COUNTA(選手入力【男子】!$H28:$I28)=1,$B$11,\"\"))","v":""},{"$f":"IF(COUNTA(選手入力【男子】!$H28:$I28)=2,$C$12,IF(COUNTA(選手入力【男子】!$H28:$I28)=1,$C$11,\"\"))","v":""},{"$f":"IF(COUNTA(選手入力【男子】!$H28:$I28)=2,$D$12,IF(COUNTA(選手入力【男子】!$H28:$I28)=1,$D$11,\"\"))","v":""},null,67,{"$f":"IF(COUNTA(選手入力【女子】!$H28:$I28)=2,$B$12,IF(COUNTA(選手入力【女子】!$H28:$I28)=1,$B$11,\"\"))","v":""},{"$f":"IF(COUNTA(選手入力【女子】!$H28:$I28)=2,$C$12,IF(COUNTA(選手入力【女子】!$H28:$I28)=1,$C$11,\"\"))","v":""},{"$f":"IF(COUNTA(選手入力【女子】!$H28:$I28)=2,$D$12,IF(COUNTA(選手入力【女子】!$H28:$I28)=1,$D$11,\"\"))","v":""}]
[23,{"$f":"IF(COUNTA(選手入力【男子】!$H29:$I29)=2,$B$12,IF(COUNTA(選手入力【男子】!$H29:$I29)=1,$B$11,\"\"))","v":""},{"$f":"IF(COUNTA(選手入力【男子】!$H29:$I29)=2,$C$12,IF(COUNTA(選手入力【男子】!$H29:$I29)=1,$C$11,\"\"))","v":""},{"$f":"IF(COUNTA(選手入力【男子】!$H29:$I29)=2,$D$12,IF(COUNTA(選手入力【男子】!$H29:$I29)=1,$D$11,\"\"))","v":""},null,68,{"$f":"IF(COUNTA(選手入力【女子】!$H29:$I29)=2,$B$12,IF(COUNTA(選手入力【女子】!$H29:$I29)=1,$B$11,\"\"))","v":""},{"$f":"IF(COUNTA(選手入力【女子】!$H29:$I29)=2,$C$12,IF(COUNTA(選手入力【女子】!$H29:$I29)=1,$C$11,\"\"))","v":""},{"$f":"IF(COUNTA(選手入力【女子】!$H29:$I29)=2,$D$12,IF(COUNTA(選手入力【女子】!$H29:$I29)=1,$D$11,\"\"))","v":""}]
[24,{"$f":"IF(COUNTA(選手入力【男子】!$H30:$I30)=2,$B$12,IF(COUNTA(選手入力【男子】!$H30:$I30)=1,$B$11,\"\"))","v":""},{"$f":"IF(COUNTA(選手入力【男子】!$H30:$I30)=2,$C$12,IF(COUNTA(選手入力【男子】!$H30:$I30)=1,$C$11,\"\"))","v":""},{"$f":"IF(COUNTA(選手入力【男子】!$H30:$I30)=2,$D$12,IF(COUNTA(選手入力【男子】!$H30:$I30)=1,$D$11,\"\"))","v":""},null,69,{"$f":"IF(COUNTA(選手入力【女子】!$H30:$I30)=2,$B$12,IF(COUNTA(選手入力【女子】!$H30:$I30)=1,$B$11,\"\"))","v":""},{"$f":"IF(COUNTA(選手入力【女子】!$H30:$I30)=2,$C$12,IF(COUNTA(選手入力【女子】!$H30:$I30)=1,$C$11,\"\"))","v":""},{"$f":"IF(COUNTA(選手入力【女子】!$H30:$I30)=2,$D$12,IF(COUNTA(選手入力【女子】!$H30:$I30)=1,$D$11,\"\"))","v":""}]
[25,{"$f":"IF(COUNTA(選手入力【男子】!$H31:$I31)=2,$B$12,IF(COUNTA(選手入力【男子】!$H31:$I31)=1,$B$11,\"\"))","v":""},{"$f":"IF(COUNTA(選手入力【男子】!$H31:$I31)=2,$C$12,IF(COUNTA(選手入力【男子】!$H31:$I31)=1,$C$11,\"\"))","v":""},{"$f":"IF(COUNTA(選手入力【男子】!$H31:$I31)=2,$D$12,IF(COUNTA(選手入力【男子】!$H31:$I31)=1,$D$11,\"\"))","v":""},null,70,{"$f":"IF(COUNTA(選手入力【女子】!$H31:$I31)=2,$B$12,IF(COUNTA(選手入力【女子】!$H31:$I31)=1,$B$11,\"\"))","v":""},{"$f":"IF(COUNTA(選手入力【女子】!$H31:$I31)=2,$C$12,IF(COUNTA(選手入力【女子】!$H31:$I31)=1,$C$11,\"\"))","v":""},{"$f":"IF(COUNTA(選手入力【女子】!$H31:$I31)=2,$D$12,IF(COUNTA(選手入力【女子】!$H31:$I31)=1,$D$11,\"\"))","v":""}]
[26,{"$f":"IF(COUNTA(選手入力【男子】!$H32:$I32)=2,$B$12,IF(COUNTA(選手入力【男子】!$H32:$I32)=1,$B$11,\"\"))","v":""},{"$f":"IF(COUNTA(選手入力【男子】!$H32:$I32)=2,$C$12,IF(COUNTA(選手入力【男子】!$H32:$I32)=1,$C$11,\"\"))","v":""},{"$f":"IF(COUNTA(選手入力【男子】!$H32:$I32)=2,$D$12,IF(COUNTA(選手入力【男子】!$H32:$I32)=1,$D$11,\"\"))","v":""},null,71,{"$f":"IF(COUNTA(選手入力【女子】!$H32:$I32)=2,$B$12,IF(COUNTA(選手入力【女子】!$H32:$I32)=1,$B$11,\"\"))","v":""},{"$f":"IF(COUNTA(選手入力【女子】!$H32:$I32)=2,$C$12,IF(COUNTA(選手入力【女子】!$H32:$I32)=1,$C$11,\"\"))","v":""},{"$f":"IF(COUNTA(選手入力【女子】!$H32:$I32)=2,$D$12,IF(COUNTA(選手入力【女子】!$H32:$I32)=1,$D$11,\"\"))","v":""}]
[27,{"$f":"IF(COUNTA(選手入力【男子】!$H33:$I33)=2,$B$12,IF(COUNTA(選手入力【男子】!$H33:$I33)=1,$B$11,\"\"))","v":""},{"$f":"IF(COUNTA(選手入力【男子】!$H33:$I33)=2,$C$12,IF(COUNTA(選手入力【男子】!$H33:$I33)=1,$C$11,\"\"))","v":""},{"$f":"IF(COUNTA(選手入力【男子】!$H33:$I33)=2,$D$12,IF(COUNTA(選手入力【男子】!$H33:$I33)=1,$D$11,\"\"))","v":""},null,72,{"$f":"IF(COUNTA(選手入力【女子】!$H33:$I33)=2,$B$12,IF(COUNTA(選手入力【女子】!$H33:$I33)=1,$B$11,\"\"))","v":""},{"$f":"IF(COUNTA(選手入力【女子】!$H33:$I33)=2,$C$12,IF(COUNTA(選手入力【女子】!$H33:$I33)=1,$C$11,\"\"))","v":""},{"$f":"IF(COUNTA(選手入力【女子】!$H33:$I33)=2,$D$12,IF(COUNTA(選手入力【女子】!$H33:$I33)=1,$D$11,\"\"))","v":""}]
[28,{"$f":"IF(COUNTA(選手入力【男子】!$H34:$I34)=2,$B$12,IF(COUNTA(選手入力【男子】!$H34:$I34)=1,$B$11,\"\"))","v":""},{"$f":"IF(COUNTA(選手入力【男子】!$H34:$I34)=2,$C$12,IF(COUNTA(選手入力【男子】!$H34:$I34)=1,$C$11,\"\"))","v":""},{"$f":"IF(COUNTA(選手入力【男子】!$H34:$I34)=2,$D$12,IF(COUNTA(選手入力【男子】!$H34:$I34)=1,$D$11,\"\"))","v":""},null,73,{"$f":"IF(COUNTA(選手入力【女子】!$H34:$I34)=2,$B$12,IF(COUNTA(選手入力【女子】!$H34:$I34)=1,$B$11,\"\"))","v":""},{"$f":"IF(COUNTA(選手入力【女子】!$H34:$I34)=2,$C$12,IF(COUNTA(選手入力【女子】!$H34:$I34)=1,$C$11,\"\"))","v":""},{"$f":"IF(COUNTA(選手入力【女子】!$H34:$I34)=2,$D$12,IF(COUNTA(選手入力【女子】!$H34:$I34)=1,$D$11,\"\"))","v":""}]
[29,{"$f":"IF(COUNTA(選手入力【男子】!$H35:$I35)=2,$B$12,IF(COUNTA(選手入力【男子】!$H35:$I35)=1,$B$11,\"\"))","v":""},{"$f":"IF(COUNTA(選手入力【男子】!$H35:$I35)=2,$C$12,IF(COUNTA(選手入力【男子】!$H35:$I35)=1,$C$11,\"\"))","v":""},{"$f":"IF(COUNTA(選手入力【男子】!$H35:$I35)=2,$D$12,IF(COUNTA(選手入力【男子】!$H35:$I35)=1,$D$11,\"\"))","v":""},null,74,{"$f":"IF(COUNTA(選手入力【女子】!$H35:$I35)=2,$B$12,IF(COUNTA(選手入力【女子】!$H35:$I35)=1,$B$11,\"\"))","v":""},{"$f":"IF(COUNTA(選手入力【女子】!$H35:$I35)=2,$C$12,IF(COUNTA(選手入力【女子】!$H35:$I35)=1,$C$11,\"\"))","v":""},{"$f":"IF(COUNTA(選手入力【女子】!$H35:$I35)=2,$D$12,IF(COUNTA(選手入力【女子】!$H35:$I35)=1,$D$11,\"\"))","v":""}]
[30,{"$f":"IF(COUNTA(選手入力【男子】!$H36:$I36)=2,$B$12,IF(COUNTA(選手入力【男子】!$H36:$I36)=1,$B$11,\"\"))","v":""},{"$f":"IF(COUNTA(選手入力【男子】!$H36:$I36)=2,$C$12,IF(COUNTA(選手入力【男子】!$H36:$I36)=1,$C$11,\"\"))","v":""},{"$f":"IF(COUNTA(選手入力【男子】!$H36:$I36)=2,$D$12,IF(COUNTA(選手入力【男子】!$H36:$I36)=1,$D$11,\"\"))","v":""},null,75,{"$f":"IF(COUNTA(選手入力【女子】!$H36:$I36)=2,$B$12,IF(COUNTA(選手入力【女子】!$H36:$I36)=1,$B$11,\"\"))","v":""},{"$f":"IF(COUNTA(選手入力【女子】!$H36:$I36)=2,$C$12,IF(COUNTA(選手入力【女子】!$H36:$I36)=1,$C$11,\"\"))","v":""},{"$f":"IF(COUNTA(選手入力【女子】!$H36:$I36)=2,$D$12,IF(COUNTA(選手入力【女子】!$H36:$I36)=1,$D$11,\"\"))","v":""}]
[31,{"$f":"IF(COUNTA(選手入力【男子】!$H37:$I37)=2,$B$12,IF(COUNTA(選手入力【男子】!$H37:$I37)=1,$B$11,\"\"))","v":""},{"$f":"IF(COUNTA(選手入力【男子】!$H37:$I37)=2,$C$12,IF(COUNTA(選手入力【男子】!$H37:$I37)=1,$C$11,\"\"))","v":""},{"$f":"IF(COUNTA(選手入力【男子】!$H37:$I37)=2,$D$12,IF(COUNTA(選手入力【男子】!$H37:$I37)=1,$D$11,\"\"))","v":""},null,76,{"$f":"IF(COUNTA(選手入力【女子】!$H37:$I37)=2,$B$12,IF(COUNTA(選手入力【女子】!$H37:$I37)=1,$B$11,\"\"))","v":""},{"$f":"IF(COUNTA(選手入力【女子】!$H37:$I37)=2,$C$12,IF(COUNTA(選手入力【女子】!$H37:$I37)=1,$C$11,\"\"))","v":""},{"$f":"IF(COUNTA(選手入力【女子】!$H37:$I37)=2,$D$12,IF(COUNTA(選手入力【女子】!$H37:$I37)=1,$D$11,\"\"))","v":""}]
[32,{"$f":"IF(COUNTA(選手入力【男子】!$H38:$I38)=2,$B$12,IF(COUNTA(選手入力【男子】!$H38:$I38)=1,$B$11,\"\"))","v":""},{"$f":"IF(COUNTA(選手入力【男子】!$H38:$I38)=2,$C$12,IF(COUNTA(選手入力【男子】!$H38:$I38)=1,$C$11,\"\"))","v":""},{"$f":"IF(COUNTA(選手入力【男子】!$H38:$I38)=2,$D$12,IF(COUNTA(選手入力【男子】!$H38:$I38)=1,$D$11,\"\"))","v":""},null,77,{"$f":"IF(COUNTA(選手入力【女子】!$H38:$I38)=2,$B$12,IF(COUNTA(選手入力【女子】!$H38:$I38)=1,$B$11,\"\"))","v":""},{"$f":"IF(COUNTA(選手入力【女子】!$H38:$I38)=2,$C$12,IF(COUNTA(選手入力【女子】!$H38:$I38)=1,$C$11,\"\"))","v":""},{"$f":"IF(COUNTA(選手入力【女子】!$H38:$I38)=2,$D$12,IF(COUNTA(選手入力【女子】!$H38:$I38)=1,$D$11,\"\"))","v":""}]
[33,{"$f":"IF(COUNTA(選手入力【男子】!$H39:$I39)=2,$B$12,IF(COUNTA(選手入力【男子】!$H39:$I39)=1,$B$11,\"\"))","v":""},{"$f":"IF(COUNTA(選手入力【男子】!$H39:$I39)=2,$C$12,IF(COUNTA(選手入力【男子】!$H39:$I39)=1,$C$11,\"\"))","v":""},{"$f":"IF(COUNTA(選手入力【男子】!$H39:$I39)=2,$D$12,IF(COUNTA(選手入力【男子】!$H39:$I39)=1,$D$11,\"\"))","v":""},null,78,{"$f":"IF(COUNTA(選手入力【女子】!$H39:$I39)=2,$B$12,IF(COUNTA(選手入力【女子】!$H39:$I39)=1,$B$11,\"\"))","v":""},{"$f":"IF(COUNTA(選手入力【女子】!$H39:$I39)=2,$C$12,IF(COUNTA(選手入力【女子】!$H39:$I39)=1,$C$11,\"\"))","v":""},{"$f":"IF(COUNTA(選手入力【女子】!$H39:$I39)=2,$D$12,IF(COUNTA(選手入力【女子】!$H39:$I39)=1,$D$11,\"\"))","v":""}]
[34,{"$f":"IF(COUNTA(選手入力【男子】!$H40:$I40)=2,$B$12,IF(COUNTA(選手入力【男子】!$H40:$I40)=1,$B$11,\"\"))","v":""},{"$f":"IF(COUNTA(選手入力【男子】!$H40:$I40)=2,$C$12,IF(COUNTA(選手入力【男子】!$H40:$I40)=1,$C$11,\"\"))","v":""},{"$f":"IF(COUNTA(選手入力【男子】!$H40:$I40)=2,$D$12,IF(COUNTA(選手入力【男子】!$H40:$I40)=1,$D$11,\"\"))","v":""},null,79,{"$f":"IF(COUNTA(選手入力【女子】!$H40:$I40)=2,$B$12,IF(COUNTA(選手入力【女子】!$H40:$I40)=1,$B$11,\"\"))","v":""},{"$f":"IF(COUNTA(選手入力【女子】!$H40:$I40)=2,$C$12,IF(COUNTA(選手入力【女子】!$H40:$I40)=1,$C$11,\"\"))","v":""},{"$f":"IF(COUNTA(選手入力【女子】!$H40:$I40)=2,$D$12,IF(COUNTA(選手入力【女子】!$H40:$I40)=1,$D$11,\"\"))","v":""}]
[35,{"$f":"IF(COUNTA(選手入力【男子】!$H41:$I41)=2,$B$12,IF(COUNTA(選手入力【男子】!$H41:$I41)=1,$B$11,\"\"))","v":""},{"$f":"IF(COUNTA(選手入力【男子】!$H41:$I41)=2,$C$12,IF(COUNTA(選手入力【男子】!$H41:$I41)=1,$C$11,\"\"))","v":""},{"$f":"IF(COUNTA(選手入力【男子】!$H41:$I41)=2,$D$12,IF(COUNTA(選手入力【男子】!$H41:$I41)=1,$D$11,\"\"))","v":""},null,80,{"$f":"IF(COUNTA(選手入力【女子】!$H41:$I41)=2,$B$12,IF(COUNTA(選手入力【女子】!$H41:$I41)=1,$B$11,\"\"))","v":""},{"$f":"IF(COUNTA(選手入力【女子】!$H41:$I41)=2,$C$12,IF(COUNTA(選手入力【女子】!$H41:$I41)=1,$C$11,\"\"))","v":""},{"$f":"IF(COUNTA(選手入力【女子】!$H41:$I41)=2,$D$12,IF(COUNTA(選手入力【女子】!$H41:$I41)=1,$D$11,\"\"))","v":""}]
[36,{"$f":"IF(COUNTA(選手入力【男子】!$H42:$I42)=2,$B$12,IF(COUNTA(選手入力【男子】!$H42:$I42)=1,$B$11,\"\"))","v":""},{"$f":"IF(COUNTA(選手入力【男子】!$H42:$I42)=2,$C$12,IF(COUNTA(選手入力【男子】!$H42:$I42)=1,$C$11,\"\"))","v":""},{"$f":"IF(COUNTA(選手入力【男子】!$H42:$I42)=2,$D$12,IF(COUNTA(選手入力【男子】!$H42:$I42)=1,$D$11,\"\"))","v":""},null,81,{"$f":"IF(COUNTA(選手入力【女子】!$H42:$I42)=2,$B$12,IF(COUNTA(選手入力【女子】!$H42:$I42)=1,$B$11,\"\"))","v":""},{"$f":"IF(COUNTA(選手入力【女子】!$H42:$I42)=2,$C$12,IF(COUNTA(選手入力【女子】!$H42:$I42)=1,$C$11,\"\"))","v":""},{"$f":"IF(COUNTA(選手入力【女子】!$H42:$I42)=2,$D$12,IF(COUNTA(選手入力【女子】!$H42:$I42)=1,$D$11,\"\"))","v":""}]
[37,{"$f":"IF(COUNTA(選手入力【男子】!$H43:$I43)=2,$B$12,IF(COUNTA(選手入力【男子】!$H43:$I43)=1,$B$11,\"\"))","v":""},{"$f":"IF(COUNTA(選手入力【男子】!$H43:$I43)=2,$C$12,IF(COUNTA(選手入力【男子】!$H43:$I43)=1,$C$11,\"\"))","v":""},{"$f":"IF(COUNTA(選手入力【男子】!$H43:$I43)=2,$D$12,IF(COUNTA(選手入力【男子】!$H43:$I43)=1,$D$11,\"\"))","v":""},null,82,{"$f":"IF(COUNTA(選手入力【女子】!$H43:$I43)=2,$B$12,IF(COUNTA(選手入力【女子】!$H43:$I43)=1,$B$11,\"\"))","v":""},{"$f":"IF(COUNTA(選手入力【女子】!$H43:$I43)=2,$C$12,IF(COUNTA(選手入力【女子】!$H43:$I43)=1,$C$11,\"\"))","v":""},{"$f":"IF(COUNTA(選手入力【女子】!$H43:$I43)=2,$D$12,IF(COUNTA(選手入力【女子】!$H43:$I43)=1,$D$11,\"\"))","v":""}]
[38,{"$f":"IF(COUNTA(選手入力【男子】!$H44:$I44)=2,$B$12,IF(COUNTA(選手入力【男子】!$H44:$I44)=1,$B$11,\"\"))","v":""},{"$f":"IF(COUNTA(選手入力【男子】!$H44:$I44)=2,$C$12,IF(COUNTA(選手入力【男子】!$H44:$I44)=1,$C$11,\"\"))","v":""},{"$f":"IF(COUNTA(選手入力【男子】!$H44:$I44)=2,$D$12,IF(COUNTA(選手入力【男子】!$H44:$I44)=1,$D$11,\"\"))","v":""},null,83,{"$f":"IF(COUNTA(選手入力【女子】!$H44:$I44)=2,$B$12,IF(COUNTA(選手入力【女子】!$H44:$I44)=1,$B$11,\"\"))","v":""},{"$f":"IF(COUNTA(選手入力【女子】!$H44:$I44)=2,$C$12,IF(COUNTA(選手入力【女子】!$H44:$I44)=1,$C$11,\"\"))","v":""},{"$f":"IF(COUNTA(選手入力【女子】!$H44:$I44)=2,$D$12,IF(COUNTA(選手入力【女子】!$H44:$I44)=1,$D$11,\"\"))","v":""}]
[39,{"$f":"IF(COUNTA(選手入力【男子】!$H45:$I45)=2,$B$12,IF(COUNTA(選手入力【男子】!$H45:$I45)=1,$B$11,\"\"))","v":""},{"$f":"IF(COUNTA(選手入力【男子】!$H45:$I45)=2,$C$12,IF(COUNTA(選手入力【男子】!$H45:$I45)=1,$C$11,\"\"))","v":""},{"$f":"IF(COUNTA(選手入力【男子】!$H45:$I45)=2,$D$12,IF(COUNTA(選手入力【男子】!$H45:$I45)=1,$D$11,\"\"))","v":""},null,84,{"$f":"IF(COUNTA(選手入力【女子】!$H45:$I45)=2,$B$12,IF(COUNTA(選手入力【女子】!$H45:$I45)=1,$B$11,\"\"))","v":""},{"$f":"IF(COUNTA(選手入力【女子】!$H45:$I45)=2,$C$12,IF(COUNTA(選手入力【女子】!$H45:$I45)=1,$C$11,\"\"))","v":""},{"$f":"IF(COUNTA(選手入力【女子】!$H45:$I45)=2,$D$12,IF(COUNTA(選手入力【女子】!$H45:$I45)=1,$D$11,\"\"))","v":""}]
[40,{"$f":"IF(COUNTA(選手入力【男子】!$H46:$I46)=2,$B$12,IF(COUNTA(選手入力【男子】!$H46:$I46)=1,$B$11,\"\"))","v":""},{"$f":"IF(COUNTA(選手入力【男子】!$H46:$I46)=2,$C$12,IF(COUNTA(選手入力【男子】!$H46:$I46)=1,$C$11,\"\"))","v":""},{"$f":"IF(COUNTA(選手入力【男子】!$H46:$I46)=2,$D$12,IF(COUNTA(選手入力【男子】!$H46:$I46)=1,$D$11,\"\"))","v":""},null,85,{"$f":"IF(COUNTA(選手入力【女子】!$H46:$I46)=2,$B$12,IF(COUNTA(選手入力【女子】!$H46:$I46)=1,$B$11,\"\"))","v":""},{"$f":"IF(COUNTA(選手入力【女子】!$H46:$I46)=2,$C$12,IF(COUNTA(選手入力【女子】!$H46:$I46)=1,$C$11,\"\"))","v":""},{"$f":"IF(COUNTA(選手入力【女子】!$H46:$I46)=2,$D$12,IF(COUNTA(選手入力【女子】!$H46:$I46)=1,$D$11,\"\"))","v":""}]
[41,{"$f":"IF(COUNTA(選手入力【男子】!$H47:$I47)=2,$B$12,IF(COUNTA(選手入力【男子】!$H47:$I47)=1,$B$11,\"\"))","v":""},{"$f":"IF(COUNTA(選手入力【男子】!$H47:$I47)=2,$C$12,IF(COUNTA(選手入力【男子】!$H47:$I47)=1,$C$11,\"\"))","v":""},{"$f":"IF(COUNTA(選手入力【男子】!$H47:$I47)=2,$D$12,IF(COUNTA(選手入力【男子】!$H47:$I47)=1,$D$11,\"\"))","v":""},null,86,{"$f":"IF(COUNTA(選手入力【女子】!$H47:$I47)=2,$B$12,IF(COUNTA(選手入力【女子】!$H47:$I47)=1,$B$11,\"\"))","v":""},{"$f":"IF(COUNTA(選手入力【女子】!$H47:$I47)=2,$C$12,IF(COUNTA(選手入力【女子】!$H47:$I47)=1,$C$11,\"\"))","v":""},{"$f":"IF(COUNTA(選手入力【女子】!$H47:$I47)=2,$D$12,IF(COUNTA(選手入力【女子】!$H47:$I47)=1,$D$11,\"\"))","v":""}]
[42,{"$f":"IF(COUNTA(選手入力【男子】!$H48:$I48)=2,$B$12,IF(COUNTA(選手入力【男子】!$H48:$I48)=1,$B$11,\"\"))","v":""},{"$f":"IF(COUNTA(選手入力【男子】!$H48:$I48)=2,$C$12,IF(COUNTA(選手入力【男子】!$H48:$I48)=1,$C$11,\"\"))","v":""},{"$f":"IF(COUNTA(選手入力【男子】!$H48:$I48)=2,$D$12,IF(COUNTA(選手入力【男子】!$H48:$I48)=1,$D$11,\"\"))","v":""},null,87,{"$f":"IF(COUNTA(選手入力【女子】!$H48:$I48)=2,$B$12,IF(COUNTA(選手入力【女子】!$H48:$I48)=1,$B$11,\"\"))","v":""},{"$f":"IF(COUNTA(選手入力【女子】!$H48:$I48)=2,$C$12,IF(COUNTA(選手入力【女子】!$H48:$I48)=1,$C$11,\"\"))","v":""},{"$f":"IF(COUNTA(選手入力【女子】!$H48:$I48)=2,$D$12,IF(COUNTA(選手入力【女子】!$H48:$I48)=1,$D$11,\"\"))","v":""}]
[43,{"$f":"IF(COUNTA(選手入力【男子】!$H49:$I49)=2,$B$12,IF(COUNTA(選手入力【男子】!$H49:$I49)=1,$B$11,\"\"))","v":""},{"$f":"IF(COUNTA(選手入力【男子】!$H49:$I49)=2,$C$12,IF(COUNTA(選手入力【男子】!$H49:$I49)=1,$C$11,\"\"))","v":""},{"$f":"IF(COUNTA(選手入力【男子】!$H49:$I49)=2,$D$12,IF(COUNTA(選手入力【男子】!$H49:$I49)=1,$D$11,\"\"))","v":""},null,88,{"$f":"IF(COUNTA(選手入力【女子】!$H49:$I49)=2,$B$12,IF(COUNTA(選手入力【女子】!$H49:$I49)=1,$B$11,\"\"))","v":""},{"$f":"IF(COUNTA(選手入力【女子】!$H49:$I49)=2,$C$12,IF(COUNTA(選手入力【女子】!$H49:$I49)=1,$C$11,\"\"))","v":""},{"$f":"IF(COUNTA(選手入力【女子】!$H49:$I49)=2,$D$12,IF(COUNTA(選手入力【女子】!$H49:$I49)=1,$D$11,\"\"))","v":""}]
[44,{"$f":"IF(COUNTA(選手入力【男子】!$H50:$I50)=2,$B$12,IF(COUNTA(選手入力【男子】!$H50:$I50)=1,$B$11,\"\"))","v":""},{"$f":"IF(COUNTA(選手入力【男子】!$H50:$I50)=2,$C$12,IF(COUNTA(選手入力【男子】!$H50:$I50)=1,$C$11,\"\"))","v":""},{"$f":"IF(COUNTA(選手入力【男子】!$H50:$I50)=2,$D$12,IF(COUNTA(選手入力【男子】!$H50:$I50)=1,$D$11,\"\"))","v":""},null,89,{"$f":"IF(COUNTA(選手入力【女子】!$H50:$I50)=2,$B$12,IF(COUNTA(選手入力【女子】!$H50:$I50)=1,$B$11,\"\"))","v":""},{"$f":"IF(COUNTA(選手入力【女子】!$H50:$I50)=2,$C$12,IF(COUNTA(選手入力【女子】!$H50:$I50)=1,$C$11,\"\"))","v":""},{"$f":"IF(COUNTA(選手入力【女子】!$H50:$I50)=2,$D$12,IF(COUNTA(選手入力【女子】!$H50:$I50)=1,$D$11,\"\"))","v":""}]
[45,{"$f":"IF(COUNTA(選手入力【男子】!$H51:$I51)=2,$B$12,IF(COUNTA(選手入力【男子】!$H51:$I51)=1,$B$11,\"\"))","v":""},{"$f":"IF(COUNTA(選手入力【男子】!$H51:$I51)=2,$C$12,IF(COUNTA(選手入力【男子】!$H51:$I51)=1,$C$11,\"\"))","v":""},{"$f":"IF(COUNTA(選手入力【男子】!$H51:$I51)=2,$D$12,IF(COUNTA(選手入力【男子】!$H51:$I51)=1,$D$11,\"\"))","v":""},null,90,{"$f":"IF(COUNTA(選手入力【女子】!$H51:$I51)=2,$B$12,IF(COUNTA(選手入力【女子】!$H51:$I51)=1,$B$11,\"\"))","v":""},{"$f":"IF(COUNTA(選手入力【女子】!$H51:$I51)=2,$C$12,IF(COUNTA(選手入力【女子】!$H51:$I51)=1,$C$11,\"\"))","v":""},{"$f":"IF(COUNTA(選手入力【女子】!$H51:$I51)=2,$D$12,IF(COUNTA(選手入力【女子】!$H51:$I51)=1,$D$11,\"\"))","v":""}]
["小計",{"$f":"SUM(B16:B60)","v":0},{"$f":"SUM(C16:C60)","v":0},{"$f":"SUM(D16:D60)","v":0},null,"小計",{"$f":"SUM(G16:G60)","v":0},{"$f":"SUM(H16:H60)","v":0},{"$f":"SUM(I16:I60)","v":0}]
["合計",{"$f":"SUM(B61:D61)","v":0},null,null,null,"合計",{"$f":"SUM(G61:I61)","v":0}]

{"sheet":"男子GSL","index":6,"n_rows":269,"n_cols":7,"rows_kept":269,"cut":false,"hidden":true,"merged":[[200,0,202,0],[200,1,200,2],[200,3,200,4],[201,1,201,2],[201,3,201,4],[201,5,202,5],[201,6,202,6],[202,1,202,2],[202,3,202,4],[194,0,196,0],[194,1,194,2],[194,3,194,4],[195,1,195,2],[195,3,195,4],[195,5,196,5],[195,6,196,6],[196,1,196,2],[196,3,196,4],[188,0,190,0],[188,1,188,2],[188,3,188,4],[189,1,189,2],[189,3,189,4],[189,5,190,5],[189,6,190,6],[190,1,190,2],[190,3,190,4],[177,6,178,6],[178,1,178,2],[178,3,178,4],[182,0,184,0],[182,1,182,2],[182,3,182,4],[183,1,183,2],[183,3,183,4],[183,5,184,5],[183,6,184,6],[184,1,184,2],[184,3,184,4],[171,5,172,5],[171,6,172,6],[172,1,172,2],[172,3,172,4],[266,0,268,0],[266,1,266,2],[266,3,266,4],[267,1,267,2],[267,3,267,4],[267,5,268,5],[267,6,268,6],[268,1,268,2],[268,3,268,4],[170,0,172,0],[170,1,170,2],[170,3,170,4],[171,1,171,2],[171,3,171,4],[176,0,178,0],[176,1,176,2],[176,3,176,4],[177,1,177,2],[177,3,177,4],[177,5,178,5],[159,5,160,5],[159,6,160,6],[160,1,160,2],[160,3,160,4],[164,0,166,0],[164,1,164,2],[164,3,164,4],[165,1,165,2],[165,3,165,4],[165,5,166,5],[165,6,166,6],[166,1,166,2],[166,3,166,4],[158,0,160,0],[158,1,158,2],[158,3,158,4],[159,1,159,2],[159,3,159,4],[147,5,148,5],[147,6,148,6],[148,1,148,2],[148,3,148,4],[152,0,154,0],[152,1,152,2],[152,3,152,4],[153,1,153,2],[153,3,153,4],[153,5,154,5],[153,6,154,6],[154,1,154,2],[154,3,154,4],[146,0,148,0],[146,1,146,2],[146,3,146,4],[147,1,147,2],[147,3,147,4],[135,5,136,5],[135,6,136,6],[136,1,136,2],[136,3,136,4],[140,0,142,0],[140,1,140,2],[140,3,140,4],[141,1,141,2],[141,3,141,4],[141,5,142,5],[141,6,142,6],[142,1,142,2],[142,3,142,4],[134,0,136,0],[134,1,134,2],[134,3,134,4],[135,1,135,2],[135,3,135,4],[123,5,124,5],[123,6,124,6],[124,1,124,2],[124,3,124,4],[128,0,130,0],[128,1,128,2],[128,3,128,4],[129,1,129,2],[129,3,129,4],[129,5,130,5],[129,6,130,6],[130,1,130,2],[130,3,130,4],[122,0,124,0],[122,1,122,2],[122,3,122,4],[123,1,123,2],[123,3,123,4],[111,5,112,5],[111,6,112,6],[112,1,112,2],[112,3,112,4],[116,0,118,0],[116,1,116,2],[116,3,116,4],[117,1,117,2],[117,3,117,4],[117,5,118,5],[117,6,118,6],[118,1,118,2],[118,3,118,4],[110,0,112,0],[110,1,110,2],[110,3,110,4],[111,1,111,2],[111,3,111,4],[99,5,100,5],[99,6,100,6],[100,1,100,2],[100,3,100,4],[104,0,106,0],[104,1,104,2],[104,3,104,4],[105,1,105,2],[105,3,105,4],[105,5,106,5],[105,6,106,6],[106,1,106,2],[106,3,106,4],[98,0,100,0],[98,1,98,2],[98,3,98,4],[99,1,99,2],[99,3,99,4],[87,5,88,5],[87,6,88,6],[88,1,88,2],[88,3,88,4],[92,0,94,0],[92,1,92,2],[92,3,92,4],[93,1,93,2],[93,3,93,4],[93,5,94,5],[93,6,94,6],[94,1,94,2],[94,3,94,4],[86,0,88,0],[86,1,86,2],[86,3,86,4],[87,1,87,2],[87,3,87,4],[75,5,76,5],[75,6,76,6],[76,1,76,2],[76,3,76,4],[80,0,82,0],[80,1,80,2],[80,3,80,4],[81,1,81,2],[81,3,81,4],[81,5,82,5],[81,6,82,6],[82,1,82,2],[82,3,82,4],[74,0,76,0],[74,1,74,2],[74,3,74,4],[75,1,75,2],[75,3,75,4],[63,5,64,5],[63,6,64,6],[64,1,64,2],[64,3,64,4],[68,0,70,0],[68,1,68,2],[68,3,68,4],[69,1,69,2],[69,3,69,4],[69,5,70,5],[69,6,70,6],[70,1,70,2],[70,3,70,4],[62,0,64,0],[62,1,62,2],[62,3,62,4],[63,1,63,2],[63,3,63,4],[3,6,4,6],[4,1,4,2],[4,3,4,4],[8,0,10,0],[8,1,8,2],[8,3,8,4],[9,1,9,2],[9,3,9,4],[9,5,10,5],[9,6,10,6],[2,0,4,0],[2,1,2,2],[2,3,2,4],[3,1,3,2],[3,3,3,4],[3,5,4,5],[10,1,10,2],[10,3,10,4],[14,0,16,0],[14,1,14,2],[14,3,14,4],[15,1,15,2],[15,3,15,4],[15,5,16,5],[15,6,16,6],[16,1,16,2],[16,3,16,4],[20,0,22,0],[20,1,20,2],[20,3,20,4],[21,1,21,2],[21,3,21,4],[21,5,22,5],[21,6,22,6],[22,1,22,2],[22,3,22,4],[26,0,28,0],[26,1,26,2],[26,3,26,4],[27,1,27,2],[27,3,27,4],[32,0,34,0],[32,1,32,2],[32,3,32,4],[33,1,33,2],[33,3,33,4],[34,1,34,2],[34,3,34,4],[45,1,45,2],[45,3,45,4],[45,5,46,5],[45,6,46,6],[46,1,46,2],[46,3,46,4],[39,1,39,2],[39,3,39,4],[27,5,28,5],[27,6,28,6],[28,1,28,2],[28,3,28,4],[33,5,34,5],[33,6,34,6],[39,5,40,5],[39,6,40,6],[40,1,40,2],[40,3,40,4],[57,6,58,6],[58,1,58,2],[58,3,58,4],[51,5,52,5],[51,6,52,6],[52,1,52,2],[52,3,52,4],[57,5,58,5],[38,0,40,0],[38,1,38,2],[38,3,38,4],[50,0,52,0],[50,1,50,2],[50,3,50,4],[51,1,51,2],[51,3,51,4],[56,0,58,0],[56,1,56,2],[56,3,56,4],[57,1,57,2],[57,3,57,4],[44,0,46,0],[44,1,44,2],[44,3,44,4],[206,1,206,2],[206,3,206,4],[206,0,208,0],[207,1,207,2],[207,3,207,4],[207,5,208,5],[207,6,208,6],[208,1,208,2],[208,3,208,4],[212,1,212,2],[212,3,212,4],[212,0,214,0],[213,1,213,2],[213,3,213,4],[213,5,214,5],[213,6,214,6],[214,1,214,2],[214,3,214,4],[218,1,218,2],[218,3,218,4],[218,0,220,0],[219,1,219,2],[219,3,219,4],[219,5,220,5],[219,6,220,6],[220,1,220,2],[220,3,220,4],[224,1,224,2],[224,3,224,4],[224,0,226,0],[225,1,225,2],[225,3,225,4],[225,5,226,5],[225,6,226,6],[226,1,226,2],[226,3,226,4],[230,1,230,2],[230,3,230,4],[230,0,232,0],[231,1,231,2],[231,3,231,4],[231,5,232,5],[231,6,232,6],[232,1,232,2],[232,3,232,4],[236,1,236,2],[236,3,236,4],[236,0,238,0],[237,1,237,2],[237,3,237,4],[237,5,238,5],[237,6,238,6],[238,1,238,2],[238,3,238,4],[242,1,242,2],[242,3,242,4],[242,0,244,0],[243,1,243,2],[243,3,243,4],[243,5,244,5],[243,6,244,6],[244,1,244,2],[244,3,244,4],[248,1,248,2],[248,3,248,4],[248,0,250,0],[249,1,249,2],[249,3,249,4],[249,5,250,5],[249,6,250,6],[250,1,250,2],[250,3,250,4],[254,1,254,2],[254,3,254,4],[254,0,256,0],[255,1,255,2],[255,3,255,4],[255,5,256,5],[255,6,256,6],[256,1,256,2],[256,3,256,4],[260,1,260,2],[260,3,260,4],[260,0,262,0],[261,1,261,2],[261,3,261,4],[261,5,262,5],[261,6,262,6],[262,1,262,2],[262,3,262,4]]}
[]
["スタート\n№","地区中体連",{"$f":"表紙!$D$13","v":0},"市町村名",{"$f":"選手入力【男子】!$E7","v":0},"種　目","ＧＳＬ"]
[null,"学　校　名",null,"氏　　名",null,"学　年","地区ランク"]
[null,{"$f":"CONCATENATE(選手入力【男子】!$G7)","v":""},null,{"$f":"選手入力【男子】!$C7","v":0},null,{"$f":"選手入力【男子】!$D7","v":0},{"$f":"選手入力【男子】!$H7","v":0}]
[null,{"$f":"CONCATENATE(選手入力【男子】!$F7)","v":""},null,{"$f":"選手入力【男子】!$B7","v":0}]
[]
[]
["スタート\n№","地区中体連",{"$f":"表紙!$D$13","v":0},"市町村名",{"$f":"選手入力【男子】!$E8","v":0},"種　目","ＧＳＬ"]
[null,"学　校　名",null,"氏　　名",null,"学　年","地区ランク"]
[null,{"$f":"CONCATENATE(選手入力【男子】!$G8)","v":""},null,{"$f":"選手入力【男子】!$C8","v":0},null,{"$f":"選手入力【男子】!$D8","v":0},{"$f":"選手入力【男子】!$H8","v":0}]
[null,{"$f":"CONCATENATE(選手入力【男子】!$F8)","v":""},null,{"$f":"選手入力【男子】!$B8","v":0}]
[]
[]
["スタート\n№","地区中体連",{"$f":"表紙!$D$13","v":0},"市町村名",{"$f":"選手入力【男子】!$E9","v":0},"種　目","ＧＳＬ"]
[null,"学　校　名",null,"氏　　名",null,"学　年","地区ランク"]
[null,{"$f":"CONCATENATE(選手入力【男子】!$G9)","v":""},null,{"$f":"選手入力【男子】!$C9","v":0},null,{"$f":"選手入力【男子】!$D9","v":0},{"$f":"選手入力【男子】!$H9","v":0}]
[null,{"$f":"CONCATENATE(選手入力【男子】!$F9)","v":""},null,{"$f":"選手入力【男子】!$B9","v":0}]
[]
[]
["スタート\n№","地区中体連",{"$f":"表紙!$D$13","v":0},"市町村名",{"$f":"選手入力【男子】!$E10","v":0},"種　目","ＧＳＬ"]
[null,"学　校　名",null,"氏　　名",null,"学　年","地区ランク"]
[null,{"$f":"CONCATENATE(選手入力【男子】!$G10)","v":""},null,{"$f":"選手入力【男子】!$C10","v":0},null,{"$f":"選手入力【男子】!$D10","v":0},{"$f":"選手入力【男子】!$H10","v":0}]
[null,{"$f":"CONCATENATE(選手入力【男子】!$F10)","v":""},null,{"$f":"選手入力【男子】!$B10","v":0}]
[]
[]
["スタート\n№","地区中体連",{"$f":"表紙!$D$13","v":0},"市町村名",{"$f":"選手入力【男子】!$E11","v":0},"種　目","ＧＳＬ"]
[null,"学　校　名",null,"氏　　名",null,"学　年","地区ランク"]
[null,{"$f":"CONCATENATE(選手入力【男子】!$G11)","v":""},null,{"$f":"選手入力【男子】!$C11","v":0},null,{"$f":"選手入力【男子】!$D11","v":0},{"$f":"選手入力【男子】!$H11","v":0}]
[null,{"$f":"CONCATENATE(選手入力【男子】!$F11)","v":""},null,{"$f":"選手入力【男子】!$B11","v":0}]
[]
[]
["スタート\n№","地区中体連",{"$f":"表紙!$D$13","v":0},"市町村名",{"$f":"選手入力【男子】!$E12","v":0},"種　目","ＧＳＬ"]
[null,"学　校　名",null,"氏　　名",null,"学　年","地区ランク"]
[null,{"$f":"CONCATENATE(選手入力【男子】!$G12)","v":""},null,{"$f":"選手入力【男子】!$C12","v":0},null,{"$f":"選手入力【男子】!$D12","v":0},{"$f":"選手入力【男子】!$H12","v":0}]
[null,{"$f":"CONCATENATE(選手入力【男子】!$F12)","v":""},null,{"$f":"選手入力【男子】!$B12","v":0}]
[]
[]
["スタート\n№","地区中体連",{"$f":"表紙!$D$13","v":0},"市町村名",{"$f":"選手入力【男子】!$E13","v":0},"種　目","ＧＳＬ"]
[null,"学　校　名",null,"氏　　名",null,"学　年","地区ランク"]
[null,{"$f":"CONCATENATE(選手入力【男子】!$G13)","v":""},null,{"$f":"選手入力【男子】!$C13","v":0},null,{"$f":"選手入力【男子】!$D13","v":0},{"$f":"選手入力【男子】!$H13","v":0}]
[null,{"$f":"CONCATENATE(選手入力【男子】!$F13)","v":""},null,{"$f":"選手入力【男子】!$B13","v":0}]
[]
[]
["スタート\n№","地区中体連",{"$f":"表紙!$D$13","v":0},"市町村名",{"$f":"選手入力【男子】!$E14","v":0},"種　目","ＧＳＬ"]
[null,"学　校　名",null,"氏　　名",null,"学　年","地区ランク"]
[null,{"$f":"CONCATENATE(選手入力【男子】!$G14)","v":""},null,{"$f":"選手入力【男子】!$C14","v":0},null,{"$f":"選手入力【男子】!$D14","v":0},{"$f":"選手入力【男子】!$H14","v":0}]
[null,{"$f":"CONCATENATE(選手入力【男子】!$F14)","v":""},null,{"$f":"選手入力【男子】!$B14","v":0}]
[]
[]
["スタート\n№","地区中体連",{"$f":"表紙!$D$13","v":0},"市町村名",{"$f":"選手入力【男子】!$E15","v":0},"種　目","ＧＳＬ"]
[null,"学　校　名",null,"氏　　名",null,"学　年","地区ランク"]
[null,{"$f":"CONCATENATE(選手入力【男子】!$G15)","v":""},null,{"$f":"選手入力【男子】!$C15","v":0},null,{"$f":"選手入力【男子】!$D15","v":0},{"$f":"選手入力【男子】!$H15","v":0}]
[null,{"$f":"CONCATENATE(選手入力【男子】!$F15)","v":""},null,{"$f":"選手入力【男子】!$B15","v":0}]
[]
[]
["スタート\n№","地区中体連",{"$f":"表紙!$D$13","v":0},"市町村名",{"$f":"選手入力【男子】!$E16","v":0},"種　目","ＧＳＬ"]
[null,"学　校　名",null,"氏　　名",null,"学　年","地区ランク"]
[null,{"$f":"CONCATENATE(選手入力【男子】!$G16)","v":""},null,{"$f":"選手入力【男子】!$C16","v":0},null,{"$f":"選手入力【男子】!$D16","v":0},{"$f":"選手入力【男子】!$H16","v":0}]
[null,{"$f":"CONCATENATE(選手入力【男子】!$F16)","v":""},null,{"$f":"選手入力【男子】!$B16","v":0}]
[]
[]
["スタート\n№","地区中体連",{"$f":"表紙!$D$13","v":0},"市町村名",{"$f":"選手入力【男子】!$E17","v":0},"種　目","ＧＳＬ"]
[null,"学　校　名",null,"氏　　名",null,"学　年","地区ランク"]
[null,{"$f":"CONCATENATE(選手入力【男子】!$G17)","v":""},null,{"$f":"選手入力【男子】!$C17","v":0},null,{"$f":"選手入力【男子】!$D17","v":0},{"$f":"選手入力【男子】!$H17","v":0}]
[null,{"$f":"CONCATENATE(選手入力【男子】!$F17)","v":""},null,{"$f":"選手入力【男子】!$B17","v":0}]
[]
[]
["スタート\n№","地区中体連",{"$f":"表紙!$D$13","v":0},"市町村名",{"$f":"選手入力【男子】!$E18","v":0},"種　目","ＧＳＬ"]
[null,"学　校　名",null,"氏　　名",null,"学　年","地区ランク"]
[null,{"$f":"CONCATENATE(選手入力【男子】!$G18)","v":""},null,{"$f":"選手入力【男子】!$C18","v":0},null,{"$f":"選手入力【男子】!$D18","v":0},{"$f":"選手入力【男子】!$H18","v":0}]
[null,{"$f":"CONCATENATE(選手入力【男子】!$F18)","v":""},null,{"$f":"選手入力【男子】!$B18","v":0}]
[]
[]
["スタート\n№","地区中体連",{"$f":"表紙!$D$13","v":0},"市町村名",{"$f":"選手入力【男子】!$E19","v":0},"種　目","ＧＳＬ"]
[null,"学　校　名",null,"氏　　名",null,"学　年","地区ランク"]
[null,{"$f":"CONCATENATE(選手入力【男子】!$G19)","v":""},null,{"$f":"選手入力【男子】!$C19","v":0},null,{"$f":"選手入力【男子】!$D19","v":0},{"$f":"選手入力【男子】!$H19","v":0}]
[null,{"$f":"CONCATENATE(選手入力【男子】!$F19)","v":""},null,{"$f":"選手入力【男子】!$B19","v":0}]
[]
[]
["スタート\n№","地区中体連",{"$f":"表紙!$D$13","v":0},"市町村名",{"$f":"選手入力【男子】!$E20","v":0},"種　目","ＧＳＬ"]
[null,"学　校　名",null,"氏　　名",null,"学　年","地区ランク"]
[null,{"$f":"CONCATENATE(選手入力【男子】!$G20)","v":""},null,{"$f":"選手入力【男子】!$C20","v":0},null,{"$f":"選手入力【男子】!$D20","v":0},{"$f":"選手入力【男子】!$H20","v":0}]
[null,{"$f":"CONCATENATE(選手入力【男子】!$F20)","v":""},null,{"$f":"選手入力【男子】!$B20","v":0}]
[]
[]
["スタート\n№","地区中体連",{"$f":"表紙!$D$13","v":0},"市町村名",{"$f":"選手入力【男子】!$E21","v":0},"種　目","ＧＳＬ"]
[null,"学　校　名",null,"氏　　名",null,"学　年","地区ランク"]
[null,{"$f":"CONCATENATE(選手入力【男子】!$G21)","v":""},null,{"$f":"選手入力【男子】!$C21","v":0},null,{"$f":"選手入力【男子】!$D21","v":0},{"$f":"選手入力【男子】!$H21","v":0}]
[null,{"$f":"CONCATENATE(選手入力【男子】!$F21)","v":""},null,{"$f":"選手入力【男子】!$B21","v":0}]
[]
[]
["スタート\n№","地区中体連",{"$f":"表紙!$D$13","v":0},"市町村名",{"$f":"選手入力【男子】!$E22","v":0},"種　目","ＧＳＬ"]
[null,"学　校　名",null,"氏　　名",null,"学　年","地区ランク"]
[null,{"$f":"CONCATENATE(選手入力【男子】!$G22)","v":""},null,{"$f":"選手入力【男子】!$C22","v":0},null,{"$f":"選手入力【男子】!$D22","v":0},{"$f":"選手入力【男子】!$H22","v":0}]
[null,{"$f":"CONCATENATE(選手入力【男子】!$F22)","v":""},null,{"$f":"選手入力【男子】!$B22","v":0}]
[]
[]
["スタート\n№","地区中体連",{"$f":"表紙!$D$13","v":0},"市町村名",{"$f":"選手入力【男子】!$E23","v":0},"種　目","ＧＳＬ"]
[null,"学　校　名",null,"氏　　名",null,"学　年","地区ランク"]
[null,{"$f":"CONCATENATE(選手入力【男子】!$G23)","v":""},null,{"$f":"選手入力【男子】!$C23","v":0},null,{"$f":"選手入力【男子】!$D23","v":0},{"$f":"選手入力【男子】!$H23","v":0}]
[null,{"$f":"CONCATENATE(選手入力【男子】!$F23)","v":""},null,{"$f":"選手入力【男子】!$B23","v":0}]
[]
[]
["スタート\n№","地区中体連",{"$f":"表紙!$D$13","v":0},"市町村名",{"$f":"選手入力【男子】!$E24","v":0},"種　目","ＧＳＬ"]
[null,"学　校　名",null,"氏　　名",null,"学　年","地区ランク"]
[null,{"$f":"CONCATENATE(選手入力【男子】!$G24)","v":""},null,{"$f":"選手入力【男子】!$C24","v":0},null,{"$f":"選手入力【男子】!$D24","v":0},{"$f":"選手入力【男子】!$H24","v":0}]
[null,{"$f":"CONCATENATE(選手入力【男子】!$F24)","v":""},null,{"$f":"選手入力【男子】!$B24","v":0}]
[]
[]
["スタート\n№","地区中体連",{"$f":"表紙!$D$13","v":0},"市町村名",{"$f":"選手入力【男子】!$E25","v":0},"種　目","ＧＳＬ"]
[null,"学　校　名",null,"氏　　名",null,"学　年","地区ランク"]
[null,{"$f":"CONCATENATE(選手入力【男子】!$G25)","v":""},null,{"$f":"選手入力【男子】!$C25","v":0},null,{"$f":"選手入力【男子】!$D25","v":0},{"$f":"選手入力【男子】!$H25","v":0}]
[null,{"$f":"CONCATENATE(選手入力【男子】!$F25)","v":""},null,{"$f":"選手入力【男子】!$B25","v":0}]
[]
[]
["スタート\n№","地区中体連",{"$f":"表紙!$D$13","v":0},"市町村名",{"$f":"選手入力【男子】!$E26","v":0},"種　目","ＧＳＬ"]
[null,"学　校　名",null,"氏　　名",null,"学　年","地区ランク"]
[null,{"$f":"CONCATENATE(選手入力【男子】!$G26)","v":""},null,{"$f":"選手入力【男子】!$C26","v":0},null,{"$f":"選手入力【男子】!$D26","v":0},{"$f":"選手入力【男子】!$H26","v":0}]
[null,{"$f":"CONCATENATE(選手入力【男子】!$F26)","v":""},null,{"$f":"選手入力【男子】!$B26","v":0}]
[]
[]
["スタート\n№","地区中体連",{"$f":"表紙!$D$13","v":0},"市町村名",{"$f":"選手入力【男子】!$E27","v":0},"種　目","ＧＳＬ"]
[null,"学　校　名",null,"氏　　名",null,"学　年","地区ランク"]
[null,{"$f":"CONCATENATE(選手入力【男子】!$G27)","v":""},null,{"$f":"選手入力【男子】!$C27","v":0},null,{"$f":"選手入力【男子】!$D27","v":0},{"$f":"選手入力【男子】!$H27","v":0}]
[null,{"$f":"CONCATENATE(選手入力【男子】!$F27)","v":""},null,{"$f":"選手入力【男子】!$B27","v":0}]
[]
[]
["スタート\n№","地区中体連",{"$f":"表紙!$D$13","v":0},"市町村名",{"$f":"選手入力【男子】!$E28","v":0},"種　目","ＧＳＬ"]
[null,"学　校　名",null,"氏　　名",null,"学　年","地区ランク"]
[null,{"$f":"CONCATENATE(選手入力【男子】!$G28)","v":""},null,{"$f":"選手入力【男子】!$C28","v":0},null,{"$f":"選手入力【男子】!$D28","v":0},{"$f":"選手入力【男子】!$H28","v":0}]
[null,{"$f":"CONCATENATE(選手入力【男子】!$F28)","v":""},null,{"$f":"選手入力【男子】!$B28","v":0}]
[]
[]
["スタート\n№","地区中体連",{"$f":"表紙!$D$13","v":0},"市町村名",{"$f":"選手入力【男子】!$E29","v":0},"種　目","ＧＳＬ"]
[null,"学　校　名",null,"氏　　名",null,"学　年","地区ランク"]
[null,{"$f":"CONCATENATE(選手入力【男子】!$G29)","v":""},null,{"$f":"選手入力【男子】!$C29","v":0},null,{"$f":"選手入力【男子】!$D29","v":0},{"$f":"選手入力【男子】!$H29","v":0}]
[null,{"$f":"CONCATENATE(選手入力【男子】!$F29)","v":""},null,{"$f":"選手入力【男子】!$B29","v":0}]
[]
[]
["スタート\n№","地区中体連",{"$f":"表紙!$D$13","v":0},"市町村名",{"$f":"選手入力【男子】!$E30","v":0},"種　目","ＧＳＬ"]
[null,"学　校　名",null,"氏　　名",null,"学　年","地区ランク"]
[null,{"$f":"CONCATENATE(選手入力【男子】!$G30)","v":""},null,{"$f":"選手入力【男子】!$C30","v":0},null,{"$f":"選手入力【男子】!$D30","v":0},{"$f":"選手入力【男子】!$H30","v":0}]
[null,{"$f":"CONCATENATE(選手入力【男子】!$F30)","v":""},null,{"$f":"選手入力【男子】!$B30","v":0}]
[]
[]
["スタート\n№","地区中体連",{"$f":"表紙!$D$13","v":0},"市町村名",{"$f":"選手入力【男子】!$E31","v":0},"種　目","ＧＳＬ"]
[null,"学　校　名",null,"氏　　名",null,"学　年","地区ランク"]
[null,{"$f":"CONCATENATE(選手入力【男子】!$G31)","v":""},null,{"$f":"選手入力【男子】!$C31","v":0},null,{"$f":"選手入力【男子】!$D31","v":0},{"$f":"選手入力【男子】!$H31","v":0}]
[null,{"$f":"CONCATENATE(選手入力【男子】!$F31)","v":""},null,{"$f":"選手入力【男子】!$B31","v":0}]
[]
[]
["スタート\n№","地区中体連",{"$f":"表紙!$D$13","v":0},"市町村名",{"$f":"選手入力【男子】!$E32","v":0},"種　目","ＧＳＬ"]
[null,"学　校　名",null,"氏　　名",null,"学　年","地区ランク"]
[null,{"$f":"CONCATENATE(選手入力【男子】!$G32)","v":""},null,{"$f":"選手入力【男子】!$C32","v":0},null,{"$f":"選手入力【男子】!$D32","v":0},{"$f":"選手入力【男子】!$H32","v":0}]
[null,{"$f":"CONCATENATE(選手入力【男子】!$F32)","v":""},null,{"$f":"選手入力【男子】!$B32","v":0}]
[]
[]
["スタート\n№","地区中体連",{"$f":"表紙!$D$13","v":0},"市町村名",{"$f":"選手入力【男子】!$E33","v":0},"種　目","ＧＳＬ"]
[null,"学　校　名",null,"氏　　名",null,"学　年","地区ランク"]
[null,{"$f":"CONCATENATE(選手入力【男子】!$G33)","v":""},null,{"$f":"選手入力【男子】!$C33","v":0},null,{"$f":"選手入力【男子】!$D33","v":0},{"$f":"選手入力【男子】!$H33","v":0}]
[null,{"$f":"CONCATENATE(選手入力【男子】!$F33)","v":""},null,{"$f":"選手入力【男子】!$B33","v":0}]
[]
[]
["スタート\n№","地区中体連",{"$f":"表紙!$D$13","v":0},"市町村名",{"$f":"選手入力【男子】!$E34","v":0},"種　目","ＧＳＬ"]
[null,"学　校　名",null,"氏　　名",null,"学　年","地区ランク"]
[null,{"$f":"CONCATENATE(選手入力【男子】!$G34)","v":""},null,{"$f":"選手入力【男子】!$C34","v":0},null,{"$f":"選手入力【男子】!$D34","v":0},{"$f":"選手入力【男子】!$H34","v":0}]
[null,{"$f":"CONCATENATE(選手入力【男子】!$F34)","v":""},null,{"$f":"選手入力【男子】!$B34","v":0}]
[]
[]
["スタート\n№","地区中体連",{"$f":"表紙!$D$13","v":0},"市町村名",{"$f":"選手入力【男子】!$E35","v":0},"種　目","ＧＳＬ"]
[null,"学　校　名",null,"氏　　名",null,"学　年","地区ランク"]
[null,{"$f":"CONCATENATE(選手入力【男子】!$G35)","v":""},null,{"$f":"選手入力【男子】!$C35","v":0},null,{"$f":"選手入力【男子】!$D35","v":0},{"$f":"選手入力【男子】!$H35","v":0}]
[null,{"$f":"CONCATENATE(選手入力【男子】!$F35)","v":""},null,{"$f":"選手入力【男子】!$B35","v":0}]
[]
[]
["スタート\n№","地区中体連",{"$f":"表紙!$D$13","v":0},"市町村名",{"$f":"選手入力【男子】!$E36","v":0},"種　目","ＧＳＬ"]
[null,"学　校　名",null,"氏　　名",null,"学　年","地区ランク"]
[null,{"$f":"CONCATENATE(選手入力【男子】!$G36)","v":""},null,{"$f":"選手入力【男子】!$C36","v":0},null,{"$f":"選手入力【男子】!$D36","v":0},{"$f":"選手入力【男子】!$H36","v":0}]
[null,{"$f":"CONCATENATE(選手入力【男子】!$F36)","v":""},null,{"$f":"選手入力【男子】!$B36","v":0}]
[]
[]
["スタート\n№","地区中体連",{"$f":"表紙!$D$13","v":0},"市町村名",{"$f":"選手入力【男子】!$E37","v":0},"種　目","ＧＳＬ"]
[null,"学　校　名",null,"氏　　名",null,"学　年","地区ランク"]
[null,{"$f":"CONCATENATE(選手入力【男子】!$G37)","v":""},null,{"$f":"選手入力【男子】!$C37","v":0},null,{"$f":"選手入力【男子】!$D37","v":0},{"$f":"選手入力【男子】!$H37","v":0}]
[null,{"$f":"CONCATENATE(選手入力【男子】!$F37)","v":""},null,{"$f":"選手入力【男子】!$B37","v":0}]
[]
[]
["スタート\n№","地区中体連",{"$f":"表紙!$D$13","v":0},"市町村名",{"$f":"選手入力【男子】!$E38","v":0},"種　目","ＧＳＬ"]
[null,"学　校　名",null,"氏　　名",null,"学　年","地区ランク"]
[null,{"$f":"CONCATENATE(選手入力【男子】!$G38)","v":""},null,{"$f":"選手入力【男子】!$C38","v":0},null,{"$f":"選手入力【男子】!$D38","v":0},{"$f":"選手入力【男子】!$H38","v":0}]
[null,{"$f":"CONCATENATE(選手入力【男子】!$F38)","v":""},null,{"$f":"選手入力【男子】!$B38","v":0}]
[]
[]
["スタート\n№","地区中体連",{"$f":"表紙!$D$13","v":0},"市町村名",{"$f":"選手入力【男子】!$E39","v":0},"種　目","ＧＳＬ"]
[null,"学　校　名",null,"氏　　名",null,"学　年","地区ランク"]
[null,{"$f":"CONCATENATE(選手入力【男子】!$G39)","v":""},null,{"$f":"選手入力【男子】!$C39","v":0},null,{"$f":"選手入力【男子】!$D39","v":0},{"$f":"選手入力【男子】!$H39","v":0}]
[null,{"$f":"CONCATENATE(選手入力【男子】!$F39)","v":""},null,{"$f":"選手入力【男子】!$B39","v":0}]
[]
[]
["スタート\n№","地区中体連",{"$f":"表紙!$D$13","v":0},"市町村名",{"$f":"選手入力【男子】!$E40","v":0},"種　目","ＧＳＬ"]
[null,"学　校　名",null,"氏　　名",null,"学　年","地区ランク"]
[null,{"$f":"CONCATENATE(選手入力【男子】!$G40)","v":""},null,{"$f":"選手入力【男子】!$C40","v":0},null,{"$f":"選手入力【男子】!$D40","v":0},{"$f":"選手入力【男子】!$H40","v":0}]
[null,{"$f":"CONCATENATE(選手入力【男子】!$F40)","v":""},null,{"$f":"選手入力【男子】!$B40","v":0}]
[]
[]
["スタート\n№","地区中体連",{"$f":"表紙!$D$13","v":0},"市町村名",{"$f":"選手入力【男子】!$E41","v":0},"種　目","ＧＳＬ"]
[null,"学　校　名",null,"氏　　名",null,"学　年","地区ランク"]
[null,{"$f":"CONCATENATE(選手入力【男子】!$G41)","v":""},null,{"$f":"選手入力【男子】!$C41","v":0},null,{"$f":"選手入力【男子】!$D41","v":0},{"$f":"選手入力【男子】!$H41","v":0}]
[null,{"$f":"CONCATENATE(選手入力【男子】!$F41)","v":""},null,{"$f":"選手入力【男子】!$B41","v":0}]
[]
[]
["スタート\n№","地区中体連",{"$f":"表紙!$D$13","v":0},"市町村名",{"$f":"選手入力【男子】!$E42","v":0},"種　目","ＧＳＬ"]
[null,"学　校　名",null,"氏　　名",null,"学　年","地区ランク"]
[null,{"$f":"CONCATENATE(選手入力【男子】!$G42)","v":""},null,{"$f":"選手入力【男子】!$C42","v":0},null,{"$f":"選手入力【男子】!$D42","v":0},{"$f":"選手入力【男子】!$H42","v":0}]
[null,{"$f":"CONCATENATE(選手入力【男子】!$F42)","v":""},null,{"$f":"選手入力【男子】!$B42","v":0}]
[]
[]
["スタート\n№","地区中体連",{"$f":"表紙!$D$13","v":0},"市町村名",{"$f":"選手入力【男子】!$E43","v":0},"種　目","ＧＳＬ"]
[null,"学　校　名",null,"氏　　名",null,"学　年","地区ランク"]
[null,{"$f":"CONCATENATE(選手入力【男子】!$G43)","v":""},null,{"$f":"選手入力【男子】!$C43","v":0},null,{"$f":"選手入力【男子】!$D43","v":0},{"$f":"選手入力【男子】!$H43","v":0}]
[null,{"$f":"CONCATENATE(選手入力【男子】!$F43)","v":""},null,{"$f":"選手入力【男子】!$B43","v":0}]
[]
[]
["スタート\n№","地区中体連",{"$f":"表紙!$D$13","v":0},"市町村名",{"$f":"選手入力【男子】!$E44","v":0},"種　目","ＧＳＬ"]
[null,"学　校　名",null,"氏　　名",null,"学　年","地区ランク"]
[null,{"$f":"CONCATENATE(選手入力【男子】!$G44)","v":""},null,{"$f":"選手入力【男子】!$C44","v":0},null,{"$f":"選手入力【男子】!$D44","v":0},{"$f":"選手入力【男子】!$H44","v":0}]
[null,{"$f":"CONCATENATE(選手入力【男子】!$F44)","v":""},null,{"$f":"選手入力【男子】!$B44","v":0}]
[]
[]
["スタート\n№","地区中体連",{"$f":"表紙!$D$13","v":0},"市町村名",{"$f":"選手入力【男子】!$E45","v":0},"種　目","ＧＳＬ"]
[null,"学　校　名",null,"氏　　名",null,"学　年","地区ランク"]
[null,{"$f":"CONCATENATE(選手入力【男子】!$G45)","v":""},null,{"$f":"選手入力【男子】!$C45","v":0},null,{"$f":"選手入力【男子】!$D45","v":0},{"$f":"選手入力【男子】!$H45","v":0}]
[null,{"$f":"CONCATENATE(選手入力【男子】!$F45)","v":""},null,{"$f":"選手入力【男子】!$B45","v":0}]
[]
[]
["スタート\n№","地区中体連",{"$f":"表紙!$D$13","v":0},"市町村名",{"$f":"選手入力【男子】!$E46","v":0},"種　目","ＧＳＬ"]
[null,"学　校　名",null,"氏　　名",null,"学　年","地区ランク"]
[null,{"$f":"CONCATENATE(選手入力【男子】!$G46)","v":""},null,{"$f":"選手入力【男子】!$C46","v":0},null,{"$f":"選手入力【男子】!$D46","v":0},{"$f":"選手入力【男子】!$H46","v":0}]
[null,{"$f":"CONCATENATE(選手入力【男子】!$F46)","v":""},null,{"$f":"選手入力【男子】!$B46","v":0}]
[]
[]
["スタート\n№","地区中体連",{"$f":"表紙!$D$13","v":0},"市町村名",{"$f":"選手入力【男子】!$E47","v":0},"種　目","ＧＳＬ"]
[null,"学　校　名",null,"氏　　名",null,"学　年","地区ランク"]
[null,{"$f":"CONCATENATE(選手入力【男子】!$G47)","v":""},null,{"$f":"選手入力【男子】!$C47","v":0},null,{"$f":"選手入力【男子】!$D47","v":0},{"$f":"選手入力【男子】!$H47","v":0}]
[null,{"$f":"CONCATENATE(選手入力【男子】!$F47)","v":""},null,{"$f":"選手入力【男子】!$B47","v":0}]
[]
[]
["スタート\n№","地区中体連",{"$f":"表紙!$D$13","v":0},"市町村名",{"$f":"選手入力【男子】!$E48","v":0},"種　目","ＧＳＬ"]
[null,"学　校　名",null,"氏　　名",null,"学　年","地区ランク"]
[null,{"$f":"CONCATENATE(選手入力【男子】!$G48)","v":""},null,{"$f":"選手入力【男子】!$C48","v":0},null,{"$f":"選手入力【男子】!$D48","v":0},{"$f":"選手入力【男子】!$H48","v":0}]
[null,{"$f":"CONCATENATE(選手入力【男子】!$F48)","v":""},null,{"$f":"選手入力【男子】!$B48","v":0}]
[]
[]
["スタート\n№","地区中体連",{"$f":"表紙!$D$13","v":0},"市町村名",{"$f":"選手入力【男子】!$E49","v":0},"種　目","ＧＳＬ"]
[null,"学　校　名",null,"氏　　名",null,"学　年","地区ランク"]
[null,{"$f":"CONCATENATE(選手入力【男子】!$G49)","v":""},null,{"$f":"選手入力【男子】!$C49","v":0},null,{"$f":"選手入力【男子】!$D49","v":0},{"$f":"選手入力【男子】!$H49","v":0}]
[null,{"$f":"CONCATENATE(選手入力【男子】!$F49)","v":""},null,{"$f":"選手入力【男子】!$B49","v":0}]
[]
[]
["スタート\n№","地区中体連",{"$f":"表紙!$D$13","v":0},"市町村名",{"$f":"選手入力【男子】!$E60","v":0},"種　目","ＧＳＬ"]
[null,"学　校　名",null,"氏　　名",null,"学　年","地区ランク"]
[null,{"$f":"CONCATENATE(選手入力【男子】!$G50)","v":""},null,{"$f":"選手入力【男子】!$C50","v":0},null,{"$f":"選手入力【男子】!$D50","v":0},{"$f":"選手入力【男子】!$H50","v":0}]
[null,{"$f":"CONCATENATE(選手入力【男子】!$F50)","v":""},null,{"$f":"選手入力【男子】!$B50","v":0}]
[]
[]
["スタート\n№","地区中体連",{"$f":"表紙!$D$13","v":0},"市町村名",{"$f":"選手入力【男子】!$E51","v":0},"種　目","ＧＳＬ"]
[null,"学　校　名",null,"氏　　名",null,"学　年","地区ランク"]
[null,{"$f":"CONCATENATE(選手入力【男子】!$G51)","v":""},null,{"$f":"選手入力【男子】!$C51","v":0},null,{"$f":"選手入力【男子】!$D51","v":0},{"$f":"選手入力【男子】!$H51","v":0}]
[null,{"$f":"CONCATENATE(選手入力【男子】!$F51)","v":""},null,{"$f":"選手入力【男子】!$B51","v":0}]

{"sheet":"男子SL","index":7,"n_rows":269,"n_cols":7,"rows_kept":269,"cut":false,"hidden":true,"merged":[[200,0,202,0],[200,1,200,2],[200,3,200,4],[201,1,201,2],[201,3,201,4],[201,5,202,5],[201,6,202,6],[202,1,202,2],[202,3,202,4],[194,0,196,0],[194,1,194,2],[194,3,194,4],[195,1,195,2],[195,3,195,4],[195,5,196,5],[195,6,196,6],[196,1,196,2],[196,3,196,4],[10,1,10,2],[10,3,10,4],[14,0,16,0],[14,1,14,2],[14,3,14,4],[15,1,15,2],[15,3,15,4],[3,6,4,6],[4,1,4,2],[4,3,4,4],[8,0,10,0],[8,1,8,2],[8,3,8,4],[9,1,9,2],[9,3,9,4],[9,5,10,5],[9,6,10,6],[2,0,4,0],[2,1,2,2],[2,3,2,4],[3,1,3,2],[3,3,3,4],[3,5,4,5],[15,5,16,5],[15,6,16,6],[16,1,16,2],[16,3,16,4],[20,0,22,0],[20,1,20,2],[20,3,20,4],[21,1,21,2],[21,3,21,4],[21,5,22,5],[28,1,28,2],[28,3,28,4],[32,0,34,0],[32,1,32,2],[32,3,32,4],[33,1,33,2],[33,3,33,4],[21,6,22,6],[22,1,22,2],[22,3,22,4],[26,0,28,0],[26,1,26,2],[26,3,26,4],[27,1,27,2],[27,3,27,4],[27,5,28,5],[27,6,28,6],[33,5,34,5],[33,6,34,6],[34,1,34,2],[34,3,34,4],[39,6,40,6],[40,1,40,2],[40,3,40,4],[44,0,46,0],[44,1,44,2],[44,3,44,4],[45,1,45,2],[45,3,45,4],[45,5,46,5],[45,6,46,6],[38,0,40,0],[38,1,38,2],[38,3,38,4],[39,1,39,2],[39,3,39,4],[39,5,40,5],[46,1,46,2],[46,3,46,4],[51,6,52,6],[52,1,52,2],[52,3,52,4],[56,0,58,0],[56,1,56,2],[56,3,56,4],[57,1,57,2],[57,3,57,4],[57,5,58,5],[50,0,52,0],[50,1,50,2],[50,3,50,4],[51,1,51,2],[51,3,51,4],[51,5,52,5],[64,1,64,2],[64,3,64,4],[68,0,70,0],[68,1,68,2],[68,3,68,4],[69,1,69,2],[69,3,69,4],[57,6,58,6],[58,1,58,2],[58,3,58,4],[62,0,64,0],[62,1,62,2],[62,3,62,4],[63,1,63,2],[63,3,63,4],[63,5,64,5],[63,6,64,6],[69,5,70,5],[69,6,70,6],[70,1,70,2],[70,3,70,4],[75,6,76,6],[76,1,76,2],[76,3,76,4],[80,0,82,0],[80,1,80,2],[80,3,80,4],[81,1,81,2],[81,3,81,4],[81,5,82,5],[81,6,82,6],[74,0,76,0],[74,1,74,2],[74,3,74,4],[75,1,75,2],[75,3,75,4],[75,5,76,5],[82,1,82,2],[82,3,82,4],[87,6,88,6],[88,1,88,2],[88,3,88,4],[92,0,94,0],[92,1,92,2],[92,3,92,4],[93,1,93,2],[93,3,93,4],[93,5,94,5],[86,0,88,0],[86,1,86,2],[86,3,86,4],[87,1,87,2],[87,3,87,4],[87,5,88,5],[100,1,100,2],[100,3,100,4],[104,0,106,0],[104,1,104,2],[104,3,104,4],[105,1,105,2],[105,3,105,4],[93,6,94,6],[94,1,94,2],[94,3,94,4],[98,0,100,0],[98,1,98,2],[98,3,98,4],[99,1,99,2],[99,3,99,4],[99,5,100,5],[99,6,100,6],[105,5,106,5],[105,6,106,6],[106,1,106,2],[106,3,106,4],[111,6,112,6],[112,1,112,2],[112,3,112,4],[116,0,118,0],[116,1,116,2],[116,3,116,4],[117,1,117,2],[117,3,117,4],[117,5,118,5],[117,6,118,6],[110,0,112,0],[110,1,110,2],[110,3,110,4],[111,1,111,2],[111,3,111,4],[111,5,112,5],[118,1,118,2],[118,3,118,4],[123,6,124,6],[124,1,124,2],[124,3,124,4],[128,0,130,0],[128,1,128,2],[128,3,128,4],[129,1,129,2],[129,3,129,4],[129,5,130,5],[122,0,124,0],[122,1,122,2],[122,3,122,4],[123,1,123,2],[123,3,123,4],[123,5,124,5],[136,1,136,2],[136,3,136,4],[140,0,142,0],[140,1,140,2],[140,3,140,4],[141,1,141,2],[141,3,141,4],[129,6,130,6],[130,1,130,2],[130,3,130,4],[134,0,136,0],[134,1,134,2],[134,3,134,4],[135,1,135,2],[135,3,135,4],[135,5,136,5],[135,6,136,6],[141,5,142,5],[141,6,142,6],[142,1,142,2],[142,3,142,4],[147,6,148,6],[148,1,148,2],[148,3,148,4],[152,0,154,0],[152,1,152,2],[152,3,152,4],[153,1,153,2],[153,3,153,4],[153,5,154,5],[153,6,154,6],[146,0,148,0],[146,1,146,2],[146,3,146,4],[147,1,147,2],[147,3,147,4],[147,5,148,5],[154,1,154,2],[154,3,154,4],[159,6,160,6],[160,1,160,2],[160,3,160,4],[164,0,166,0],[164,1,164,2],[164,3,164,4],[165,1,165,2],[165,3,165,4],[165,5,166,5],[165,6,166,6],[166,1,166,2],[166,3,166,4],[158,0,160,0],[158,1,158,2],[158,3,158,4],[159,1,159,2],[159,3,159,4],[159,5,160,5],[267,5,268,5],[267,6,268,6],[268,1,268,2],[268,3,268,4],[172,1,172,2],[172,3,172,4],[266,0,268,0],[266,1,266,2],[266,3,266,4],[267,1,267,2],[267,3,267,4],[176,0,178,0],[176,1,176,2],[176,3,176,4],[177,1,177,2],[177,3,177,4],[177,5,178,5],[177,6,178,6],[178,1,178,2],[178,3,178,4],[182,0,184,0],[182,1,182,2],[182,3,182,4],[183,1,183,2],[249,3,249,4],[249,5,250,5],[249,6,250,6],[170,0,172,0],[170,1,170,2],[170,3,170,4],[171,1,171,2],[171,3,171,4],[171,5,172,5],[171,6,172,6],[183,3,183,4],[183,5,184,5],[183,6,184,6],[184,1,184,2],[184,3,184,4],[188,0,190,0],[188,1,188,2],[188,3,188,4],[189,1,189,2],[189,3,189,4],[189,5,190,5],[189,6,190,6],[190,1,190,2],[190,3,190,4],[207,5,208,5],[207,6,208,6],[262,1,262,2],[262,3,262,4],[260,0,262,0],[261,1,261,2],[261,3,261,4],[261,5,262,5],[261,6,262,6],[256,1,256,2],[256,3,256,4],[260,1,260,2],[260,3,260,4],[254,0,256,0],[255,1,255,2],[255,3,255,4],[255,5,256,5],[255,6,256,6],[250,1,250,2],[250,3,250,4],[254,1,254,2],[254,3,254,4],[248,0,250,0],[249,1,249,2],[212,3,212,4],[213,1,213,2],[213,3,213,4],[208,1,208,2],[208,3,208,4],[206,0,208,0],[206,1,206,2],[206,3,206,4],[207,1,207,2],[207,3,207,4],[232,1,232,2],[232,3,232,4],[236,1,236,2],[236,3,236,4],[230,0,232,0],[231,1,231,2],[231,3,231,4],[231,5,232,5],[231,6,232,6],[230,1,230,2],[230,3,230,4],[238,1,238,2],[238,3,238,4],[242,1,242,2],[242,3,242,4],[236,0,238,0],[237,1,237,2],[237,3,237,4],[237,5,238,5],[237,6,238,6],[244,1,244,2],[244,3,244,4],[248,1,248,2],[248,3,248,4],[242,0,244,0],[243,1,243,2],[243,3,243,4],[243,5,244,5],[243,6,244,6],[213,5,214,5],[213,6,214,6],[218,0,220,0],[219,1,219,2],[219,3,219,4],[219,5,220,5],[219,6,220,6],[224,0,226,0],[225,1,225,2],[225,3,225,4],[225,5,226,5],[225,6,226,6],[226,1,226,2],[226,3,226,4],[220,1,220,2],[220,3,220,4],[224,1,224,2],[224,3,224,4],[214,1,214,2],[214,3,214,4],[218,1,218,2],[218,3,218,4],[212,0,214,0],[212,1,212,2]]}
[]
["スタート\n№","地区中体連",{"$f":"表紙!$D$13","v":0},"市町村名",{"$f":"選手入力【男子】!$E7","v":0},"種　目","ＳＬ"]
[null,"学　校　名",null,"氏　　名",null,"学　年","地区ランク"]
[null,{"$f":"CONCATENATE(選手入力【男子】!$G7)","v":""},null,{"$f":"選手入力【男子】!$C7","v":0},null,{"$f":"選手入力【男子】!$D7","v":0},{"$f":"選手入力【男子】!$I7","v":0}]
[null,{"$f":"CONCATENATE(選手入力【男子】!$F7)","v":""},null,{"$f":"選手入力【男子】!$B7","v":0}]
[]
[]
["スタート\n№","地区中体連",{"$f":"表紙!$D$13","v":0},"市町村名",{"$f":"選手入力【男子】!$E8","v":0},"種　目","ＳＬ"]
[null,"学　校　名",null,"氏　　名",null,"学　年","地区ランク"]
[null,{"$f":"CONCATENATE(選手入力【男子】!$G8)","v":""},null,{"$f":"選手入力【男子】!$C8","v":0},null,{"$f":"選手入力【男子】!$D8","v":0},{"$f":"選手入力【男子】!$I8","v":0}]
[null,{"$f":"CONCATENATE(選手入力【男子】!$F8)","v":""},null,{"$f":"選手入力【男子】!$B8","v":0}]
[]
[]
["スタート\n№","地区中体連",{"$f":"表紙!$D$13","v":0},"市町村名",{"$f":"選手入力【男子】!$E9","v":0},"種　目","ＳＬ"]
[null,"学　校　名",null,"氏　　名",null,"学　年","地区ランク"]
[null,{"$f":"CONCATENATE(選手入力【男子】!$G9)","v":""},null,{"$f":"選手入力【男子】!$C9","v":0},null,{"$f":"選手入力【男子】!$D9","v":0},{"$f":"選手入力【男子】!$I9","v":0}]
[null,{"$f":"CONCATENATE(選手入力【男子】!$F9)","v":""},null,{"$f":"選手入力【男子】!$B9","v":0}]
[]
[]
["スタート\n№","地区中体連",{"$f":"表紙!$D$13","v":0},"市町村名",{"$f":"選手入力【男子】!$E10","v":0},"種　目","ＳＬ"]
[null,"学　校　名",null,"氏　　名",null,"学　年","地区ランク"]
[null,{"$f":"CONCATENATE(選手入力【男子】!$G10)","v":""},null,{"$f":"選手入力【男子】!$C10","v":0},null,{"$f":"選手入力【男子】!$D10","v":0},{"$f":"選手入力【男子】!$I10","v":0}]
[null,{"$f":"CONCATENATE(選手入力【男子】!$F10)","v":""},null,{"$f":"選手入力【男子】!$B10","v":0}]
[]
[]
["スタート\n№","地区中体連",{"$f":"表紙!$D$13","v":0},"市町村名",{"$f":"選手入力【男子】!$E11","v":0},"種　目","ＳＬ"]
[null,"学　校　名",null,"氏　　名",null,"学　年","地区ランク"]
[null,{"$f":"CONCATENATE(選手入力【男子】!$G11)","v":""},null,{"$f":"選手入力【男子】!$C11","v":0},null,{"$f":"選手入力【男子】!$D11","v":0},{"$f":"選手入力【男子】!$I11","v":0}]
[null,{"$f":"CONCATENATE(選手入力【男子】!$F11)","v":""},null,{"$f":"選手入力【男子】!$B11","v":0}]
[]
[]
["スタート\n№","地区中体連",{"$f":"表紙!$D$13","v":0},"市町村名",{"$f":"選手入力【男子】!$E12","v":0},"種　目","ＳＬ"]
[null,"学　校　名",null,"氏　　名",null,"学　年","地区ランク"]
[null,{"$f":"CONCATENATE(選手入力【男子】!$G12)","v":""},null,{"$f":"選手入力【男子】!$C12","v":0},null,{"$f":"選手入力【男子】!$D12","v":0},{"$f":"選手入力【男子】!$I12","v":0}]
[null,{"$f":"CONCATENATE(選手入力【男子】!$F12)","v":""},null,{"$f":"選手入力【男子】!$B12","v":0}]
[]
[]
["スタート\n№","地区中体連",{"$f":"表紙!$D$13","v":0},"市町村名",{"$f":"選手入力【男子】!$E13","v":0},"種　目","ＳＬ"]
[null,"学　校　名",null,"氏　　名",null,"学　年","地区ランク"]
[null,{"$f":"CONCATENATE(選手入力【男子】!$G13)","v":""},null,{"$f":"選手入力【男子】!$C13","v":0},null,{"$f":"選手入力【男子】!$D13","v":0},{"$f":"選手入力【男子】!$I13","v":0}]
[null,{"$f":"CONCATENATE(選手入力【男子】!$F13)","v":""},null,{"$f":"選手入力【男子】!$B13","v":0}]
[]
[]
["スタート\n№","地区中体連",{"$f":"表紙!$D$13","v":0},"市町村名",{"$f":"選手入力【男子】!$E14","v":0},"種　目","ＳＬ"]
[null,"学　校　名",null,"氏　　名",null,"学　年","地区ランク"]
[null,{"$f":"CONCATENATE(選手入力【男子】!$G14)","v":""},null,{"$f":"選手入力【男子】!$C14","v":0},null,{"$f":"選手入力【男子】!$D14","v":0},{"$f":"選手入力【男子】!$I14","v":0}]
[null,{"$f":"CONCATENATE(選手入力【男子】!$F14)","v":""},null,{"$f":"選手入力【男子】!$B14","v":0}]
[]
[]
["スタート\n№","地区中体連",{"$f":"表紙!$D$13","v":0},"市町村名",{"$f":"選手入力【男子】!$E15","v":0},"種　目","ＳＬ"]
[null,"学　校　名",null,"氏　　名",null,"学　年","地区ランク"]
[null,{"$f":"CONCATENATE(選手入力【男子】!$G15)","v":""},null,{"$f":"選手入力【男子】!$C15","v":0},null,{"$f":"選手入力【男子】!$D15","v":0},{"$f":"選手入力【男子】!$I15","v":0}]
[null,{"$f":"CONCATENATE(選手入力【男子】!$F15)","v":""},null,{"$f":"選手入力【男子】!$B15","v":0}]
[]
[]
["スタート\n№","地区中体連",{"$f":"表紙!$D$13","v":0},"市町村名",{"$f":"選手入力【男子】!$E16","v":0},"種　目","ＳＬ"]
[null,"学　校　名",null,"氏　　名",null,"学　年","地区ランク"]
[null,{"$f":"CONCATENATE(選手入力【男子】!$G16)","v":""},null,{"$f":"選手入力【男子】!$C16","v":0},null,{"$f":"選手入力【男子】!$D16","v":0},{"$f":"選手入力【男子】!$I16","v":0}]
[null,{"$f":"CONCATENATE(選手入力【男子】!$F16)","v":""},null,{"$f":"選手入力【男子】!$B16","v":0}]
[]
[]
["スタート\n№","地区中体連",{"$f":"表紙!$D$13","v":0},"市町村名",{"$f":"選手入力【男子】!$E17","v":0},"種　目","ＳＬ"]
[null,"学　校　名",null,"氏　　名",null,"学　年","地区ランク"]
[null,{"$f":"CONCATENATE(選手入力【男子】!$G17)","v":""},null,{"$f":"選手入力【男子】!$C17","v":0},null,{"$f":"選手入力【男子】!$D17","v":0},{"$f":"選手入力【男子】!$I17","v":0}]
[null,{"$f":"CONCATENATE(選手入力【男子】!$F17)","v":""},null,{"$f":"選手入力【男子】!$B17","v":0}]
[]
[]
["スタート\n№","地区中体連",{"$f":"表紙!$D$13","v":0},"市町村名",{"$f":"選手入力【男子】!$E18","v":0},"種　目","ＳＬ"]
[null,"学　校　名",null,"氏　　名",null,"学　年","地区ランク"]
[null,{"$f":"CONCATENATE(選手入力【男子】!$G18)","v":""},null,{"$f":"選手入力【男子】!$C18","v":0},null,{"$f":"選手入力【男子】!$D18","v":0},{"$f":"選手入力【男子】!$I18","v":0}]
[null,{"$f":"CONCATENATE(選手入力【男子】!$F18)","v":""},null,{"$f":"選手入力【男子】!$B18","v":0}]
[]
[]
["スタート\n№","地区中体連",{"$f":"表紙!$D$13","v":0},"市町村名",{"$f":"選手入力【男子】!$E19","v":0},"種　目","ＳＬ"]
[null,"学　校　名",null,"氏　　名",null,"学　年","地区ランク"]
[null,{"$f":"CONCATENATE(選手入力【男子】!$G19)","v":""},null,{"$f":"選手入力【男子】!$C19","v":0},null,{"$f":"選手入力【男子】!$D19","v":0},{"$f":"選手入力【男子】!$I19","v":0}]
[null,{"$f":"CONCATENATE(選手入力【男子】!$F19)","v":""},null,{"$f":"選手入力【男子】!$B19","v":0}]
[]
[]
["スタート\n№","地区中体連",{"$f":"表紙!$D$13","v":0},"市町村名",{"$f":"選手入力【男子】!$E20","v":0},"種　目","ＳＬ"]
[null,"学　校　名",null,"氏　　名",null,"学　年","地区ランク"]
[null,{"$f":"CONCATENATE(選手入力【男子】!$G20)","v":""},null,{"$f":"選手入力【男子】!$C20","v":0},null,{"$f":"選手入力【男子】!$D20","v":0},{"$f":"選手入力【男子】!$I20","v":0}]
[null,{"$f":"CONCATENATE(選手入力【男子】!$F20)","v":""},null,{"$f":"選手入力【男子】!$B20","v":0}]
[]
[]
["スタート\n№","地区中体連",{"$f":"表紙!$D$13","v":0},"市町村名",{"$f":"選手入力【男子】!$E21","v":0},"種　目","ＳＬ"]
[null,"学　校　名",null,"氏　　名",null,"学　年","地区ランク"]
[null,{"$f":"CONCATENATE(選手入力【男子】!$G21)","v":""},null,{"$f":"選手入力【男子】!$C21","v":0},null,{"$f":"選手入力【男子】!$D21","v":0},{"$f":"選手入力【男子】!$I21","v":0}]
[null,{"$f":"CONCATENATE(選手入力【男子】!$F21)","v":""},null,{"$f":"選手入力【男子】!$B21","v":0}]
[]
[]
["スタート\n№","地区中体連",{"$f":"表紙!$D$13","v":0},"市町村名",{"$f":"選手入力【男子】!$E22","v":0},"種　目","ＳＬ"]
[null,"学　校　名",null,"氏　　名",null,"学　年","地区ランク"]
[null,{"$f":"CONCATENATE(選手入力【男子】!$G22)","v":""},null,{"$f":"選手入力【男子】!$C22","v":0},null,{"$f":"選手入力【男子】!$D22","v":0},{"$f":"選手入力【男子】!$I22","v":0}]
[null,{"$f":"CONCATENATE(選手入力【男子】!$F22)","v":""},null,{"$f":"選手入力【男子】!$B22","v":0}]
[]
[]
["スタート\n№","地区中体連",{"$f":"表紙!$D$13","v":0},"市町村名",{"$f":"選手入力【男子】!$E23","v":0},"種　目","ＳＬ"]
[null,"学　校　名",null,"氏　　名",null,"学　年","地区ランク"]
[null,{"$f":"CONCATENATE(選手入力【男子】!$G23)","v":""},null,{"$f":"選手入力【男子】!$C23","v":0},null,{"$f":"選手入力【男子】!$D23","v":0},{"$f":"選手入力【男子】!$I23","v":0}]
[null,{"$f":"CONCATENATE(選手入力【男子】!$F23)","v":""},null,{"$f":"選手入力【男子】!$B23","v":0}]
[]
[]
["スタート\n№","地区中体連",{"$f":"表紙!$D$13","v":0},"市町村名",{"$f":"選手入力【男子】!$E24","v":0},"種　目","ＳＬ"]
[null,"学　校　名",null,"氏　　名",null,"学　年","地区ランク"]
[null,{"$f":"CONCATENATE(選手入力【男子】!$G24)","v":""},null,{"$f":"選手入力【男子】!$C24","v":0},null,{"$f":"選手入力【男子】!$D24","v":0},{"$f":"選手入力【男子】!$I24","v":0}]
[null,{"$f":"CONCATENATE(選手入力【男子】!$F24)","v":""},null,{"$f":"選手入力【男子】!$B24","v":0}]
[]
[]
["スタート\n№","地区中体連",{"$f":"表紙!$D$13","v":0},"市町村名",{"$f":"選手入力【男子】!$E25","v":0},"種　目","ＳＬ"]
[null,"学　校　名",null,"氏　　名",null,"学　年","地区ランク"]
[null,{"$f":"CONCATENATE(選手入力【男子】!$G25)","v":""},null,{"$f":"選手入力【男子】!$C25","v":0},null,{"$f":"選手入力【男子】!$D25","v":0},{"$f":"選手入力【男子】!$I25","v":0}]
[null,{"$f":"CONCATENATE(選手入力【男子】!$F25)","v":""},null,{"$f":"選手入力【男子】!$B25","v":0}]
[]
[]
["スタート\n№","地区中体連",{"$f":"表紙!$D$13","v":0},"市町村名",{"$f":"選手入力【男子】!$E26","v":0},"種　目","ＳＬ"]
[null,"学　校　名",null,"氏　　名",null,"学　年","地区ランク"]
[null,{"$f":"CONCATENATE(選手入力【男子】!$G26)","v":""},null,{"$f":"選手入力【男子】!$C26","v":0},null,{"$f":"選手入力【男子】!$D26","v":0},{"$f":"選手入力【男子】!$I26","v":0}]
[null,{"$f":"CONCATENATE(選手入力【男子】!$F26)","v":""},null,{"$f":"選手入力【男子】!$B26","v":0}]
[]
[]
["スタート\n№","地区中体連",{"$f":"表紙!$D$13","v":0},"市町村名",{"$f":"選手入力【男子】!$E27","v":0},"種　目","ＳＬ"]
[null,"学　校　名",null,"氏　　名",null,"学　年","地区ランク"]
[null,{"$f":"CONCATENATE(選手入力【男子】!$G27)","v":""},null,{"$f":"選手入力【男子】!$C27","v":0},null,{"$f":"選手入力【男子】!$D27","v":0},{"$f":"選手入力【男子】!$I27","v":0}]
[null,{"$f":"CONCATENATE(選手入力【男子】!$F27)","v":""},null,{"$f":"選手入力【男子】!$B27","v":0}]
[]
[]
["スタート\n№","地区中体連",{"$f":"表紙!$D$13","v":0},"市町村名",{"$f":"選手入力【男子】!$E28","v":0},"種　目","ＳＬ"]
[null,"学　校　名",null,"氏　　名",null,"学　年","地区ランク"]
[null,{"$f":"CONCATENATE(選手入力【男子】!$G28)","v":""},null,{"$f":"選手入力【男子】!$C28","v":0},null,{"$f":"選手入力【男子】!$D28","v":0},{"$f":"選手入力【男子】!$I28","v":0}]
[null,{"$f":"CONCATENATE(選手入力【男子】!$F28)","v":""},null,{"$f":"選手入力【男子】!$B28","v":0}]
[]
[]
["スタート\n№","地区中体連",{"$f":"表紙!$D$13","v":0},"市町村名",{"$f":"選手入力【男子】!$E29","v":0},"種　目","ＳＬ"]
[null,"学　校　名",null,"氏　　名",null,"学　年","地区ランク"]
[null,{"$f":"CONCATENATE(選手入力【男子】!$G29)","v":""},null,{"$f":"選手入力【男子】!$C29","v":0},null,{"$f":"選手入力【男子】!$D29","v":0},{"$f":"選手入力【男子】!$I29","v":0}]
[null,{"$f":"CONCATENATE(選手入力【男子】!$F29)","v":""},null,{"$f":"選手入力【男子】!$B29","v":0}]
[]
[]
["スタート\n№","地区中体連",{"$f":"表紙!$D$13","v":0},"市町村名",{"$f":"選手入力【男子】!$E30","v":0},"種　目","ＳＬ"]
[null,"学　校　名",null,"氏　　名",null,"学　年","地区ランク"]
[null,{"$f":"CONCATENATE(選手入力【男子】!$G30)","v":""},null,{"$f":"選手入力【男子】!$C30","v":0},null,{"$f":"選手入力【男子】!$D30","v":0},{"$f":"選手入力【男子】!$I30","v":0}]
[null,{"$f":"CONCATENATE(選手入力【男子】!$F30)","v":""},null,{"$f":"選手入力【男子】!$B30","v":0}]
[]
[]
["スタート\n№","地区中体連",{"$f":"表紙!$D$13","v":0},"市町村名",{"$f":"選手入力【男子】!$E31","v":0},"種　目","ＳＬ"]
[null,"学　校　名",null,"氏　　名",null,"学　年","地区ランク"]
[null,{"$f":"CONCATENATE(選手入力【男子】!$G31)","v":""},null,{"$f":"選手入力【男子】!$C31","v":0},null,{"$f":"選手入力【男子】!$D31","v":0},{"$f":"選手入力【男子】!$I31","v":0}]
[null,{"$f":"CONCATENATE(選手入力【男子】!$F31)","v":""},null,{"$f":"選手入力【男子】!$B31","v":0}]
[]
[]
["スタート\n№","地区中体連",{"$f":"表紙!$D$13","v":0},"市町村名",{"$f":"選手入力【男子】!$E32","v":0},"種　目","ＳＬ"]
[null,"学　校　名",null,"氏　　名",null,"学　年","地区ランク"]
[null,{"$f":"CONCATENATE(選手入力【男子】!$G32)","v":""},null,{"$f":"選手入力【男子】!$C32","v":0},null,{"$f":"選手入力【男子】!$D32","v":0},{"$f":"選手入力【男子】!$I32","v":0}]
[null,{"$f":"CONCATENATE(選手入力【男子】!$F32)","v":""},null,{"$f":"選手入力【男子】!$B32","v":0}]
[]
[]
["スタート\n№","地区中体連",{"$f":"表紙!$D$13","v":0},"市町村名",{"$f":"選手入力【男子】!$E33","v":0},"種　目","ＳＬ"]
[null,"学　校　名",null,"氏　　名",null,"学　年","地区ランク"]
[null,{"$f":"CONCATENATE(選手入力【男子】!$G33)","v":""},null,{"$f":"選手入力【男子】!$C33","v":0},null,{"$f":"選手入力【男子】!$D33","v":0},{"$f":"選手入力【男子】!$I33","v":0}]
[null,{"$f":"CONCATENATE(選手入力【男子】!$F33)","v":""},null,{"$f":"選手入力【男子】!$B33","v":0}]
[]
[]
["スタート\n№","地区中体連",{"$f":"表紙!$D$13","v":0},"市町村名",{"$f":"選手入力【男子】!$E34","v":0},"種　目","ＳＬ"]
[null,"学　校　名",null,"氏　　名",null,"学　年","地区ランク"]
[null,{"$f":"CONCATENATE(選手入力【男子】!$G34)","v":""},null,{"$f":"選手入力【男子】!$C34","v":0},null,{"$f":"選手入力【男子】!$D34","v":0},{"$f":"選手入力【男子】!$I34","v":0}]
[null,{"$f":"CONCATENATE(選手入力【男子】!$F34)","v":""},null,{"$f":"選手入力【男子】!$B34","v":0}]
[]
[]
["スタート\n№","地区中体連",{"$f":"表紙!$D$13","v":0},"市町村名",{"$f":"選手入力【男子】!$E35","v":0},"種　目","ＳＬ"]
[null,"学　校　名",null,"氏　　名",null,"学　年","地区ランク"]
[null,{"$f":"CONCATENATE(選手入力【男子】!$G35)","v":""},null,{"$f":"選手入力【男子】!$C35","v":0},null,{"$f":"選手入力【男子】!$D35","v":0},{"$f":"選手入力【男子】!$I35","v":0}]
[null,{"$f":"CONCATENATE(選手入力【男子】!$F35)","v":""},null,{"$f":"選手入力【男子】!$B35","v":0}]
[]
[]
["スタート\n№","地区中体連",{"$f":"表紙!$D$13","v":0},"市町村名",{"$f":"選手入力【男子】!$E36","v":0},"種　目","ＳＬ"]
[null,"学　校　名",null,"氏　　名",null,"学　年","地区ランク"]
[null,{"$f":"CONCATENATE(選手入力【男子】!$G36)","v":""},null,{"$f":"選手入力【男子】!$C36","v":0},null,{"$f":"選手入力【男子】!$D36","v":0},{"$f":"選手入力【男子】!$I36","v":0}]
[null,{"$f":"CONCATENATE(選手入力【男子】!$F36)","v":""},null,{"$f":"選手入力【男子】!$B36","v":0}]
[]
[]
["スタート\n№","地区中体連",{"$f":"表紙!$D$13","v":0},"市町村名",{"$f":"選手入力【男子】!$E37","v":0},"種　目","ＳＬ"]
[null,"学　校　名",null,"氏　　名",null,"学　年","地区ランク"]
[null,{"$f":"CONCATENATE(選手入力【男子】!$G37)","v":""},null,{"$f":"選手入力【男子】!$C37","v":0},null,{"$f":"選手入力【男子】!$D37","v":0},{"$f":"選手入力【男子】!$I37","v":0}]
[null,{"$f":"CONCATENATE(選手入力【男子】!$F37)","v":""},null,{"$f":"選手入力【男子】!$B37","v":0}]
[]
[]
["スタート\n№","地区中体連",{"$f":"表紙!$D$13","v":0},"市町村名",{"$f":"選手入力【男子】!$E38","v":0},"種　目","ＳＬ"]
[null,"学　校　名",null,"氏　　名",null,"学　年","地区ランク"]
[null,{"$f":"CONCATENATE(選手入力【男子】!$G38)","v":""},null,{"$f":"選手入力【男子】!$C38","v":0},null,{"$f":"選手入力【男子】!$D38","v":0},{"$f":"選手入力【男子】!$I38","v":0}]
[null,{"$f":"CONCATENATE(選手入力【男子】!$F38)","v":""},null,{"$f":"選手入力【男子】!$B38","v":0}]
[]
[]
["スタート\n№","地区中体連",{"$f":"表紙!$D$13","v":0},"市町村名",{"$f":"選手入力【男子】!$E39","v":0},"種　目","ＳＬ"]
[null,"学　校　名",null,"氏　　名",null,"学　年","地区ランク"]
[null,{"$f":"CONCATENATE(選手入力【男子】!$G39)","v":""},null,{"$f":"選手入力【男子】!$C39","v":0},null,{"$f":"選手入力【男子】!$D39","v":0},{"$f":"選手入力【男子】!$I39","v":0}]
[null,{"$f":"CONCATENATE(選手入力【男子】!$F39)","v":""},null,{"$f":"選手入力【男子】!$B39","v":0}]
[]
[]
["スタート\n№","地区中体連",{"$f":"表紙!$D$13","v":0},"市町村名",{"$f":"選手入力【男子】!$E40","v":0},"種　目","ＳＬ"]
[null,"学　校　名",null,"氏　　名",null,"学　年","地区ランク"]
[null,{"$f":"CONCATENATE(選手入力【男子】!$G40)","v":""},null,{"$f":"選手入力【男子】!$C40","v":0},null,{"$f":"選手入力【男子】!$D40","v":0},{"$f":"選手入力【男子】!$I40","v":0}]
[null,{"$f":"CONCATENATE(選手入力【男子】!$F40)","v":""},null,{"$f":"選手入力【男子】!$B40","v":0}]
[]
[]
["スタート\n№","地区中体連",{"$f":"表紙!$D$13","v":0},"市町村名",{"$f":"選手入力【男子】!$E41","v":0},"種　目","ＳＬ"]
[null,"学　校　名",null,"氏　　名",null,"学　年","地区ランク"]
[null,{"$f":"CONCATENATE(選手入力【男子】!$G41)","v":""},null,{"$f":"選手入力【男子】!$C41","v":0},null,{"$f":"選手入力【男子】!$D41","v":0},{"$f":"選手入力【男子】!$I41","v":0}]
[null,{"$f":"CONCATENATE(選手入力【男子】!$F41)","v":""},null,{"$f":"選手入力【男子】!$B41","v":0}]
[]
[]
["スタート\n№","地区中体連",{"$f":"表紙!$D$13","v":0},"市町村名",{"$f":"選手入力【男子】!$E42","v":0},"種　目","ＳＬ"]
[null,"学　校　名",null,"氏　　名",null,"学　年","地区ランク"]
[null,{"$f":"CONCATENATE(選手入力【男子】!$G42)","v":""},null,{"$f":"選手入力【男子】!$C42","v":0},null,{"$f":"選手入力【男子】!$D42","v":0},{"$f":"選手入力【男子】!$I42","v":0}]
[null,{"$f":"CONCATENATE(選手入力【男子】!$F42)","v":""},null,{"$f":"選手入力【男子】!$B42","v":0}]
[]
[]
["スタート\n№","地区中体連",{"$f":"表紙!$D$13","v":0},"市町村名",{"$f":"選手入力【男子】!$E43","v":0},"種　目","ＳＬ"]
[null,"学　校　名",null,"氏　　名",null,"学　年","地区ランク"]
[null,{"$f":"CONCATENATE(選手入力【男子】!$G43)","v":""},null,{"$f":"選手入力【男子】!$C43","v":0},null,{"$f":"選手入力【男子】!$D43","v":0},{"$f":"選手入力【男子】!$I43","v":0}]
[null,{"$f":"CONCATENATE(選手入力【男子】!$F43)","v":""},null,{"$f":"選手入力【男子】!$B43","v":0}]
[]
[]
["スタート\n№","地区中体連",{"$f":"表紙!$D$13","v":0},"市町村名",{"$f":"選手入力【男子】!$E44","v":0},"種　目","ＳＬ"]
[null,"学　校　名",null,"氏　　名",null,"学　年","地区ランク"]
[null,{"$f":"CONCATENATE(選手入力【男子】!$G44)","v":""},null,{"$f":"選手入力【男子】!$C44","v":0},null,{"$f":"選手入力【男子】!$D44","v":0},{"$f":"選手入力【男子】!$I44","v":0}]
[null,{"$f":"CONCATENATE(選手入力【男子】!$F44)","v":""},null,{"$f":"選手入力【男子】!$B44","v":0}]
[]
[]
["スタート\n№","地区中体連",{"$f":"表紙!$D$13","v":0},"市町村名",{"$f":"選手入力【男子】!$E45","v":0},"種　目","ＳＬ"]
[null,"学　校　名",null,"氏　　名",null,"学　年","地区ランク"]
[null,{"$f":"CONCATENATE(選手入力【男子】!$G45)","v":""},null,{"$f":"選手入力【男子】!$C45","v":0},null,{"$f":"選手入力【男子】!$D45","v":0},{"$f":"選手入力【男子】!$I45","v":0}]
[null,{"$f":"CONCATENATE(選手入力【男子】!$F45)","v":""},null,{"$f":"選手入力【男子】!$B45","v":0}]
[]
[]
["スタート\n№","地区中体連",{"$f":"表紙!$D$13","v":0},"市町村名",{"$f":"選手入力【男子】!$E46","v":0},"種　目","ＳＬ"]
[null,"学　校　名",null,"氏　　名",null,"学　年","地区ランク"]
[null,{"$f":"CONCATENATE(選手入力【男子】!$G46)","v":""},null,{"$f":"選手入力【男子】!$C46","v":0},null,{"$f":"選手入力【男子】!$D46","v":0},{"$f":"選手入力【男子】!$I46","v":0}]
[null,{"$f":"CONCATENATE(選手入力【男子】!$F46)","v":""},null,{"$f":"選手入力【男子】!$B46","v":0}]
[]
[]
["スタート\n№","地区中体連",{"$f":"表紙!$D$13","v":0},"市町村名",{"$f":"選手入力【男子】!$E47","v":0},"種　目","ＳＬ"]
[null,"学　校　名",null,"氏　　名",null,"学　年","地区ランク"]
[null,{"$f":"CONCATENATE(選手入力【男子】!$G47)","v":""},null,{"$f":"選手入力【男子】!$C47","v":0},null,{"$f":"選手入力【男子】!$D47","v":0},{"$f":"選手入力【男子】!$I47","v":0}]
[null,{"$f":"CONCATENATE(選手入力【男子】!$F47)","v":""},null,{"$f":"選手入力【男子】!$B47","v":0}]
[]
[]
["スタート\n№","地区中体連",{"$f":"表紙!$D$13","v":0},"市町村名",{"$f":"選手入力【男子】!$E48","v":0},"種　目","ＳＬ"]
[null,"学　校　名",null,"氏　　名",null,"学　年","地区ランク"]
[null,{"$f":"CONCATENATE(選手入力【男子】!$G48)","v":""},null,{"$f":"選手入力【男子】!$C48","v":0},null,{"$f":"選手入力【男子】!$D48","v":0},{"$f":"選手入力【男子】!$I48","v":0}]
[null,{"$f":"CONCATENATE(選手入力【男子】!$F48)","v":""},null,{"$f":"選手入力【男子】!$B48","v":0}]
[]
[]
["スタート\n№","地区中体連",{"$f":"表紙!$D$13","v":0},"市町村名",{"$f":"選手入力【男子】!$E49","v":0},"種　目","ＳＬ"]
[null,"学　校　名",null,"氏　　名",null,"学　年","地区ランク"]
[null,{"$f":"CONCATENATE(選手入力【男子】!$G49)","v":""},null,{"$f":"選手入力【男子】!$C49","v":0},null,{"$f":"選手入力【男子】!$D49","v":0},{"$f":"選手入力【男子】!$I49","v":0}]
[null,{"$f":"CONCATENATE(選手入力【男子】!$F49)","v":""},null,{"$f":"選手入力【男子】!$B49","v":0}]
[]
[]
["スタート\n№","地区中体連",{"$f":"表紙!$D$13","v":0},"市町村名",{"$f":"選手入力【男子】!$E50","v":0},"種　目","ＳＬ"]
[null,"学　校　名",null,"氏　　名",null,"学　年","地区ランク"]
[null,{"$f":"CONCATENATE(選手入力【男子】!$G50)","v":""},null,{"$f":"選手入力【男子】!$C50","v":0},null,{"$f":"選手入力【男子】!$D50","v":0},{"$f":"選手入力【男子】!$I50","v":0}]
[null,{"$f":"CONCATENATE(選手入力【男子】!$F50)","v":""},null,{"$f":"選手入力【男子】!$B50","v":0}]
[]
[]
["スタート\n№","地区中体連",{"$f":"表紙!$D$13","v":0},"市町村名",{"$f":"選手入力【男子】!$E51","v":0},"種　目","ＳＬ"]
[null,"学　校　名",null,"氏　　名",null,"学　年","地区ランク"]
[null,{"$f":"CONCATENATE(選手入力【男子】!$G51)","v":""},null,{"$f":"選手入力【男子】!$C51","v":0},null,{"$f":"選手入力【男子】!$D51","v":0},{"$f":"選手入力【男子】!$I51","v":0}]
[null,{"$f":"CONCATENATE(選手入力【男子】!$F51)","v":""},null,{"$f":"選手入力【男子】!$B51","v":0}]

{"sheet":"女子GSL","index":8,"n_rows":269,"n_cols":7,"rows_kept":269,"cut":false,"hidden":true,"merged":[[200,0,202,0],[200,1,200,2],[200,3,200,4],[201,1,201,2],[201,3,201,4],[201,5,202,5],[201,6,202,6],[202,1,202,2],[202,3,202,4],[194,0,196,0],[194,1,194,2],[194,3,194,4],[195,1,195,2],[195,3,195,4],[195,5,196,5],[195,6,196,6],[196,1,196,2],[196,3,196,4],[188,0,190,0],[188,1,188,2],[188,3,188,4],[189,1,189,2],[189,3,189,4],[189,5,190,5],[189,6,190,6],[190,1,190,2],[190,3,190,4],[177,6,178,6],[178,1,178,2],[178,3,178,4],[182,0,184,0],[182,1,182,2],[182,3,182,4],[183,1,183,2],[183,3,183,4],[183,5,184,5],[183,6,184,6],[184,1,184,2],[184,3,184,4],[10,1,10,2],[10,3,10,4],[14,0,16,0],[14,1,14,2],[14,3,14,4],[15,1,15,2],[15,3,15,4],[3,6,4,6],[4,1,4,2],[4,3,4,4],[8,0,10,0],[8,1,8,2],[8,3,8,4],[9,1,9,2],[9,3,9,4],[9,5,10,5],[9,6,10,6],[2,0,4,0],[2,1,2,2],[2,3,2,4],[3,1,3,2],[3,3,3,4],[3,5,4,5],[15,5,16,5],[15,6,16,6],[16,1,16,2],[16,3,16,4],[20,0,22,0],[20,1,20,2],[20,3,20,4],[21,1,21,2],[21,3,21,4],[21,5,22,5],[28,1,28,2],[28,3,28,4],[32,0,34,0],[32,1,32,2],[32,3,32,4],[33,1,33,2],[33,3,33,4],[21,6,22,6],[22,1,22,2],[22,3,22,4],[26,0,28,0],[26,1,26,2],[26,3,26,4],[27,1,27,2],[27,3,27,4],[27,5,28,5],[27,6,28,6],[33,5,34,5],[33,6,34,6],[34,1,34,2],[34,3,34,4],[39,6,40,6],[40,1,40,2],[40,3,40,4],[44,0,46,0],[44,1,44,2],[44,3,44,4],[45,1,45,2],[45,3,45,4],[45,5,46,5],[45,6,46,6],[38,0,40,0],[38,1,38,2],[38,3,38,4],[39,1,39,2],[39,3,39,4],[39,5,40,5],[46,1,46,2],[46,3,46,4],[51,6,52,6],[52,1,52,2],[52,3,52,4],[56,0,58,0],[56,1,56,2],[56,3,56,4],[57,1,57,2],[57,3,57,4],[57,5,58,5],[50,0,52,0],[50,1,50,2],[50,3,50,4],[51,1,51,2],[51,3,51,4],[51,5,52,5],[64,1,64,2],[64,3,64,4],[68,0,70,0],[68,1,68,2],[68,3,68,4],[69,1,69,2],[69,3,69,4],[57,6,58,6],[58,1,58,2],[58,3,58,4],[62,0,64,0],[62,1,62,2],[62,3,62,4],[63,1,63,2],[63,3,63,4],[63,5,64,5],[63,6,64,6],[69,5,70,5],[69,6,70,6],[70,1,70,2],[70,3,70,4],[75,6,76,6],[76,1,76,2],[76,3,76,4],[80,0,82,0],[80,1,80,2],[80,3,80,4],[81,1,81,2],[81,3,81,4],[81,5,82,5],[81,6,82,6],[74,0,76,0],[74,1,74,2],[74,3,74,4],[75,1,75,2],[75,3,75,4],[75,5,76,5],[82,1,82,2],[82,3,82,4],[87,6,88,6],[88,1,88,2],[88,3,88,4],[92,0,94,0],[92,1,92,2],[92,3,92,4],[93,1,93,2],[93,3,93,4],[93,5,94,5],[86,0,88,0],[86,1,86,2],[86,3,86,4],[87,1,87,2],[87,3,87,4],[87,5,88,5],[100,1,100,2],[100,3,100,4],[104,0,106,0],[104,1,104,2],[104,3,104,4],[105,1,105,2],[105,3,105,4],[93,6,94,6],[94,1,94,2],[94,3,94,4],[98,0,100,0],[98,1,98,2],[98,3,98,4],[99,1,99,2],[99,3,99,4],[99,5,100,5],[99,6,100,6],[105,5,106,5],[105,6,106,6],[106,1,106,2],[106,3,106,4],[111,6,112,6],[112,1,112,2],[112,3,112,4],[116,0,118,0],[116,1,116,2],[116,3,116,4],[117,1,117,2],[117,3,117,4],[117,5,118,5],[117,6,118,6],[110,0,112,0],[110,1,110,2],[110,3,110,4],[111,1,111,2],[111,3,111,4],[111,5,112,5],[118,1,118,2],[118,3,118,4],[123,6,124,6],[124,1,124,2],[124,3,124,4],[128,0,130,0],[128,1,128,2],[128,3,128,4],[129,1,129,2],[129,3,129,4],[129,5,130,5],[122,0,124,0],[122,1,122,2],[122,3,122,4],[123,1,123,2],[123,3,123,4],[123,5,124,5],[136,1,136,2],[136,3,136,4],[140,0,142,0],[140,1,140,2],[140,3,140,4],[141,1,141,2],[141,3,141,4],[129,6,130,6],[130,1,130,2],[130,3,130,4],[134,0,136,0],[134,1,134,2],[134,3,134,4],[135,1,135,2],[135,3,135,4],[135,5,136,5],[135,6,136,6],[141,5,142,5],[141,6,142,6],[142,1,142,2],[142,3,142,4],[147,6,148,6],[148,1,148,2],[148,3,148,4],[152,0,154,0],[152,1,152,2],[152,3,152,4],[153,1,153,2],[153,3,153,4],[153,5,154,5],[153,6,154,6],[146,0,148,0],[146,1,146,2],[146,3,146,4],[147,1,147,2],[147,3,147,4],[147,5,148,5],[154,1,154,2],[154,3,154,4],[159,6,160,6],[160,1,160,2],[160,3,160,4],[164,0,166,0],[164,1,164,2],[164,3,164,4],[165,1,165,2],[165,3,165,4],[165,5,166,5],[165,6,166,6],[166,1,166,2],[166,3,166,4],[158,0,160,0],[158,1,158,2],[158,3,158,4],[159,1,159,2],[159,3,159,4],[159,5,160,5],[170,0,172,0],[170,1,170,2],[170,3,170,4],[171,1,171,2],[171,3,171,4],[171,5,172,5],[171,6,172,6],[267,5,268,5],[267,6,268,6],[268,1,268,2],[268,3,268,4],[172,1,172,2],[172,3,172,4],[266,0,268,0],[266,1,266,2],[266,3,266,4],[267,1,267,2],[267,3,267,4],[176,0,178,0],[176,1,176,2],[176,3,176,4],[177,1,177,2],[177,3,177,4],[177,5,178,5],[206,0,208,0],[206,1,206,2],[206,3,206,4],[207,1,207,2],[207,3,207,4],[207,5,208,5],[207,6,208,6],[208,1,208,2],[208,3,208,4],[212,0,214,0],[212,1,212,2],[212,3,212,4],[213,1,213,2],[213,3,213,4],[213,5,214,5],[213,6,214,6],[214,1,214,2],[214,3,214,4],[218,0,220,0],[218,1,218,2],[218,3,218,4],[219,1,219,2],[219,3,219,4],[219,5,220,5],[219,6,220,6],[220,1,220,2],[220,3,220,4],[224,0,226,0],[224,1,224,2],[224,3,224,4],[225,1,225,2],[225,3,225,4],[225,5,226,5],[225,6,226,6],[226,1,226,2],[226,3,226,4],[230,0,232,0],[230,1,230,2],[230,3,230,4],[231,1,231,2],[231,3,231,4],[231,5,232,5],[231,6,232,6],[232,1,232,2],[232,3,232,4],[236,0,238,0],[236,1,236,2],[236,3,236,4],[237,1,237,2],[237,3,237,4],[237,5,238,5],[237,6,238,6],[238,1,238,2],[238,3,238,4],[242,0,244,0],[242,1,242,2],[242,3,242,4],[243,1,243,2],[243,3,243,4],[243,5,244,5],[243,6,244,6],[244,1,244,2],[244,3,244,4],[248,0,250,0],[248,1,248,2],[248,3,248,4],[249,1,249,2],[249,3,249,4],[249,5,250,5],[249,6,250,6],[250,1,250,2],[250,3,250,4],[254,0,256,0],[254,1,254,2],[254,3,254,4],[255,1,255,2],[255,3,255,4],[255,5,256,5],[255,6,256,6],[256,1,256,2],[256,3,256,4],[260,0,262,0],[260,1,260,2],[260,3,260,4],[261,1,261,2],[261,3,261,4],[261,5,262,5],[261,6,262,6],[262,1,262,2],[262,3,262,4]]}
[]
["スタート\n№","地区中体連",{"$f":"表紙!$D$13","v":0},"市町村名",{"$f":"選手入力【女子】!$E7","v":0},"種　目","ＧＳＬ"]
[null,"学　校　名",null,"氏　　名",null,"学　年","地区ランク"]
[null,{"$f":"CONCATENATE(選手入力【女子】!$G7)","v":""},null,{"$f":"選手入力【女子】!$C7","v":0},null,{"$f":"選手入力【女子】!$D7","v":0},{"$f":"選手入力【女子】!$H7","v":0}]
[null,{"$f":"CONCATENATE(選手入力【女子】!$F7)","v":""},null,{"$f":"選手入力【女子】!$B7","v":0}]
[]
[]
["スタート\n№","地区中体連",{"$f":"表紙!$D$13","v":0},"市町村名",{"$f":"選手入力【女子】!$E8","v":0},"種　目","ＧＳＬ"]
[null,"学　校　名",null,"氏　　名",null,"学　年","地区ランク"]
[null,{"$f":"CONCATENATE(選手入力【女子】!$G8)","v":""},null,{"$f":"選手入力【女子】!$C8","v":0},null,{"$f":"選手入力【女子】!$D8","v":0},{"$f":"選手入力【女子】!$H8","v":0}]
[null,{"$f":"CONCATENATE(選手入力【女子】!$F8)","v":""},null,{"$f":"選手入力【女子】!$B8","v":0}]
[]
[]
["スタート\n№","地区中体連",{"$f":"表紙!$D$13","v":0},"市町村名",{"$f":"選手入力【女子】!$E9","v":0},"種　目","ＧＳＬ"]
[null,"学　校　名",null,"氏　　名",null,"学　年","地区ランク"]
[null,{"$f":"CONCATENATE(選手入力【女子】!$G9)","v":""},null,{"$f":"選手入力【女子】!$C9","v":0},null,{"$f":"選手入力【女子】!$D9","v":0},{"$f":"選手入力【女子】!$H9","v":0}]
[null,{"$f":"CONCATENATE(選手入力【女子】!$F9)","v":""},null,{"$f":"選手入力【女子】!$B9","v":0}]
[]
[]
["スタート\n№","地区中体連",{"$f":"表紙!$D$13","v":0},"市町村名",{"$f":"選手入力【女子】!$E10","v":0},"種　目","ＧＳＬ"]
[null,"学　校　名",null,"氏　　名",null,"学　年","地区ランク"]
[null,{"$f":"CONCATENATE(選手入力【女子】!$G10)","v":""},null,{"$f":"選手入力【女子】!$C10","v":0},null,{"$f":"選手入力【女子】!$D10","v":0},{"$f":"選手入力【女子】!$H10","v":0}]
[null,{"$f":"CONCATENATE(選手入力【女子】!$F10)","v":""},null,{"$f":"選手入力【女子】!$B10","v":0}]
[]
[]
["スタート\n№","地区中体連",{"$f":"表紙!$D$13","v":0},"市町村名",{"$f":"選手入力【女子】!$E11","v":0},"種　目","ＧＳＬ"]
[null,"学　校　名",null,"氏　　名",null,"学　年","地区ランク"]
[null,{"$f":"CONCATENATE(選手入力【女子】!$G11)","v":""},null,{"$f":"選手入力【女子】!$C11","v":0},null,{"$f":"選手入力【女子】!$D11","v":0},{"$f":"選手入力【女子】!$H11","v":0}]
[null,{"$f":"CONCATENATE(選手入力【女子】!$F11)","v":""},null,{"$f":"選手入力【女子】!$B11","v":0}]
[]
[]
["スタート\n№","地区中体連",{"$f":"表紙!$D$13","v":0},"市町村名",{"$f":"選手入力【女子】!$E12","v":0},"種　目","ＧＳＬ"]
[null,"学　校　名",null,"氏　　名",null,"学　年","地区ランク"]
[null,{"$f":"CONCATENATE(選手入力【女子】!$G12)","v":""},null,{"$f":"選手入力【女子】!$C12","v":0},null,{"$f":"選手入力【女子】!$D12","v":0},{"$f":"選手入力【女子】!$H12","v":0}]
[null,{"$f":"CONCATENATE(選手入力【女子】!$F12)","v":""},null,{"$f":"選手入力【女子】!$B12","v":0}]
[]
[]
["スタート\n№","地区中体連",{"$f":"表紙!$D$13","v":0},"市町村名",{"$f":"選手入力【女子】!$E13","v":0},"種　目","ＧＳＬ"]
[null,"学　校　名",null,"氏　　名",null,"学　年","地区ランク"]
[null,{"$f":"CONCATENATE(選手入力【女子】!$G13)","v":""},null,{"$f":"選手入力【女子】!$C13","v":0},null,{"$f":"選手入力【女子】!$D13","v":0},{"$f":"選手入力【女子】!$H13","v":0}]
[null,{"$f":"CONCATENATE(選手入力【女子】!$F13)","v":""},null,{"$f":"選手入力【女子】!$B13","v":0}]
[]
[]
["スタート\n№","地区中体連",{"$f":"表紙!$D$13","v":0},"市町村名",{"$f":"選手入力【女子】!$E14","v":0},"種　目","ＧＳＬ"]
[null,"学　校　名",null,"氏　　名",null,"学　年","地区ランク"]
[null,{"$f":"CONCATENATE(選手入力【女子】!$G14)","v":""},null,{"$f":"選手入力【女子】!$C14","v":0},null,{"$f":"選手入力【女子】!$D14","v":0},{"$f":"選手入力【女子】!$H14","v":0}]
[null,{"$f":"CONCATENATE(選手入力【女子】!$F14)","v":""},null,{"$f":"選手入力【女子】!$B14","v":0}]
[]
[]
["スタート\n№","地区中体連",{"$f":"表紙!$D$13","v":0},"市町村名",{"$f":"選手入力【女子】!$E15","v":0},"種　目","ＧＳＬ"]
[null,"学　校　名",null,"氏　　名",null,"学　年","地区ランク"]
[null,{"$f":"CONCATENATE(選手入力【女子】!$G15)","v":""},null,{"$f":"選手入力【女子】!$C15","v":0},null,{"$f":"選手入力【女子】!$D15","v":0},{"$f":"選手入力【女子】!$H15","v":0}]
[null,{"$f":"CONCATENATE(選手入力【女子】!$F15)","v":""},null,{"$f":"選手入力【女子】!$B15","v":0}]
[]
[]
["スタート\n№","地区中体連",{"$f":"表紙!$D$13","v":0},"市町村名",{"$f":"選手入力【女子】!$E16","v":0},"種　目","ＧＳＬ"]
[null,"学　校　名",null,"氏　　名",null,"学　年","地区ランク"]
[null,{"$f":"CONCATENATE(選手入力【女子】!$G16)","v":""},null,{"$f":"選手入力【女子】!$C16","v":0},null,{"$f":"選手入力【女子】!$D16","v":0},{"$f":"選手入力【女子】!$H16","v":0}]
[null,{"$f":"CONCATENATE(選手入力【女子】!$F16)","v":""},null,{"$f":"選手入力【女子】!$B16","v":0}]
[]
[]
["スタート\n№","地区中体連",{"$f":"表紙!$D$13","v":0},"市町村名",{"$f":"選手入力【女子】!$E17","v":0},"種　目","ＧＳＬ"]
[null,"学　校　名",null,"氏　　名",null,"学　年","地区ランク"]
[null,{"$f":"CONCATENATE(選手入力【女子】!$G17)","v":""},null,{"$f":"選手入力【女子】!$C17","v":0},null,{"$f":"選手入力【女子】!$D17","v":0},{"$f":"選手入力【女子】!$H17","v":0}]
[null,{"$f":"CONCATENATE(選手入力【女子】!$F17)","v":""},null,{"$f":"選手入力【女子】!$B17","v":0}]
[]
[]
["スタート\n№","地区中体連",{"$f":"表紙!$D$13","v":0},"市町村名",{"$f":"選手入力【女子】!$E18","v":0},"種　目","ＧＳＬ"]
[null,"学　校　名",null,"氏　　名",null,"学　年","地区ランク"]
[null,{"$f":"CONCATENATE(選手入力【女子】!$G18)","v":""},null,{"$f":"選手入力【女子】!$C18","v":0},null,{"$f":"選手入力【女子】!$D18","v":0},{"$f":"選手入力【女子】!$H18","v":0}]
[null,{"$f":"CONCATENATE(選手入力【女子】!$F18)","v":""},null,{"$f":"選手入力【女子】!$B18","v":0}]
[]
[]
["スタート\n№","地区中体連",{"$f":"表紙!$D$13","v":0},"市町村名",{"$f":"選手入力【女子】!$E19","v":0},"種　目","ＧＳＬ"]
[null,"学　校　名",null,"氏　　名",null,"学　年","地区ランク"]
[null,{"$f":"CONCATENATE(選手入力【女子】!$G1)","v":""},null,{"$f":"選手入力【女子】!$C19","v":0},null,{"$f":"選手入力【女子】!$D19","v":0},{"$f":"選手入力【女子】!$H19","v":0}]
[null,{"$f":"CONCATENATE(選手入力【女子】!$F19)","v":""},null,{"$f":"選手入力【女子】!$B19","v":0}]
[]
[]
["スタート\n№","地区中体連",{"$f":"表紙!$D$13","v":0},"市町村名",{"$f":"選手入力【女子】!$E20","v":0},"種　目","ＧＳＬ"]
[null,"学　校　名",null,"氏　　名",null,"学　年","地区ランク"]
[null,{"$f":"CONCATENATE(選手入力【女子】!$G20)","v":""},null,{"$f":"選手入力【女子】!$C20","v":0},null,{"$f":"選手入力【女子】!$D20","v":0},{"$f":"選手入力【女子】!$H20","v":0}]
[null,{"$f":"CONCATENATE(選手入力【女子】!$F20)","v":""},null,{"$f":"選手入力【女子】!$B20","v":0}]
[]
[]
["スタート\n№","地区中体連",{"$f":"表紙!$D$13","v":0},"市町村名",{"$f":"選手入力【女子】!$E21","v":0},"種　目","ＧＳＬ"]
[null,"学　校　名",null,"氏　　名",null,"学　年","地区ランク"]
[null,{"$f":"CONCATENATE(選手入力【女子】!$G21)","v":""},null,{"$f":"選手入力【女子】!$C21","v":0},null,{"$f":"選手入力【女子】!$D21","v":0},{"$f":"選手入力【女子】!$H21","v":0}]
[null,{"$f":"CONCATENATE(選手入力【女子】!$F21)","v":""},null,{"$f":"選手入力【女子】!$B21","v":0}]
[]
[]
["スタート\n№","地区中体連",{"$f":"表紙!$D$13","v":0},"市町村名",{"$f":"選手入力【女子】!$E22","v":0},"種　目","ＧＳＬ"]
[null,"学　校　名",null,"氏　　名",null,"学　年","地区ランク"]
[null,{"$f":"CONCATENATE(選手入力【女子】!$G22)","v":""},null,{"$f":"選手入力【女子】!$C22","v":0},null,{"$f":"選手入力【女子】!$D22","v":0},{"$f":"選手入力【女子】!$H22","v":0}]
[null,{"$f":"CONCATENATE(選手入力【女子】!$F22)","v":""},null,{"$f":"選手入力【女子】!$B22","v":0}]
[]
[]
["スタート\n№","地区中体連",{"$f":"表紙!$D$13","v":0},"市町村名",{"$f":"選手入力【女子】!$E23","v":0},"種　目","ＧＳＬ"]
[null,"学　校　名",null,"氏　　名",null,"学　年","地区ランク"]
[null,{"$f":"CONCATENATE(選手入力【女子】!$G23)","v":""},null,{"$f":"選手入力【女子】!$C23","v":0},null,{"$f":"選手入力【女子】!$D23","v":0},{"$f":"選手入力【女子】!$H23","v":0}]
[null,{"$f":"CONCATENATE(選手入力【女子】!$F23)","v":""},null,{"$f":"選手入力【女子】!$B23","v":0}]
[]
[]
["スタート\n№","地区中体連",{"$f":"表紙!$D$13","v":0},"市町村名",{"$f":"選手入力【女子】!$E24","v":0},"種　目","ＧＳＬ"]
[null,"学　校　名",null,"氏　　名",null,"学　年","地区ランク"]
[null,{"$f":"CONCATENATE(選手入力【女子】!$G24)","v":""},null,{"$f":"選手入力【女子】!$C24","v":0},null,{"$f":"選手入力【女子】!$D24","v":0},{"$f":"選手入力【女子】!$H24","v":0}]
[null,{"$f":"CONCATENATE(選手入力【女子】!$F24)","v":""},null,{"$f":"選手入力【女子】!$B24","v":0}]
[]
[]
["スタート\n№","地区中体連",{"$f":"表紙!$D$13","v":0},"市町村名",{"$f":"選手入力【女子】!$E25","v":0},"種　目","ＧＳＬ"]
[null,"学　校　名",null,"氏　　名",null,"学　年","地区ランク"]
[null,{"$f":"CONCATENATE(選手入力【女子】!$G25)","v":""},null,{"$f":"選手入力【女子】!$C25","v":0},null,{"$f":"選手入力【女子】!$D25","v":0},{"$f":"選手入力【女子】!$H25","v":0}]
[null,{"$f":"CONCATENATE(選手入力【女子】!$F25)","v":""},null,{"$f":"選手入力【女子】!$B25","v":0}]
[]
[]
["スタート\n№","地区中体連",{"$f":"表紙!$D$13","v":0},"市町村名",{"$f":"選手入力【女子】!$E26","v":0},"種　目","ＧＳＬ"]
[null,"学　校　名",null,"氏　　名",null,"学　年","地区ランク"]
[null,{"$f":"CONCATENATE(選手入力【女子】!$G26)","v":""},null,{"$f":"選手入力【女子】!$C26","v":0},null,{"$f":"選手入力【女子】!$D26","v":0},{"$f":"選手入力【女子】!$H26","v":0}]
[null,{"$f":"CONCATENATE(選手入力【女子】!$F26)","v":""},null,{"$f":"選手入力【女子】!$B26","v":0}]
[]
[]
["スタート\n№","地区中体連",{"$f":"表紙!$D$13","v":0},"市町村名",{"$f":"選手入力【女子】!$E27","v":0},"種　目","ＧＳＬ"]
[null,"学　校　名",null,"氏　　名",null,"学　年","地区ランク"]
[null,{"$f":"CONCATENATE(選手入力【女子】!$G27)","v":""},null,{"$f":"選手入力【女子】!$C27","v":0},null,{"$f":"選手入力【女子】!$D27","v":0},{"$f":"選手入力【女子】!$H27","v":0}]
[null,{"$f":"CONCATENATE(選手入力【女子】!$F27)","v":""},null,{"$f":"選手入力【女子】!$B27","v":0}]
[]
[]
["スタート\n№","地区中体連",{"$f":"表紙!$D$13","v":0},"市町村名",{"$f":"選手入力【女子】!$E28","v":0},"種　目","ＧＳＬ"]
[null,"学　校　名",null,"氏　　名",null,"学　年","地区ランク"]
[null,{"$f":"CONCATENATE(選手入力【女子】!$G28)","v":""},null,{"$f":"選手入力【女子】!$C28","v":0},null,{"$f":"選手入力【女子】!$D28","v":0},{"$f":"選手入力【女子】!$H28","v":0}]
[null,{"$f":"CONCATENATE(選手入力【女子】!$F28)","v":""},null,{"$f":"選手入力【女子】!$B28","v":0}]
[]
[]
["スタート\n№","地区中体連",{"$f":"表紙!$D$13","v":0},"市町村名",{"$f":"選手入力【女子】!$E29","v":0},"種　目","ＧＳＬ"]
[null,"学　校　名",null,"氏　　名",null,"学　年","地区ランク"]
[null,{"$f":"CONCATENATE(選手入力【女子】!$G29)","v":""},null,{"$f":"選手入力【女子】!$C29","v":0},null,{"$f":"選手入力【女子】!$D29","v":0},{"$f":"選手入力【女子】!$H29","v":0}]
[null,{"$f":"CONCATENATE(選手入力【女子】!$F29)","v":""},null,{"$f":"選手入力【女子】!$B29","v":0}]
[]
[]
["スタート\n№","地区中体連",{"$f":"表紙!$D$13","v":0},"市町村名",{"$f":"選手入力【女子】!$E30","v":0},"種　目","ＧＳＬ"]
[null,"学　校　名",null,"氏　　名",null,"学　年","地区ランク"]
[null,{"$f":"CONCATENATE(選手入力【女子】!$G30)","v":""},null,{"$f":"選手入力【女子】!$C30","v":0},null,{"$f":"選手入力【女子】!$D30","v":0},{"$f":"選手入力【女子】!$H30","v":0}]
[null,{"$f":"CONCATENATE(選手入力【女子】!$F30)","v":""},null,{"$f":"選手入力【女子】!$B30","v":0}]
[]
[]
["スタート\n№","地区中体連",{"$f":"表紙!$D$13","v":0},"市町村名",{"$f":"選手入力【女子】!$E31","v":0},"種　目","ＧＳＬ"]
[null,"学　校　名",null,"氏　　名",null,"学　年","地区ランク"]
[null,{"$f":"CONCATENATE(選手入力【女子】!$G31)","v":""},null,{"$f":"選手入力【女子】!$C31","v":0},null,{"$f":"選手入力【女子】!$D31","v":0},{"$f":"選手入力【女子】!$H31","v":0}]
[null,{"$f":"CONCATENATE(選手入力【女子】!$F31)","v":""},null,{"$f":"選手入力【女子】!$B31","v":0}]
[]
[]
["スタート\n№","地区中体連",{"$f":"表紙!$D$13","v":0},"市町村名",{"$f":"選手入力【女子】!$E32","v":0},"種　目","ＧＳＬ"]
[null,"学　校　名",null,"氏　　名",null,"学　年","地区ランク"]
[null,{"$f":"CONCATENATE(選手入力【女子】!$G32)","v":""},null,{"$f":"選手入力【女子】!$C32","v":0},null,{"$f":"選手入力【女子】!$D32","v":0},{"$f":"選手入力【女子】!$H32","v":0}]
[null,{"$f":"CONCATENATE(選手入力【女子】!$F32)","v":""},null,{"$f":"選手入力【女子】!$B32","v":0}]
[]
[]
["スタート\n№","地区中体連",{"$f":"表紙!$D$13","v":0},"市町村名",{"$f":"選手入力【女子】!$E33","v":0},"種　目","ＧＳＬ"]
[null,"学　校　名",null,"氏　　名",null,"学　年","地区ランク"]
[null,{"$f":"CONCATENATE(選手入力【女子】!$G33)","v":""},null,{"$f":"選手入力【女子】!$C33","v":0},null,{"$f":"選手入力【女子】!$D33","v":0},{"$f":"選手入力【女子】!$H33","v":0}]
[null,{"$f":"CONCATENATE(選手入力【女子】!$F33)","v":""},null,{"$f":"選手入力【女子】!$B33","v":0}]
[]
[]
["スタート\n№","地区中体連",{"$f":"表紙!$D$13","v":0},"市町村名",{"$f":"選手入力【女子】!$E34","v":0},"種　目","ＧＳＬ"]
[null,"学　校　名",null,"氏　　名",null,"学　年","地区ランク"]
[null,{"$f":"CONCATENATE(選手入力【女子】!$G34)","v":""},null,{"$f":"選手入力【女子】!$C34","v":0},null,{"$f":"選手入力【女子】!$D34","v":0},{"$f":"選手入力【女子】!$H34","v":0}]
[null,{"$f":"CONCATENATE(選手入力【女子】!$F34)","v":""},null,{"$f":"選手入力【女子】!$B34","v":0}]
[]
[]
["スタート\n№","地区中体連",{"$f":"表紙!$D$13","v":0},"市町村名",{"$f":"選手入力【女子】!$E35","v":0},"種　目","ＧＳＬ"]
[null,"学　校　名",null,"氏　　名",null,"学　年","地区ランク"]
[null,{"$f":"CONCATENATE(選手入力【女子】!$G35)","v":""},null,{"$f":"選手入力【女子】!$C35","v":0},null,{"$f":"選手入力【女子】!$D35","v":0},{"$f":"選手入力【女子】!$H35","v":0}]
[null,{"$f":"CONCATENATE(選手入力【女子】!$F35)","v":""},null,{"$f":"選手入力【女子】!$B35","v":0}]
[]
[]
["スタート\n№","地区中体連",{"$f":"表紙!$D$13","v":0},"市町村名",{"$f":"選手入力【女子】!$E36","v":0},"種　目","ＧＳＬ"]
[null,"学　校　名",null,"氏　　名",null,"学　年","地区ランク"]
[null,{"$f":"CONCATENATE(選手入力【女子】!$G36)","v":""},null,{"$f":"選手入力【女子】!$C36","v":0},null,{"$f":"選手入力【女子】!$D36","v":0},{"$f":"選手入力【女子】!$H36","v":0}]
[null,{"$f":"CONCATENATE(選手入力【女子】!$F36)","v":""},null,{"$f":"選手入力【女子】!$B36","v":0}]
[]
[]
["スタート\n№","地区中体連",{"$f":"表紙!$D$13","v":0},"市町村名",{"$f":"選手入力【女子】!$E37","v":0},"種　目","ＧＳＬ"]
[null,"学　校　名",null,"氏　　名",null,"学　年","地区ランク"]
[null,{"$f":"CONCATENATE(選手入力【女子】!$G37)","v":""},null,{"$f":"選手入力【女子】!$C37","v":0},null,{"$f":"選手入力【女子】!$D37","v":0},{"$f":"選手入力【女子】!$H37","v":0}]
[null,{"$f":"CONCATENATE(選手入力【女子】!$F37)","v":""},null,{"$f":"選手入力【女子】!$B37","v":0}]
[]
[]
["スタート\n№","地区中体連",{"$f":"表紙!$D$13","v":0},"市町村名",{"$f":"選手入力【女子】!$E38","v":0},"種　目","ＧＳＬ"]
[null,"学　校　名",null,"氏　　名",null,"学　年","地区ランク"]
[null,{"$f":"CONCATENATE(選手入力【女子】!$G38)","v":""},null,{"$f":"選手入力【女子】!$C38","v":0},null,{"$f":"選手入力【女子】!$D38","v":0},{"$f":"選手入力【女子】!$H38","v":0}]
[null,{"$f":"CONCATENATE(選手入力【女子】!$F38)","v":""},null,{"$f":"選手入力【女子】!$B38","v":0}]
[]
[]
["スタート\n№","地区中体連",{"$f":"表紙!$D$13","v":0},"市町村名",{"$f":"選手入力【女子】!$E39","v":0},"種　目","ＧＳＬ"]
[null,"学　校　名",null,"氏　　名",null,"学　年","地区ランク"]
[null,{"$f":"CONCATENATE(選手入力【女子】!$G39)","v":""},null,{"$f":"選手入力【女子】!$C39","v":0},null,{"$f":"選手入力【女子】!$D39","v":0},{"$f":"選手入力【女子】!$H39","v":0}]
[null,{"$f":"CONCATENATE(選手入力【女子】!$F39)","v":""},null,{"$f":"選手入力【女子】!$B39","v":0}]
[]
[]
["スタート\n№","地区中体連",{"$f":"表紙!$D$13","v":0},"市町村名",{"$f":"選手入力【女子】!$E40","v":0},"種　目","ＧＳＬ"]
[null,"学　校　名",null,"氏　　名",null,"学　年","地区ランク"]
[null,{"$f":"CONCATENATE(選手入力【女子】!$G40)","v":""},null,{"$f":"選手入力【女子】!$C40","v":0},null,{"$f":"選手入力【女子】!$D40","v":0},{"$f":"選手入力【女子】!$H40","v":0}]
[null,{"$f":"CONCATENATE(選手入力【女子】!$F40)","v":""},null,{"$f":"選手入力【女子】!$B40","v":0}]
[]
[]
["スタート\n№","地区中体連",{"$f":"表紙!$D$13","v":0},"市町村名",{"$f":"選手入力【女子】!$E41","v":0},"種　目","ＧＳＬ"]
[null,"学　校　名",null,"氏　　名",null,"学　年","地区ランク"]
[null,{"$f":"CONCATENATE(選手入力【女子】!$G41)","v":""},null,{"$f":"選手入力【女子】!$C41","v":0},null,{"$f":"選手入力【女子】!$D41","v":0},{"$f":"選手入力【女子】!$H41","v":0}]
[null,{"$f":"CONCATENATE(選手入力【女子】!$F41)","v":""},null,{"$f":"選手入力【女子】!$B41","v":0}]
[]
[]
["スタート\n№","地区中体連",{"$f":"表紙!$D$13","v":0},"市町村名",{"$f":"選手入力【女子】!$E42","v":0},"種　目","ＧＳＬ"]
[null,"学　校　名",null,"氏　　名",null,"学　年","地区ランク"]
[null,{"$f":"CONCATENATE(選手入力【女子】!$G42)","v":""},null,{"$f":"選手入力【女子】!$C42","v":0},null,{"$f":"選手入力【女子】!$D42","v":0},{"$f":"選手入力【女子】!$H42","v":0}]
[null,{"$f":"CONCATENATE(選手入力【女子】!$F42)","v":""},null,{"$f":"選手入力【女子】!$B42","v":0}]
[]
[]
["スタート\n№","地区中体連",{"$f":"表紙!$D$13","v":0},"市町村名",{"$f":"選手入力【女子】!$E43","v":0},"種　目","ＧＳＬ"]
[null,"学　校　名",null,"氏　　名",null,"学　年","地区ランク"]
[null,{"$f":"CONCATENATE(選手入力【女子】!$G43)","v":""},null,{"$f":"選手入力【女子】!$C43","v":0},null,{"$f":"選手入力【女子】!$D43","v":0},{"$f":"選手入力【女子】!$H43","v":0}]
[null,{"$f":"CONCATENATE(選手入力【女子】!$F43)","v":""},null,{"$f":"選手入力【女子】!$B43","v":0}]
[]
[]
["スタート\n№","地区中体連",{"$f":"表紙!$D$13","v":0},"市町村名",{"$f":"選手入力【女子】!$E44","v":0},"種　目","ＧＳＬ"]
[null,"学　校　名",null,"氏　　名",null,"学　年","地区ランク"]
[null,{"$f":"CONCATENATE(選手入力【女子】!$G44)","v":""},null,{"$f":"選手入力【女子】!$C44","v":0},null,{"$f":"選手入力【女子】!$D44","v":0},{"$f":"選手入力【女子】!$H44","v":0}]
[null,{"$f":"CONCATENATE(選手入力【女子】!$F44)","v":""},null,{"$f":"選手入力【女子】!$B44","v":0}]
[]
[]
["スタート\n№","地区中体連",{"$f":"表紙!$D$13","v":0},"市町村名",{"$f":"選手入力【女子】!$E45","v":0},"種　目","ＧＳＬ"]
[null,"学　校　名",null,"氏　　名",null,"学　年","地区ランク"]
[null,{"$f":"CONCATENATE(選手入力【女子】!$G45)","v":""},null,{"$f":"選手入力【女子】!$C45","v":0},null,{"$f":"選手入力【女子】!$D45","v":0},{"$f":"選手入力【女子】!$H45","v":0}]
[null,{"$f":"CONCATENATE(選手入力【女子】!$F45)","v":""},null,{"$f":"選手入力【女子】!$B45","v":0}]
[]
[]
["スタート\n№","地区中体連",{"$f":"表紙!$D$13","v":0},"市町村名",{"$f":"選手入力【女子】!$E46","v":0},"種　目","ＧＳＬ"]
[null,"学　校　名",null,"氏　　名",null,"学　年","地区ランク"]
[null,{"$f":"CONCATENATE(選手入力【女子】!$G46)","v":""},null,{"$f":"選手入力【女子】!$C46","v":0},null,{"$f":"選手入力【女子】!$D46","v":0},{"$f":"選手入力【女子】!$H46","v":0}]
[null,{"$f":"CONCATENATE(選手入力【女子】!$F46)","v":""},null,{"$f":"選手入力【女子】!$B46","v":0}]
[]
[]
["スタート\n№","地区中体連",{"$f":"表紙!$D$13","v":0},"市町村名",{"$f":"選手入力【女子】!$E47","v":0},"種　目","ＧＳＬ"]
[null,"学　校　名",null,"氏　　名",null,"学　年","地区ランク"]
[null,{"$f":"CONCATENATE(選手入力【女子】!$G47)","v":""},null,{"$f":"選手入力【女子】!$C47","v":0},null,{"$f":"選手入力【女子】!$D47","v":0},{"$f":"選手入力【女子】!$H47","v":0}]
[null,{"$f":"CONCATENATE(選手入力【女子】!$F47)","v":""},null,{"$f":"選手入力【女子】!$B47","v":0}]
[]
[]
["スタート\n№","地区中体連",{"$f":"表紙!$D$13","v":0},"市町村名",{"$f":"選手入力【女子】!$E48","v":0},"種　目","ＧＳＬ"]
[null,"学　校　名",null,"氏　　名",null,"学　年","地区ランク"]
[null,{"$f":"CONCATENATE(選手入力【女子】!$G48)","v":""},null,{"$f":"選手入力【女子】!$C48","v":0},null,{"$f":"選手入力【女子】!$D48","v":0},{"$f":"選手入力【女子】!$H48","v":0}]
[null,{"$f":"CONCATENATE(選手入力【女子】!$F48)","v":""},null,{"$f":"選手入力【女子】!$B48","v":0}]
[]
[]
["スタート\n№","地区中体連",{"$f":"表紙!$D$13","v":0},"市町村名",{"$f":"選手入力【女子】!$E49","v":0},"種　目","ＧＳＬ"]
[null,"学　校　名",null,"氏　　名",null,"学　年","地区ランク"]
[null,{"$f":"CONCATENATE(選手入力【女子】!$G49)","v":""},null,{"$f":"選手入力【女子】!$C49","v":0},null,{"$f":"選手入力【女子】!$D49","v":0},{"$f":"選手入力【女子】!$H49","v":0}]
[null,{"$f":"CONCATENATE(選手入力【女子】!$F49)","v":""},null,{"$f":"選手入力【女子】!$B49","v":0}]
[]
[]
["スタート\n№","地区中体連",{"$f":"表紙!$D$13","v":0},"市町村名",{"$f":"選手入力【女子】!$E50","v":0},"種　目","ＧＳＬ"]
[null,"学　校　名",null,"氏　　名",null,"学　年","地区ランク"]
[null,{"$f":"CONCATENATE(選手入力【女子】!$G50)","v":""},null,{"$f":"選手入力【女子】!$C50","v":0},null,{"$f":"選手入力【女子】!$D50","v":0},{"$f":"選手入力【女子】!$H50","v":0}]
[null,{"$f":"CONCATENATE(選手入力【女子】!$F50)","v":""},null,{"$f":"選手入力【女子】!$B50","v":0}]
[]
[]
["スタート\n№","地区中体連",{"$f":"表紙!$D$13","v":0},"市町村名",{"$f":"選手入力【女子】!$E51","v":0},"種　目","ＧＳＬ"]
[null,"学　校　名",null,"氏　　名",null,"学　年","地区ランク"]
[null,{"$f":"CONCATENATE(選手入力【女子】!$G51)","v":""},null,{"$f":"選手入力【女子】!$C51","v":0},null,{"$f":"選手入力【女子】!$D51","v":0},{"$f":"選手入力【女子】!$H51","v":0}]
[null,{"$f":"CONCATENATE(選手入力【女子】!$F51)","v":""},null,{"$f":"選手入力【女子】!$B51","v":0}]

{"sheet":"女子SL","index":9,"n_rows":269,"n_cols":7,"rows_kept":269,"cut":false,"hidden":true,"merged":[[200,0,202,0],[200,1,200,2],[200,3,200,4],[201,1,201,2],[201,3,201,4],[201,5,202,5],[201,6,202,6],[202,1,202,2],[202,3,202,4],[194,0,196,0],[194,1,194,2],[194,3,194,4],[195,1,195,2],[195,3,195,4],[195,5,196,5],[195,6,196,6],[196,1,196,2],[196,3,196,4],[188,0,190,0],[188,1,188,2],[188,3,188,4],[189,1,189,2],[189,3,189,4],[189,5,190,5],[189,6,190,6],[190,1,190,2],[190,3,190,4],[177,6,178,6],[178,1,178,2],[178,3,178,4],[182,0,184,0],[182,1,182,2],[182,3,182,4],[183,1,183,2],[183,3,183,4],[183,5,184,5],[183,6,184,6],[184,1,184,2],[184,3,184,4],[176,0,178,0],[176,1,176,2],[176,3,176,4],[177,1,177,2],[177,3,177,4],[177,5,178,5],[10,1,10,2],[10,3,10,4],[14,0,16,0],[14,1,14,2],[14,3,14,4],[15,1,15,2],[15,3,15,4],[3,6,4,6],[4,1,4,2],[4,3,4,4],[8,0,10,0],[8,1,8,2],[8,3,8,4],[9,1,9,2],[9,3,9,4],[9,5,10,5],[9,6,10,6],[2,0,4,0],[2,1,2,2],[2,3,2,4],[3,1,3,2],[3,3,3,4],[3,5,4,5],[15,5,16,5],[15,6,16,6],[16,1,16,2],[16,3,16,4],[20,0,22,0],[20,1,20,2],[20,3,20,4],[21,1,21,2],[21,3,21,4],[21,5,22,5],[28,1,28,2],[28,3,28,4],[32,0,34,0],[32,1,32,2],[32,3,32,4],[33,1,33,2],[33,3,33,4],[21,6,22,6],[22,1,22,2],[22,3,22,4],[26,0,28,0],[26,1,26,2],[26,3,26,4],[27,1,27,2],[27,3,27,4],[27,5,28,5],[27,6,28,6],[33,5,34,5],[33,6,34,6],[34,1,34,2],[34,3,34,4],[39,6,40,6],[40,1,40,2],[40,3,40,4],[44,0,46,0],[44,1,44,2],[44,3,44,4],[45,1,45,2],[45,3,45,4],[45,5,46,5],[45,6,46,6],[38,0,40,0],[38,1,38,2],[38,3,38,4],[39,1,39,2],[39,3,39,4],[39,5,40,5],[46,1,46,2],[46,3,46,4],[51,6,52,6],[52,1,52,2],[52,3,52,4],[56,0,58,0],[56,1,56,2],[56,3,56,4],[57,1,57,2],[57,3,57,4],[57,5,58,5],[50,0,52,0],[50,1,50,2],[50,3,50,4],[51,1,51,2],[51,3,51,4],[51,5,52,5],[64,1,64,2],[64,3,64,4],[68,0,70,0],[68,1,68,2],[68,3,68,4],[69,1,69,2],[69,3,69,4],[57,6,58,6],[58,1,58,2],[58,3,58,4],[62,0,64,0],[62,1,62,2],[62,3,62,4],[63,1,63,2],[63,3,63,4],[63,5,64,5],[63,6,64,6],[69,5,70,5],[69,6,70,6],[70,1,70,2],[70,3,70,4],[75,6,76,6],[76,1,76,2],[76,3,76,4],[80,0,82,0],[80,1,80,2],[80,3,80,4],[81,1,81,2],[81,3,81,4],[81,5,82,5],[81,6,82,6],[74,0,76,0],[74,1,74,2],[74,3,74,4],[75,1,75,2],[75,3,75,4],[75,5,76,5],[82,1,82,2],[82,3,82,4],[87,6,88,6],[88,1,88,2],[88,3,88,4],[92,0,94,0],[92,1,92,2],[92,3,92,4],[93,1,93,2],[93,3,93,4],[93,5,94,5],[86,0,88,0],[86,1,86,2],[86,3,86,4],[87,1,87,2],[87,3,87,4],[87,5,88,5],[100,1,100,2],[100,3,100,4],[104,0,106,0],[104,1,104,2],[104,3,104,4],[105,1,105,2],[105,3,105,4],[93,6,94,6],[94,1,94,2],[94,3,94,4],[98,0,100,0],[98,1,98,2],[98,3,98,4],[99,1,99,2],[99,3,99,4],[99,5,100,5],[99,6,100,6],[105,5,106,5],[105,6,106,6],[106,1,106,2],[106,3,106,4],[111,6,112,6],[112,1,112,2],[112,3,112,4],[116,0,118,0],[116,1,116,2],[116,3,116,4],[117,1,117,2],[117,3,117,4],[117,5,118,5],[117,6,118,6],[110,0,112,0],[110,1,110,2],[110,3,110,4],[111,1,111,2],[111,3,111,4],[111,5,112,5],[118,1,118,2],[118,3,118,4],[123,6,124,6],[124,1,124,2],[124,3,124,4],[128,0,130,0],[128,1,128,2],[128,3,128,4],[129,1,129,2],[129,3,129,4],[129,5,130,5],[122,0,124,0],[122,1,122,2],[122,3,122,4],[123,1,123,2],[123,3,123,4],[123,5,124,5],[136,1,136,2],[136,3,136,4],[140,0,142,0],[140,1,140,2],[140,3,140,4],[141,1,141,2],[141,3,141,4],[129,6,130,6],[130,1,130,2],[130,3,130,4],[134,0,136,0],[134,1,134,2],[134,3,134,4],[135,1,135,2],[135,3,135,4],[135,5,136,5],[135,6,136,6],[141,5,142,5],[141,6,142,6],[142,1,142,2],[142,3,142,4],[147,6,148,6],[148,1,148,2],[148,3,148,4],[152,0,154,0],[152,1,152,2],[152,3,152,4],[153,1,153,2],[153,3,153,4],[153,5,154,5],[153,6,154,6],[146,0,148,0],[146,1,146,2],[146,3,146,4],[147,1,147,2],[147,3,147,4],[147,5,148,5],[154,1,154,2],[154,3,154,4],[159,6,160,6],[160,1,160,2],[160,3,160,4],[164,0,166,0],[164,1,164,2],[164,3,164,4],[165,1,165,2],[165,3,165,4],[165,5,166,5],[165,6,166,6],[166,1,166,2],[166,3,166,4],[158,0,160,0],[158,1,158,2],[158,3,158,4],[159,1,159,2],[159,3,159,4],[159,5,160,5],[170,0,172,0],[170,1,170,2],[170,3,170,4],[171,1,171,2],[171,3,171,4],[171,5,172,5],[171,6,172,6],[172,1,172,2],[172,3,172,4],[206,0,208,0],[206,1,206,2],[206,3,206,4],[207,1,207,2],[207,3,207,4],[207,5,208,5],[207,6,208,6],[208,1,208,2],[208,3,208,4],[212,0,214,0],[212,1,212,2],[212,3,212,4],[213,1,213,2],[213,3,213,4],[213,5,214,5],[213,6,214,6],[214,1,214,2],[214,3,214,4],[218,0,220,0],[218,1,218,2],[218,3,218,4],[219,1,219,2],[219,3,219,4],[219,5,220,5],[219,6,220,6],[220,1,220,2],[220,3,220,4],[224,0,226,0],[224,1,224,2],[224,3,224,4],[225,1,225,2],[225,3,225,4],[225,5,226,5],[225,6,226,6],[226,1,226,2],[226,3,226,4],[230,0,232,0],[230,1,230,2],[230,3,230,4],[231,1,231,2],[231,3,231,4],[231,5,232,5],[231,6,232,6],[232,1,232,2],[232,3,232,4],[236,0,238,0],[236,1,236,2],[236,3,236,4],[237,1,237,2],[237,3,237,4],[237,5,238,5],[237,6,238,6],[238,1,238,2],[238,3,238,4],[242,0,244,0],[242,1,242,2],[242,3,242,4],[243,1,243,2],[243,3,243,4],[243,5,244,5],[243,6,244,6],[244,1,244,2],[244,3,244,4],[248,0,250,0],[248,1,248,2],[248,3,248,4],[249,1,249,2],[249,3,249,4],[249,5,250,5],[249,6,250,6],[250,1,250,2],[250,3,250,4],[254,0,256,0],[254,1,254,2],[254,3,254,4],[255,1,255,2],[255,3,255,4],[255,5,256,5],[255,6,256,6],[256,1,256,2],[256,3,256,4],[260,0,262,0],[260,1,260,2],[260,3,260,4],[261,1,261,2],[261,3,261,4],[261,5,262,5],[261,6,262,6],[262,1,262,2],[262,3,262,4],[267,3,267,4],[267,1,267,2],[266,3,266,4],[266,1,266,2],[266,0,268,0],[268,3,268,4],[268,1,268,2],[267,6,268,6],[267,5,268,5]]}
[]
["スタート\n№","地区中体連",{"$f":"表紙!$D$13","v":0},"市町村名",{"$f":"選手入力【女子】!$E7","v":0},"種　目","ＳＬ"]
[null,"学　校　名",null,"氏　　名",null,"学　年","地区ランク"]
[null,{"$f":"CONCATENATE(選手入力【女子】!$G7)","v":""},null,{"$f":"選手入力【女子】!$C7","v":0},null,{"$f":"選手入力【女子】!$D7","v":0},{"$f":"選手入力【女子】!$I7","v":0}]
[null,{"$f":"CONCATENATE(選手入力【女子】!$F7)","v":""},null,{"$f":"選手入力【女子】!$B7","v":0}]
[]
[]
["スタート\n№","地区中体連",{"$f":"表紙!$D$13","v":0},"市町村名",{"$f":"選手入力【女子】!$E8","v":0},"種　目","ＳＬ"]
[null,"学　校　名",null,"氏　　名",null,"学　年","地区ランク"]
[null,{"$f":"CONCATENATE(選手入力【女子】!$G8)","v":""},null,{"$f":"選手入力【女子】!$C8","v":0},null,{"$f":"選手入力【女子】!$D8","v":0},{"$f":"選手入力【女子】!$I8","v":0}]
[null,{"$f":"CONCATENATE(選手入力【女子】!$F8)","v":""},null,{"$f":"選手入力【女子】!$B8","v":0}]
[]
[]
["スタート\n№","地区中体連",{"$f":"表紙!$D$13","v":0},"市町村名",{"$f":"選手入力【女子】!$E9","v":0},"種　目","ＳＬ"]
[null,"学　校　名",null,"氏　　名",null,"学　年","地区ランク"]
[null,{"$f":"CONCATENATE(選手入力【女子】!$G9)","v":""},null,{"$f":"選手入力【女子】!$C9","v":0},null,{"$f":"選手入力【女子】!$D9","v":0},{"$f":"選手入力【女子】!$I9","v":0}]
[null,{"$f":"CONCATENATE(選手入力【女子】!$F9)","v":""},null,{"$f":"選手入力【女子】!$B9","v":0}]
[]
[]
["スタート\n№","地区中体連",{"$f":"表紙!$D$13","v":0},"市町村名",{"$f":"選手入力【女子】!$E10","v":0},"種　目","ＳＬ"]
[null,"学　校　名",null,"氏　　名",null,"学　年","地区ランク"]
[null,{"$f":"CONCATENATE(選手入力【女子】!$G10)","v":""},null,{"$f":"選手入力【女子】!$C10","v":0},null,{"$f":"選手入力【女子】!$D10","v":0},{"$f":"選手入力【女子】!$I10","v":0}]
[null,{"$f":"CONCATENATE(選手入力【女子】!$F10)","v":""},null,{"$f":"選手入力【女子】!$B10","v":0}]
[]
[]
["スタート\n№","地区中体連",{"$f":"表紙!$D$13","v":0},"市町村名",{"$f":"選手入力【女子】!$E11","v":0},"種　目","ＳＬ"]
[null,"学　校　名",null,"氏　　名",null,"学　年","地区ランク"]
[null,{"$f":"CONCATENATE(選手入力【女子】!$G11)","v":""},null,{"$f":"選手入力【女子】!$C11","v":0},null,{"$f":"選手入力【女子】!$D11","v":0},{"$f":"選手入力【女子】!$I11","v":0}]
[null,{"$f":"CONCATENATE(選手入力【女子】!$F11)","v":""},null,{"$f":"選手入力【女子】!$B11","v":0}]
[]
[]
["スタート\n№","地区中体連",{"$f":"表紙!$D$13","v":0},"市町村名",{"$f":"選手入力【女子】!$E12","v":0},"種　目","ＳＬ"]
[null,"学　校　名",null,"氏　　名",null,"学　年","地区ランク"]
[null,{"$f":"CONCATENATE(選手入力【女子】!$G12)","v":""},null,{"$f":"選手入力【女子】!$C12","v":0},null,{"$f":"選手入力【女子】!$D12","v":0},{"$f":"選手入力【女子】!$I12","v":0}]
[null,{"$f":"CONCATENATE(選手入力【女子】!$F12)","v":""},null,{"$f":"選手入力【女子】!$B12","v":0}]
[]
[]
["スタート\n№","地区中体連",{"$f":"表紙!$D$13","v":0},"市町村名",{"$f":"選手入力【女子】!$E13","v":0},"種　目","ＳＬ"]
[null,"学　校　名",null,"氏　　名",null,"学　年","地区ランク"]
[null,{"$f":"CONCATENATE(選手入力【女子】!$G13)","v":""},null,{"$f":"選手入力【女子】!$C13","v":0},null,{"$f":"選手入力【女子】!$D13","v":0},{"$f":"選手入力【女子】!$I13","v":0}]
[null,{"$f":"CONCATENATE(選手入力【女子】!$F13)","v":""},null,{"$f":"選手入力【女子】!$B13","v":0}]
[]
[]
["スタート\n№","地区中体連",{"$f":"表紙!$D$13","v":0},"市町村名",{"$f":"選手入力【女子】!$E14","v":0},"種　目","ＳＬ"]
[null,"学　校　名",null,"氏　　名",null,"学　年","地区ランク"]
[null,{"$f":"CONCATENATE(選手入力【女子】!$G14)","v":""},null,{"$f":"選手入力【女子】!$C14","v":0},null,{"$f":"選手入力【女子】!$D14","v":0},{"$f":"選手入力【女子】!$I14","v":0}]
[null,{"$f":"CONCATENATE(選手入力【女子】!$F14)","v":""},null,{"$f":"選手入力【女子】!$B14","v":0}]
[]
[]
["スタート\n№","地区中体連",{"$f":"表紙!$D$13","v":0},"市町村名",{"$f":"選手入力【女子】!$E15","v":0},"種　目","ＳＬ"]
[null,"学　校　名",null,"氏　　名",null,"学　年","地区ランク"]
[null,{"$f":"CONCATENATE(選手入力【女子】!$G15)","v":""},null,{"$f":"選手入力【女子】!$C15","v":0},null,{"$f":"選手入力【女子】!$D15","v":0},{"$f":"選手入力【女子】!$I15","v":0}]
[null,{"$f":"CONCATENATE(選手入力【女子】!$F15)","v":""},null,{"$f":"選手入力【女子】!$B15","v":0}]
[]
[]
["スタート\n№","地区中体連",{"$f":"表紙!$D$13","v":0},"市町村名",{"$f":"選手入力【女子】!$E16","v":0},"種　目","ＳＬ"]
[null,"学　校　名",null,"氏　　名",null,"学　年","地区ランク"]
[null,{"$f":"CONCATENATE(選手入力【女子】!$G16)","v":""},null,{"$f":"選手入力【女子】!$C16","v":0},null,{"$f":"選手入力【女子】!$D16","v":0},{"$f":"選手入力【女子】!$I16","v":0}]
[null,{"$f":"CONCATENATE(選手入力【女子】!$F16)","v":""},null,{"$f":"選手入力【女子】!$B16","v":0}]
[]
[]
["スタート\n№","地区中体連",{"$f":"表紙!$D$13","v":0},"市町村名",{"$f":"選手入力【女子】!$E17","v":0},"種　目","ＳＬ"]
[null,"学　校　名",null,"氏　　名",null,"学　年","地区ランク"]
[null,{"$f":"CONCATENATE(選手入力【女子】!$G17)","v":""},null,{"$f":"選手入力【女子】!$C17","v":0},null,{"$f":"選手入力【女子】!$D17","v":0},{"$f":"選手入力【女子】!$I17","v":0}]
[null,{"$f":"CONCATENATE(選手入力【女子】!$F17)","v":""},null,{"$f":"選手入力【女子】!$B17","v":0}]
[]
[]
["スタート\n№","地区中体連",{"$f":"表紙!$D$13","v":0},"市町村名",{"$f":"選手入力【女子】!$E18","v":0},"種　目","ＳＬ"]
[null,"学　校　名",null,"氏　　名",null,"学　年","地区ランク"]
[null,{"$f":"CONCATENATE(選手入力【女子】!$G18)","v":""},null,{"$f":"選手入力【女子】!$C18","v":0},null,{"$f":"選手入力【女子】!$D18","v":0},{"$f":"選手入力【女子】!$I18","v":0}]
[null,{"$f":"CONCATENATE(選手入力【女子】!$F18)","v":""},null,{"$f":"選手入力【女子】!$B18","v":0}]
[]
[]
["スタート\n№","地区中体連",{"$f":"表紙!$D$13","v":0},"市町村名",{"$f":"選手入力【女子】!$E19","v":0},"種　目","ＳＬ"]
[null,"学　校　名",null,"氏　　名",null,"学　年","地区ランク"]
[null,{"$f":"CONCATENATE(選手入力【女子】!$G19)","v":""},null,{"$f":"選手入力【女子】!$C19","v":0},null,{"$f":"選手入力【女子】!$D19","v":0},{"$f":"選手入力【女子】!$I19","v":0}]
[null,{"$f":"CONCATENATE(選手入力【女子】!$F19)","v":""},null,{"$f":"選手入力【女子】!$B19","v":0}]
[]
[]
["スタート\n№","地区中体連",{"$f":"表紙!$D$13","v":0},"市町村名",{"$f":"選手入力【女子】!$E20","v":0},"種　目","ＳＬ"]
[null,"学　校　名",null,"氏　　名",null,"学　年","地区ランク"]
[null,{"$f":"CONCATENATE(選手入力【女子】!$G20)","v":""},null,{"$f":"選手入力【女子】!$C20","v":0},null,{"$f":"選手入力【女子】!$D20","v":0},{"$f":"選手入力【女子】!$I20","v":0}]
[null,{"$f":"CONCATENATE(選手入力【女子】!$F20)","v":""},null,{"$f":"選手入力【女子】!$B20","v":0}]
[]
[]
["スタート\n№","地区中体連",{"$f":"表紙!$D$13","v":0},"市町村名",{"$f":"選手入力【女子】!$E21","v":0},"種　目","ＳＬ"]
[null,"学　校　名",null,"氏　　名",null,"学　年","地区ランク"]
[null,{"$f":"CONCATENATE(選手入力【女子】!$G21)","v":""},null,{"$f":"選手入力【女子】!$C21","v":0},null,{"$f":"選手入力【女子】!$D21","v":0},{"$f":"選手入力【女子】!$I21","v":0}]
[null,{"$f":"CONCATENATE(選手入力【女子】!$F21)","v":""},null,{"$f":"選手入力【女子】!$B21","v":0}]
[]
[]
["スタート\n№","地区中体連",{"$f":"表紙!$D$13","v":0},"市町村名",{"$f":"選手入力【女子】!$E22","v":0},"種　目","ＳＬ"]
[null,"学　校　名",null,"氏　　名",null,"学　年","地区ランク"]
[null,{"$f":"CONCATENATE(選手入力【女子】!$G22)","v":""},null,{"$f":"選手入力【女子】!$C22","v":0},null,{"$f":"選手入力【女子】!$D22","v":0},{"$f":"選手入力【女子】!$I22","v":0}]
[null,{"$f":"CONCATENATE(選手入力【女子】!$F22)","v":""},null,{"$f":"選手入力【女子】!$B22","v":0}]
[]
[]
["スタート\n№","地区中体連",{"$f":"表紙!$D$13","v":0},"市町村名",{"$f":"選手入力【女子】!$E23","v":0},"種　目","ＳＬ"]
[null,"学　校　名",null,"氏　　名",null,"学　年","地区ランク"]
[null,{"$f":"CONCATENATE(選手入力【女子】!$G23)","v":""},null,{"$f":"選手入力【女子】!$C23","v":0},null,{"$f":"選手入力【女子】!$D23","v":0},{"$f":"選手入力【女子】!$I23","v":0}]
[null,{"$f":"CONCATENATE(選手入力【女子】!$F23)","v":""},null,{"$f":"選手入力【女子】!$B23","v":0}]
[]
[]
["スタート\n№","地区中体連",{"$f":"表紙!$D$13","v":0},"市町村名",{"$f":"選手入力【女子】!$E24","v":0},"種　目","ＳＬ"]
[null,"学　校　名",null,"氏　　名",null,"学　年","地区ランク"]
[null,{"$f":"CONCATENATE(選手入力【女子】!$G24)","v":""},null,{"$f":"選手入力【女子】!$C24","v":0},null,{"$f":"選手入力【女子】!$D24","v":0},{"$f":"選手入力【女子】!$I24","v":0}]
[null,{"$f":"CONCATENATE(選手入力【女子】!$F24,)","v":""},null,{"$f":"選手入力【女子】!$B24","v":0}]
[]
[]
["スタート\n№","地区中体連",{"$f":"表紙!$D$13","v":0},"市町村名",{"$f":"選手入力【女子】!$E25","v":0},"種　目","ＳＬ"]
[null,"学　校　名",null,"氏　　名",null,"学　年","地区ランク"]
[null,{"$f":"CONCATENATE(選手入力【女子】!$G25)","v":""},null,{"$f":"選手入力【女子】!$C25","v":0},null,{"$f":"選手入力【女子】!$D25","v":0},{"$f":"選手入力【女子】!$I25","v":0}]
[null,{"$f":"CONCATENATE(選手入力【女子】!$F25,)","v":""},null,{"$f":"選手入力【女子】!$B25","v":0}]
[]
[]
["スタート\n№","地区中体連",{"$f":"表紙!$D$13","v":0},"市町村名",{"$f":"選手入力【女子】!$E26","v":0},"種　目","ＳＬ"]
[null,"学　校　名",null,"氏　　名",null,"学　年","地区ランク"]
[null,{"$f":"CONCATENATE(選手入力【女子】!$G26)","v":""},null,{"$f":"選手入力【女子】!$C26","v":0},null,{"$f":"選手入力【女子】!$D26","v":0},{"$f":"選手入力【女子】!$I26","v":0}]
[null,{"$f":"CONCATENATE(選手入力【女子】!$F26,)","v":""},null,{"$f":"選手入力【女子】!$B26","v":0}]
[]
[]
["スタート\n№","地区中体連",{"$f":"表紙!$D$13","v":0},"市町村名",{"$f":"選手入力【女子】!$E27","v":0},"種　目","ＳＬ"]
[null,"学　校　名",null,"氏　　名",null,"学　年","地区ランク"]
[null,{"$f":"CONCATENATE(選手入力【女子】!$G27)","v":""},null,{"$f":"選手入力【女子】!$C27","v":0},null,{"$f":"選手入力【女子】!$D27","v":0},{"$f":"選手入力【女子】!$I27","v":0}]
[null,{"$f":"CONCATENATE(選手入力【女子】!$F27)","v":""},null,{"$f":"選手入力【女子】!$B27","v":0}]
[]
[]
["スタート\n№","地区中体連",{"$f":"表紙!$D$13","v":0},"市町村名",{"$f":"選手入力【女子】!$E28","v":0},"種　目","ＳＬ"]
[null,"学　校　名",null,"氏　　名",null,"学　年","地区ランク"]
[null,{"$f":"CONCATENATE(選手入力【女子】!$G28)","v":""},null,{"$f":"選手入力【女子】!$C28","v":0},null,{"$f":"選手入力【女子】!$D28","v":0},{"$f":"選手入力【女子】!$I28","v":0}]
[null,{"$f":"CONCATENATE(選手入力【女子】!$F28)","v":""},null,{"$f":"選手入力【女子】!$B28","v":0}]
[]
[]
["スタート\n№","地区中体連",{"$f":"表紙!$D$13","v":0},"市町村名",{"$f":"選手入力【女子】!$E29","v":0},"種　目","ＳＬ"]
[null,"学　校　名",null,"氏　　名",null,"学　年","地区ランク"]
[null,{"$f":"CONCATENATE(選手入力【女子】!$G29)","v":""},null,{"$f":"選手入力【女子】!$C29","v":0},null,{"$f":"選手入力【女子】!$D29","v":0},{"$f":"選手入力【女子】!$I29","v":0}]
[null,{"$f":"CONCATENATE(選手入力【女子】!$F29)","v":""},null,{"$f":"選手入力【女子】!$B29","v":0}]
[]
[]
["スタート\n№","地区中体連",{"$f":"表紙!$D$13","v":0},"市町村名",{"$f":"選手入力【女子】!$E30","v":0},"種　目","ＳＬ"]
[null,"学　校　名",null,"氏　　名",null,"学　年","地区ランク"]
[null,{"$f":"CONCATENATE(選手入力【女子】!$G30)","v":""},null,{"$f":"選手入力【女子】!$C30","v":0},null,{"$f":"選手入力【女子】!$D30","v":0},{"$f":"選手入力【女子】!$I30","v":0}]
[null,{"$f":"CONCATENATE(選手入力【女子】!$F30)","v":""},null,{"$f":"選手入力【女子】!$B30","v":0}]
[]
[]
["スタート\n№","地区中体連",{"$f":"表紙!$D$13","v":0},"市町村名",{"$f":"選手入力【女子】!$E31","v":0},"種　目","ＳＬ"]
[null,"学　校　名",null,"氏　　名",null,"学　年","地区ランク"]
[null,{"$f":"CONCATENATE(選手入力【女子】!$G31)","v":""},null,{"$f":"選手入力【女子】!$C31","v":0},null,{"$f":"選手入力【女子】!$D31","v":0},{"$f":"選手入力【女子】!$I31","v":0}]
[null,{"$f":"CONCATENATE(選手入力【女子】!$F31)","v":""},null,{"$f":"選手入力【女子】!$B31","v":0}]
[]
[]
["スタート\n№","地区中体連",{"$f":"表紙!$D$13","v":0},"市町村名",{"$f":"選手入力【女子】!$E32","v":0},"種　目","ＳＬ"]
[null,"学　校　名",null,"氏　　名",null,"学　年","地区ランク"]
[null,{"$f":"CONCATENATE(選手入力【女子】!$G32)","v":""},null,{"$f":"選手入力【女子】!$C32","v":0},null,{"$f":"選手入力【女子】!$D32","v":0},{"$f":"選手入力【女子】!$I32","v":0}]
[null,{"$f":"CONCATENATE(選手入力【女子】!$F32)","v":""},null,{"$f":"選手入力【女子】!$B32","v":0}]
[]
[]
["スタート\n№","地区中体連",{"$f":"表紙!$D$13","v":0},"市町村名",{"$f":"選手入力【女子】!$E33","v":0},"種　目","ＳＬ"]
[null,"学　校　名",null,"氏　　名",null,"学　年","地区ランク"]
[null,{"$f":"CONCATENATE(選手入力【女子】!$G33)","v":""},null,{"$f":"選手入力【女子】!$C33","v":0},null,{"$f":"選手入力【女子】!$D33","v":0},{"$f":"選手入力【女子】!$I33","v":0}]
[null,{"$f":"CONCATENATE(選手入力【女子】!$F33)","v":""},null,{"$f":"選手入力【女子】!$B33","v":0}]
[]
[]
["スタート\n№","地区中体連",{"$f":"表紙!$D$13","v":0},"市町村名",{"$f":"選手入力【女子】!$E34","v":0},"種　目","ＳＬ"]
[null,"学　校　名",null,"氏　　名",null,"学　年","地区ランク"]
[null,{"$f":"CONCATENATE(選手入力【女子】!$G34)","v":""},null,{"$f":"選手入力【女子】!$C34","v":0},null,{"$f":"選手入力【女子】!$D34","v":0},{"$f":"選手入力【女子】!$I34","v":0}]
[null,{"$f":"CONCATENATE(選手入力【女子】!$F34)","v":""},null,{"$f":"選手入力【女子】!$B34","v":0}]
[]
[]
["スタート\n№","地区中体連",{"$f":"表紙!$D$13","v":0},"市町村名",{"$f":"選手入力【女子】!$E35","v":0},"種　目","ＳＬ"]
[null,"学　校　名",null,"氏　　名",null,"学　年","地区ランク"]
[null,{"$f":"CONCATENATE(選手入力【女子】!$G35)","v":""},null,{"$f":"選手入力【女子】!$C35","v":0},null,{"$f":"選手入力【女子】!$D35","v":0},{"$f":"選手入力【女子】!$I35","v":0}]
[null,{"$f":"CONCATENATE(選手入力【女子】!$F35)","v":""},null,{"$f":"選手入力【女子】!$B35","v":0}]
[]
[]
["スタート\n№","地区中体連",{"$f":"表紙!$D$13","v":0},"市町村名",{"$f":"選手入力【女子】!$E36","v":0},"種　目","ＳＬ"]
[null,"学　校　名",null,"氏　　名",null,"学　年","地区ランク"]
[null,{"$f":"CONCATENATE(選手入力【女子】!$G36)","v":""},null,{"$f":"選手入力【女子】!$C36","v":0},null,{"$f":"選手入力【女子】!$D36","v":0},{"$f":"選手入力【女子】!$I36","v":0}]
[null,{"$f":"CONCATENATE(選手入力【女子】!$F36)","v":""},null,{"$f":"選手入力【女子】!$B36","v":0}]
[]
[]
["スタート\n№","地区中体連",{"$f":"表紙!$D$13","v":0},"市町村名",{"$f":"選手入力【女子】!$E37","v":0},"種　目","ＳＬ"]
[null,"学　校　名",null,"氏　　名",null,"学　年","地区ランク"]
[null,{"$f":"CONCATENATE(選手入力【女子】!$G37)","v":""},null,{"$f":"選手入力【女子】!$C37","v":0},null,{"$f":"選手入力【女子】!$D37","v":0},{"$f":"選手入力【女子】!$I37","v":0}]
[null,{"$f":"CONCATENATE(選手入力【女子】!$F37)","v":""},null,{"$f":"選手入力【女子】!$B37","v":0}]
[]
[]
["スタート\n№","地区中体連",{"$f":"表紙!$D$13","v":0},"市町村名",{"$f":"選手入力【女子】!$E38","v":0},"種　目","ＳＬ"]
[null,"学　校　名",null,"氏　　名",null,"学　年","地区ランク"]
[null,{"$f":"CONCATENATE(選手入力【女子】!$G38)","v":""},null,{"$f":"選手入力【女子】!$C38","v":0},null,{"$f":"選手入力【女子】!$D38","v":0},{"$f":"選手入力【女子】!$I38","v":0}]
[null,{"$f":"CONCATENATE(選手入力【女子】!$F38)","v":""},null,{"$f":"選手入力【女子】!$B38","v":0}]
[]
[]
["スタート\n№","地区中体連",{"$f":"表紙!$D$13","v":0},"市町村名",{"$f":"選手入力【女子】!$E39","v":0},"種　目","ＳＬ"]
[null,"学　校　名",null,"氏　　名",null,"学　年","地区ランク"]
[null,{"$f":"CONCATENATE(選手入力【女子】!$G39)","v":""},null,{"$f":"選手入力【女子】!$C39","v":0},null,{"$f":"選手入力【女子】!$D39","v":0},{"$f":"選手入力【女子】!$I39","v":0}]
[null,{"$f":"CONCATENATE(選手入力【女子】!$F39)","v":""},null,{"$f":"選手入力【女子】!$B39","v":0}]
[]
[]
["スタート\n№","地区中体連",{"$f":"表紙!$D$13","v":0},"市町村名",{"$f":"選手入力【女子】!$E40","v":0},"種　目","ＳＬ"]
[null,"学　校　名",null,"氏　　名",null,"学　年","地区ランク"]
[null,{"$f":"CONCATENATE(選手入力【女子】!$G40)","v":""},null,{"$f":"選手入力【女子】!$C40","v":0},null,{"$f":"選手入力【女子】!$D40","v":0},{"$f":"選手入力【女子】!$I40","v":0}]
[null,{"$f":"CONCATENATE(選手入力【女子】!$F40)","v":""},null,{"$f":"選手入力【女子】!$B40","v":0}]
[]
[]
["スタート\n№","地区中体連",{"$f":"表紙!$D$13","v":0},"市町村名",{"$f":"選手入力【女子】!$E41","v":0},"種　目","ＳＬ"]
[null,"学　校　名",null,"氏　　名",null,"学　年","地区ランク"]
[null,{"$f":"CONCATENATE(選手入力【女子】!$G41)","v":""},null,{"$f":"選手入力【女子】!$C41","v":0},null,{"$f":"選手入力【女子】!$D41","v":0},{"$f":"選手入力【女子】!$I41","v":0}]
[null,{"$f":"CONCATENATE(選手入力【女子】!$F41)","v":""},null,{"$f":"選手入力【女子】!$B41","v":0}]
[]
[]
["スタート\n№","地区中体連",{"$f":"表紙!$D$13","v":0},"市町村名",{"$f":"選手入力【女子】!$E42","v":0},"種　目","ＳＬ"]
[null,"学　校　名",null,"氏　　名",null,"学　年","地区ランク"]
[null,{"$f":"CONCATENATE(選手入力【女子】!$G42)","v":""},null,{"$f":"選手入力【女子】!$C42","v":0},null,{"$f":"選手入力【女子】!$D42","v":0},{"$f":"選手入力【女子】!$I42","v":0}]
[null,{"$f":"CONCATENATE(選手入力【女子】!$F42)","v":""},null,{"$f":"選手入力【女子】!$B42","v":0}]
[]
[]
["スタート\n№","地区中体連",{"$f":"表紙!$D$13","v":0},"市町村名",{"$f":"選手入力【女子】!$E43","v":0},"種　目","ＳＬ"]
[null,"学　校　名",null,"氏　　名",null,"学　年","地区ランク"]
[null,{"$f":"CONCATENATE(選手入力【女子】!$G43)","v":""},null,{"$f":"選手入力【女子】!$C43","v":0},null,{"$f":"選手入力【女子】!$D43","v":0},{"$f":"選手入力【女子】!$I43","v":0}]
[null,{"$f":"CONCATENATE(選手入力【女子】!$F43)","v":""},null,{"$f":"選手入力【女子】!$B43","v":0}]
[]
[]
["スタート\n№","地区中体連",{"$f":"表紙!$D$13","v":0},"市町村名",{"$f":"選手入力【女子】!$E44","v":0},"種　目","ＳＬ"]
[null,"学　校　名",null,"氏　　名",null,"学　年","地区ランク"]
[null,{"$f":"CONCATENATE(選手入力【女子】!$G44)","v":""},null,{"$f":"選手入力【女子】!$C44","v":0},null,{"$f":"選手入力【女子】!$D44","v":0},{"$f":"選手入力【女子】!$I44","v":0}]
[null,{"$f":"CONCATENATE(選手入力【女子】!$F44)","v":""},null,{"$f":"選手入力【女子】!$B44","v":0}]
[]
[]
["スタート\n№","地区中体連",{"$f":"表紙!$D$13","v":0},"市町村名",{"$f":"選手入力【女子】!$E45","v":0},"種　目","ＳＬ"]
[null,"学　校　名",null,"氏　　名",null,"学　年","地区ランク"]
[null,{"$f":"CONCATENATE(選手入力【女子】!$G45)","v":""},null,{"$f":"選手入力【女子】!$C45","v":0},null,{"$f":"選手入力【女子】!$D45","v":0},{"$f":"選手入力【女子】!$I45","v":0}]
[null,{"$f":"CONCATENATE(選手入力【女子】!$F45)","v":""},null,{"$f":"選手入力【女子】!$B45","v":0}]
[]
[]
["スタート\n№","地区中体連",{"$f":"表紙!$D$13","v":0},"市町村名",{"$f":"選手入力【女子】!$E46","v":0},"種　目","ＳＬ"]
[null,"学　校　名",null,"氏　　名",null,"学　年","地区ランク"]
[null,{"$f":"CONCATENATE(選手入力【女子】!$G46)","v":""},null,{"$f":"選手入力【女子】!$C46","v":0},null,{"$f":"選手入力【女子】!$D46","v":0},{"$f":"選手入力【女子】!$I46","v":0}]
[null,{"$f":"CONCATENATE(選手入力【女子】!$F46)","v":""},null,{"$f":"選手入力【女子】!$B46","v":0}]
[]
[]
["スタート\n№","地区中体連",{"$f":"表紙!$D$13","v":0},"市町村名",{"$f":"選手入力【女子】!$E47","v":0},"種　目","ＳＬ"]
[null,"学　校　名",null,"氏　　名",null,"学　年","地区ランク"]
[null,{"$f":"CONCATENATE(選手入力【女子】!$G47)","v":""},null,{"$f":"選手入力【女子】!$C47","v":0},null,{"$f":"選手入力【女子】!$D47","v":0},{"$f":"選手入力【女子】!$I47","v":0}]
[null,{"$f":"CONCATENATE(選手入力【女子】!$F47)","v":""},null,{"$f":"選手入力【女子】!$B47","v":0}]
[]
[]
["スタート\n№","地区中体連",{"$f":"表紙!$D$13","v":0},"市町村名",{"$f":"選手入力【女子】!$E48","v":0},"種　目","ＳＬ"]
[null,"学　校　名",null,"氏　　名",null,"学　年","地区ランク"]
[null,{"$f":"CONCATENATE(選手入力【女子】!$G48)","v":""},null,{"$f":"選手入力【女子】!$C48","v":0},null,{"$f":"選手入力【女子】!$D48","v":0},{"$f":"選手入力【女子】!$I48","v":0}]
[null,{"$f":"CONCATENATE(選手入力【女子】!$F48)","v":""},null,{"$f":"選手入力【女子】!$B48","v":0}]
[]
[]
["スタート\n№","地区中体連",{"$f":"表紙!$D$13","v":0},"市町村名",{"$f":"選手入力【女子】!$E49","v":0},"種　目","ＳＬ"]
[null,"学　校　名",null,"氏　　名",null,"学　年","地区ランク"]
[null,{"$f":"CONCATENATE(選手入力【女子】!$G49)","v":""},null,{"$f":"選手入力【女子】!$C49","v":0},null,{"$f":"選手入力【女子】!$D49","v":0},{"$f":"選手入力【女子】!$I49","v":0}]
[null,{"$f":"CONCATENATE(選手入力【女子】!$F49)","v":""},null,{"$f":"選手入力【女子】!$B49","v":0}]
[]
[]
["スタート\n№","地区中体連",{"$f":"表紙!$D$13","v":0},"市町村名",{"$f":"選手入力【女子】!$E50","v":0},"種　目","ＳＬ"]
[null,"学　校　名",null,"氏　　名",null,"学　年","地区ランク"]
[null,{"$f":"CONCATENATE(選手入力【女子】!$G50)","v":""},null,{"$f":"選手入力【女子】!$C50","v":0},null,{"$f":"選手入力【女子】!$D50","v":0},{"$f":"選手入力【女子】!$I50","v":0}]
[null,{"$f":"CONCATENATE(選手入力【女子】!$F50)","v":""},null,{"$f":"選手入力【女子】!$B50","v":0}]
[]
[]
["スタート\n№","地区中体連",{"$f":"表紙!$D$13","v":0},"市町村名",{"$f":"選手入力【女子】!$E51","v":0},"種　目","ＳＬ"]
[null,"学　校　名",null,"氏　　名",null,"学　年","地区ランク"]
[null,{"$f":"CONCATENATE(選手入力【女子】!$G51)","v":""},null,{"$f":"選手入力【女子】!$C51","v":0},null,{"$f":"選手入力【女子】!$D51","v":0},{"$f":"選手入力【女子】!$I51","v":0}]
[null,{"$f":"CONCATENATE(選手入力【女子】!$F51)","v":""},null,{"$f":"選手入力【女子】!$B51","v":0}]