{"text_format":"1","workbook":"xlsx","n_sheets":20,"sheets":["設定","事務局用","学校情報(設定)","大会情報(設定)","登録チーム情報(設定) ","チーム情報(設定)","試合情報(設定)","選手名簿情報","登録チーム情報","リスト","参加申込書　様式1(単独)　印刷用","参加申込書　様式2(合同)　印刷用","承諾書(10人未満)","承諾書(10人以上) ","オールメンバー表(Pos別1)","オールメンバー表(Pos別2)","オールメンバー表(セット別1)","オールメンバー表(セット別2)","単独校プロ用","合同プロ用"],"not_rendered":{"charts":0,"images":0,"macros":1,"external_links":0,"defined_names":12,"comments":0,"pivot_tables":0},"unopened":[],"bounds":{"document_bytes":16777216,"sheet_cells":100000,"rows_first":2000,"rows_last":500,"rows_between":2000,"halvings":0,"cell_chars":16384,"cell_head_chars":4096},"cells_cut":0,"cells_raw":0,"read":"whole","date_system":"1900"}

{"sheet":"設定","index":0,"n_rows":41,"n_cols":37,"rows_kept":41,"cut":false,"hidden":false,"merged":[[8,6,8,18],[10,6,10,18],[14,6,14,18],[36,29,36,41],[38,29,38,41],[12,6,12,18],[21,6,21,18],[40,29,40,41],[24,29,24,41],[28,29,28,41],[30,29,30,41],[26,26,26,41],[6,3,6,18],[4,30,4,31],[22,26,22,41],[6,26,6,41],[10,26,10,41],[12,29,12,41],[14,29,14,41],[16,29,16,41],[18,29,18,41],[8,29,8,41],[22,24,41,25],[16,6,16,18],[5,3,5,19],[6,24,19,25],[32,26,32,41],[34,29,34,41]]}
[]
[null,"ホーム"]
[null,null,null,null,null,null,null,null,null,null,null,null,null,null,null,null,null,null,null,null,null,null,null,null,null,null,null,null,null,"作成日","令和",5,"年",11,"月",22,"日"]
[]
[null,null,null,null,null,null,null,null,null,null,null,null,null,null,null,null,null,null,null,null,null,null,null,null,null,null,null,null,null,"地区順位",1,null,"位"]
[null,null,null,"※❶ → ❷ → ❸ → ❹ → ❺の順に入力"]
[null,null,null,"情報入力",null,null,null,null,null,null,null,null,null,null,null,null,null,null,null,null,null,null,null,null,"単独校",null,"単独校　　１．申込書(印刷)"]
[]
[null,null,null,null,null,"…","管内の中学校情報(校長名、住所等)",null,null,null,null,null,null,null,null,null,null,null,null,null,null,null,null,null,null,null,null,null,"…","単独校で出場する場合の申込書"]
[]
[null,null,null,null,null,"…","年度、大会名の設定",null,null,null,null,null,null,null,null,null,null,null,null,null,null,null,null,null,null,null,"単独校　　２．オールメンバー表(印刷)"]
[]
[null,null,null,null,null,"…","各チームの情報(チーム名・表記名)",null,null,null,null,null,null,null,null,null,null,null,null,null,null,null,null,null,null,null,null,null,"…","ポジション順【背番号１(ファースト)】"]
[]
[null,null,null,null,null,"…","チーム名、スタッフ情報、選手名簿等",null,null,null,null,null,null,null,null,null,null,null,null,null,null,null,null,null,null,null,null,null,"…","ポジション順【背番号２(セカンド)】"]
[]
[null,null,null,null,null,"…","対戦日、対戦相手",null,null,null,null,null,null,null,null,null,null,null,null,null,null,null,null,null,null,null,null,null,"…","セット順【背番号１(ファースト)】"]
[]
[null,null,null,null,null,null,null,null,null,null,null,null,null,null,null,null,null,null,null,null,null,null,null,null,null,null,null,null,"…","セット順【背番号２(セカンド)】"]
[]
[]
[null,null,null,null,null,"…","名簿情報、ファイルの初期化"]
[null,null,null,null,null,null,null,null,null,null,null,null,null,null,null,null,null,null,null,null,null,null,null,null,"合同チーム",null,"合同チーム　　１．申込書(印刷)"]
[]
[null,null,null,null,null,null,null,null,null,null,null,null,null,null,null,null,null,null,null,null,null,null,null,null,null,null,null,null,"…","合同チームで出場する場合の申込書"]
[]
[null,null,null,null,null,null,null,null,null,null,null,null,null,null,null,null,null,null,null,null,null,null,null,null,null,null,"合同チーム　　２．承諾書(印刷)"]
[]
[null,null,null,null,null,null,null,null,null,null,null,null,null,null,null,null,null,null,null,null,null,null,null,null,null,null,null,null,"…","合同チームで出場する場合の承諾書(10人Ver.)"]
[]
[null,null,null,null,null,null,null,null,null,null,null,null,null,null,null,null,null,null,null,null,null,null,null,null,null,null,null,null,"…","合同チームで出場する場合の承諾書(22人Ver.)"]
[]
[null,null,null,null,null,null,null,null,null,null,null,null,null,null,null,null,null,null,null,null,null,null,null,null,null,null,"合同チーム　　３．オールメンバー表(印刷)"]
[]
[null,null,null,null,null,null,null,null,null,null,null,null,null,null,null,null,null,null,null,null,null,null,null,null,null,null,null,null,"…","ポジション順【背番号１(ファースト)】"]
[]
[null,null,null,null,null,null,null,null,null,null,null,null,null,null,null,null,null,null,null,null,null,null,null,null,null,null,null,null,"…","ポジション順【背番号２(セカンド)】"]
[]
[null,null,null,null,null,null,null,null,null,null,null,null,null,null,null,null,null,null,null,null,null,null,null,null,null,null,null,null,"…","セット順【背番号１(ファースト)】"]
[]
[null,null,null,null,null,null,null,null,null,null,null,null,null,null,null,null,null,null,null,null,null,null,null,null,null,null,null,null,"…","セット順【背番号２(セカンド)】"]

{"sheet":"事務局用","index":1,"n_rows":22,"n_cols":5,"rows_kept":22,"cut":false,"hidden":false,"merged":[]}
[]
[null,"事務局用"]
[]
[]
[null,null,null,"…","選手名簿データーへの貼り付け用シート"]
[]
[null,null,null,"…","トーナメント･タイムテーブル･得点表データーへの貼り付け用シート"]
[]
[]
[]
[]
[]
[]
[]
[]
[null,null,null,"…","すべての入力のリセット"]
[]
[]
[null,null,null,"…","『❷大会情報』『❸登録チーム』以外の❶❹❺の入力のリセット"]
[]
[]
[null,null,null,"…","『❶学校情報』『❷大会情報』『❸登録チーム』以外の❹❺の入力のリセット"]

{"sheet":"学校情報(設定)","index":2,"n_rows":40,"n_cols":23,"rows_kept":40,"cut":false,"hidden":false,"merged":[[3,2,3,4],[9,9,9,13],[9,14,9,18],[8,3,8,4],[8,5,8,7],[9,5,9,7],[9,2,9,3],[7,4,7,7],[6,4,6,7]]}
[]
[]
[]
[null,null,"❶学校情報(入力)"]
[]
[]
[null,null,null,null,"都道府県ブロック",null,null,null,"都道府県"]
[null,null,null,"管内"]
[null,null,{"$f":"IF(C8=\"\",\"\",IF(C8=\"十勝\",\"全十勝\",C8))","v":""},"中学校体育連盟",null,"地区中体連会長名",null,null,"上田　和聡"]
[null,null,"学校名",null,"学校長","郵便番号",null,null,"住所","電話番号",null,null,null,null,"FAX"]
[null,1,null,"中学校",null,null,"-",null,null,null,"-",null,"-",null,null,"-",null,"-",null,{"$f":"IF(C11=\"\",\"\",C11&D11)","v":""},{"$f":"IF(F11=\"\",\"\",F11&G11&H11)","v":""},{"$f":"IF(J11=\"\",\"\",J11&K11&L11&M11&N11)","v":""},{"$f":"IF(O11=\"\",\"\",O11&P11&Q11&R11&S11)","v":""}]
[null,2,null,"中学校",null,null,"-",null,null,null,"-",null,"-",null,null,"-",null,"-",null,{"$f":"IF(C12=\"\",\"\",C12&D12)","v":""},"","",""]
[null,3,null,"中学校",null,null,"-",null,null,null,"-",null,"-",null,null,"-",null,"-",null,"","","",""]
[null,4,null,"中学校",null,null,"-",null,null,null,"-",null,"-",null,null,"-",null,"-",null,"","","",""]
[null,5,null,"中学校",null,null,"-",null,null,null,"-",null,"-",null,null,"-",null,"-",null,"","","",""]
[null,6,null,"中学校",null,null,"-",null,null,null,"-",null,"-",null,null,"-",null,"-",null,"","","",""]
[null,7,null,"中学校",null,null,"-",null,null,null,"-",null,"-",null,null,"-",null,"-",null,"","","",""]
[null,8,null,"中学校",null,null,"-",null,null,null,"-",null,"-",null,null,"-",null,"-",null,"","","",""]
[null,9,null,"中学校",null,null,"-",null,null,null,"-",null,"-",null,null,"-",null,"-",null,"","",{"$f":"IF(J19=\"\",\"\",J19&K19&L19&M19&N19)","v":""},""]
[null,10,null,"中学校",null,null,"-",null,null,null,"-",null,"-",null,null,"-",null,"-",null,"","","",""]
[null,11,null,"中学校",null,null,"-",null,null,null,"-",null,"-",null,null,"-",null,"-",null,"","","",""]
[null,12,null,"中学校",null,null,"-",null,null,null,"-",null,"-",null,null,"-",null,"-",null,"","","",""]
[null,13,null,"中学校",null,null,"-",null,null,null,"-",null,"-",null,null,"-",null,"-",null,"","","",""]
[null,14,null,"中学校",null,null,"-",null,null,null,"-",null,"-",null,null,"-",null,"-",null,"","","",""]
[null,15,null,"中学校",null,null,"-",null,null,null,"-",null,"-",null,null,"-",null,"-",null,"","","",""]
[null,16,null,"中学校",null,null,"-",null,null,null,"-",null,"-",null,null,"-",null,"-",null,"","","",""]
[null,17,null,"中学校",null,null,"-",null,null,null,"-",null,"-",null,null,"-",null,"-",null,"","","",""]
[null,18,null,"中学校",null,null,"-",null,null,null,"-",null,"-",null,null,"-",null,"-",null,"","","",""]
[null,19,null,"中学校",null,null,"-",null,null,null,"-",null,"-",null,null,"-",null,"-",null,"","","",""]
[null,20,null,"中学校",null,null,"-",null,null,null,"-",null,"-",null,null,"-",null,"-",null,"","","",""]
[null,21,null,"中学校",null,null,"-",null,null,null,"-",null,"-",null,null,"-",null,"-",null,"","","",""]
[null,22,null,"中学校",null,null,"-",null,null,null,"-",null,"-",null,null,"-",null,"-",null,"","","",""]
[null,23,null,"中学校",null,null,"-",null,null,null,"-",null,"-",null,null,"-",null,"-",null,"","","",""]
[null,24,null,"中学校",null,null,"-",null,null,null,"-",null,"-",null,null,"-",null,"-",null,"","","",""]
[null,25,null,"中学校",null,null,"-",null,null,null,"-",null,"-",null,null,"-",null,"-",null,"","","",""]
[null,26,null,"中学校",null,null,"-",null,null,null,"-",null,"-",null,null,"-",null,"-",null,"","","",""]
[null,27,null,"中学校",null,null,"-",null,null,null,"-",null,"-",null,null,"-",null,"-",null,"","","",""]
[null,28,null,"中学校",null,null,"-",null,null,null,"-",null,"-",null,null,"-",null,"-",null,"","","",""]
[null,29,null,"中学校",null,null,"-",null,null,null,"-",null,"-",null,null,"-",null,"-",null,"","","",""]
[null,30,null,"中学校",null,null,"-",null,null,null,"-",null,"-",null,null,"-",null,"-",null,{"$f":"IF(C40=\"\",\"\",C40&D40)","v":""},"","",""]

{"sheet":"大会情報(設定)","index":3,"n_rows":78,"n_cols":13,"rows_kept":78,"cut":false,"hidden":false,"merged":[[13,7,13,12],[6,2,6,3],[3,2,3,4],[47,7,47,12],[46,7,46,12],[12,7,12,12]]}
[]
[]
[]
[null,null,"❷大会情報(入力)"]
[]
[null,"年度",2023,"年度"]
[null,"大会","全道大会"]
[]
[null,null,{"$f":"IFERROR(VLOOKUP($C$6,$H$49:$M$78,2,FALSE),\"\")","v":"令和"},{"$f":"IF(C7=\"全国大会\",IFERROR(VLOOKUP($C$6,$H$15:$M$44,3,FALSE),\"\"),IF(C7=\"全道大会\",IFERROR(VLOOKUP($C$6,$H$49:$M$78,3,FALSE),\"\")))","v":5},{"$f":"IF($C$7=\"\",\"\",IFERROR(VLOOKUP('大会情報(設定)'!$C$7,リスト!$V$8:$X$9,2,FALSE),\"\"))","v":"年度　北海道中学校体育大会"},{"$f":"C9&D9&E9","v":"令和5年度　北海道中学校体育大会"}]
[]
[null,null,"第",{"$f":"IF(C7=\"全国大会\",IFERROR(VLOOKUP($C$6,$H$15:$M$44,5,FALSE),\"\"),IF(C7=\"全道大会\",IFERROR(VLOOKUP($C$6,$H$49:$M$78,5,FALSE),\"\")))","v":54},{"$f":"IF($C$7=\"\",\"\",IFERROR(VLOOKUP('大会情報(設定)'!$C$7,リスト!$V$8:$X$9,3,FALSE),\"\"))","v":"回北海道中学校アイスホッケー大会"},{"$f":"C11&D11&E11","v":"第54回北海道中学校アイスホッケー大会"}]
[]
[null,null,null,null,null,null,null,"全国大会"]
[null,null,null,null,null,null,null,"年度と大会回数"]
[null,null,null,null,null,null,null,2022,"令和",4,"第",{"$f":"H15-1979","v":43},"回"]
[null,null,null,null,null,null,null,{"$f":"H15+1","v":2023},{"$f":"I15","v":"令和"},5,"第",{"$f":"H16-1979","v":44},"回"]
[null,null,null,null,null,null,null,{"$f":"H16+1","v":2024},{"$f":"I16","v":"令和"},{"$f":"J16+1","v":6},"第",45,"回"]
[null,null,null,null,null,null,null,2025,{"$f":"I17","v":"令和"},7,"第",46,"回"]
[null,null,null,null,null,null,null,2026,"令和",8,"第",47,"回"]
[null,null,null,null,null,null,null,2027,"令和",9,"第",48,"回"]
[null,null,null,null,null,null,null,2028,"令和",10,"第",49,"回"]
[null,null,null,null,null,null,null,2029,"令和",11,"第",50,"回"]
[null,null,null,null,null,null,null,2030,"令和",12,"第",51,"回"]
[null,null,null,null,null,null,null,2031,"令和",13,"第",52,"回"]
[null,null,null,null,null,null,null,2032,"令和",14,"第",53,"回"]
[null,null,null,null,null,null,null,2033,"令和",15,"第",54,"回"]
[null,null,null,null,null,null,null,2034,"令和",16,"第",55,"回"]
[null,null,null,null,null,null,null,2035,"令和",17,"第",56,"回"]
[null,null,null,null,null,null,null,2036,"令和",18,"第",57,"回"]
[null,null,null,null,null,null,null,2037,"令和",19,"第",58,"回"]
[null,null,null,null,null,null,null,2038,"令和",20,"第",59,"回"]
[null,null,null,null,null,null,null,2039,"令和",21,"第",60,"回"]
[null,null,null,null,null,null,null,2040,"令和",22,"第",61,"回"]
[null,null,null,null,null,null,null,2041,"令和",23,"第",62,"回"]
[null,null,null,null,null,null,null,2042,"令和",24,"第",63,"回"]
[null,null,null,null,null,null,null,2043,"令和",25,"第",64,"回"]
[null,null,null,null,null,null,null,2044,"令和",26,"第",65,"回"]
[null,null,null,null,null,null,null,2045,"令和",27,"第",66,"回"]
[null,null,null,null,null,null,null,2046,"令和",28,"第",67,"回"]
[null,null,null,null,null,null,null,2047,"令和",29,"第",68,"回"]
[null,null,null,null,null,null,null,2048,"令和",30,"第",69,"回"]
[null,null,null,null,null,null,null,2049,"令和",31,"第",70,"回"]
[null,null,null,null,null,null,null,2050,"令和",32,"第",71,"回"]
[null,null,null,null,null,null,null,2051,"令和",33,"第",72,"回"]
[]
[]
[null,null,null,null,null,null,null,"全道大会"]
[null,null,null,null,null,null,null,"年度と大会回数"]
[null,null,null,null,null,null,null,{"$f":"H15","v":2022},{"$f":"I15","v":"令和"},{"$f":"J15","v":4},"第",{"$f":"H49-1969","v":53},"回"]
[null,null,null,null,null,null,null,{"$f":"H49+1","v":2023},{"$f":"I16","v":"令和"},{"$f":"J16","v":5},"第",{"$f":"H50-1969","v":54},"回"]
[null,null,null,null,null,null,null,{"$f":"H50+1","v":2024},{"$f":"I50","v":"令和"},{"$f":"J50+1","v":6},"第",55,"回"]
[null,null,null,null,null,null,null,2025,{"$f":"I51","v":"令和"},{"$f":"J51+1","v":7},"第",56,"回"]
[null,null,null,null,null,null,null,2026,"令和",8,"第",57,"回"]
[null,null,null,null,null,null,null,2027,"令和",9,"第",58,"回"]
[null,null,null,null,null,null,null,2028,"令和",10,"第",59,"回"]
[null,null,null,null,null,null,null,2029,"令和",11,"第",60,"回"]
[null,null,null,null,null,null,null,2030,"令和",12,"第",61,"回"]
[null,null,null,null,null,null,null,2031,"令和",13,"第",62,"回"]
[null,null,null,null,null,null,null,2032,"令和",14,"第",63,"回"]
[null,null,null,null,null,null,null,2033,"令和",15,"第",64,"回"]
[null,null,null,null,null,null,null,2034,"令和",16,"第",65,"回"]
[null,null,null,null,null,null,null,2035,"令和",17,"第",66,"回"]
[null,null,null,null,null,null,null,2036,"令和",18,"第",67,"回"]
[null,null,null,null,null,null,null,2037,"令和",19,"第",68,"回"]
[null,null,null,null,null,null,null,2038,"令和",20,"第",69,"回"]
[null,null,null,null,null,null,null,2039,"令和",21,"第",70,"回"]
[null,null,null,null,null,null,null,2040,"令和",22,"第",71,"回"]
[null,null,null,null,null,null,null,2041,"令和",23,"第",72,"回"]
[null,null,null,null,null,null,null,2042,"令和",24,"第",73,"回"]
[null,null,null,null,null,null,null,2043,"令和",25,"第",74,"回"]
[null,null,null,null,null,null,null,2044,"令和",26,"第",75,"回"]
[null,null,null,null,null,null,null,2045,"令和",27,"第",76,"回"]
[null,null,null,null,null,null,null,2046,"令和",28,"第",77,"回"]
[null,null,null,null,null,null,null,2047,"令和",29,"第",78,"回"]
[null,null,null,null,null,null,null,2048,"令和",30,"第",79,"回"]
[null,null,null,null,null,null,null,2049,"令和",31,"第",80,"回"]
[null,null,null,null,null,null,null,2050,"令和",32,"第",81,"回"]
[null,null,null,null,null,null,null,2051,"令和",33,"第",82,"回"]

{"sheet":"登録チーム情報(設定) ","index":4,"n_rows":34,"n_cols":20,"rows_kept":34,"cut":false,"hidden":false,"merged":[[7,2,7,3],[8,2,8,3]]}
[]
[]
[]
[]
[]
[]
[]
[null,null,"❸登録チーム情報(入力)"]
[null,null,"学校名",null,"チーム表記(6文字以内)",1,2,3,4,5,6]
[null,{"$f":"IF(E10=\"\",\"\",E10)","v":""},1,null,null,{"$f":"IF(E10=\"\",\"\",MID($E10,F$9,1))","v":""},{"$f":"IF(L10=\"\",\"\",MID($E10,G$9,1))","v":""},{"$f":"IF(F10=\"\",\"\",MID($E10,H$9,1))","v":""},"","","",{"$f":"IF(D10=\"\",\"\",D10)","v":""},{"$f":"IF(E10=\"\",\"\",E10)","v":""},{"$f":"IF(F10=\"\",\"\",F10)","v":""},{"$f":"IF(G10=\"\",\"\",G10)","v":""},{"$f":"IF(H10=\"\",\"\",H10)","v":""},"","","",{"$f":"IF(D10=\"\",\"\",D10)","v":""}]
[null,"",2,null,null,"","","","","","",{"$f":"IF(D11=\"\",\"\",D11)","v":""},{"$f":"IF(E11=\"\",\"\",E11)","v":""},{"$f":"IF(F11=\"\",\"\",F11)","v":""},"","","","","",""]
[null,"",3,null,null,"","","","","","","","","","","","","","",""]
[null,"",4,null,null,"","","","","","","","","","","","","","",""]
[null,"",5,null,null,"","","","","","","","","","","","","","",""]
[null,"",6,null,null,"","","","","","","","","","","","","","",""]
[null,"",7,null,null,"","","","","","","","","","","","","","",""]
[null,"",8,null,null,"","","","","","","","","","","","","","",""]
[null,"",9,null,null,"","","","","","","","","","","","","","",""]
[null,"",10,null,null,"","","","","","","","","","","","","","",""]
[null,"",11,null,null,"","","","","","","","","","","","","","",""]
[null,"",12,null,null,"","","","","","","","","","","","","","",""]
[null,"",13,null,null,"","","","","","","","","","","","","","",""]
[null,"",14,null,null,"","","","","","","","","","","","","","",""]
[null,"",15,null,null,"","","","","","","","","","","","","","",""]
[null,null,16,null,null,{"$f":"IF(E25=\"\",\"\",MID($E25,F$9,1))","v":""},{"$f":"IF(L25=\"\",\"\",MID($E25,G$9,1))","v":""},{"$f":"IF(F25=\"\",\"\",MID($E25,H$9,1))","v":""},{"$f":"IF(G25=\"\",\"\",MID($E25,I$9,1))","v":""},{"$f":"IF(H25=\"\",\"\",MID($E25,J$9,1))","v":""},{"$f":"IF(I25=\"\",\"\",MID($E25,K$9,1))","v":""},"",{"$f":"IF(E25=\"\",\"\",E25)","v":""},"","","","","","",""]
[null,null,17,null,null,{"$f":"IF(E26=\"\",\"\",MID($E26,F$9,1))","v":""},{"$f":"IF(L26=\"\",\"\",MID($E26,G$9,1))","v":""},{"$f":"IF(F26=\"\",\"\",MID($E26,H$9,1))","v":""},{"$f":"IF(G26=\"\",\"\",MID($E26,I$9,1))","v":""},{"$f":"IF(H26=\"\",\"\",MID($E26,J$9,1))","v":""},{"$f":"IF(I26=\"\",\"\",MID($E26,K$9,1))","v":""},"",{"$f":"IF(E26=\"\",\"\",E26)","v":""},{"$f":"IF(F26=\"\",\"\",F26)","v":""},{"$f":"IF(G26=\"\",\"\",G26)","v":""},{"$f":"IF(H26=\"\",\"\",H26)","v":""},{"$f":"IF(I26=\"\",\"\",I26)","v":""},{"$f":"IF(J26=\"\",\"\",J26)","v":""},{"$f":"IF(K26=\"\",\"\",K26)","v":""},""]
[null,null,18,null,null,"","","","","","","","","","","","","","",""]
[null,null,19,null,null,"","","","","","","","","","","","","","",""]
[null,null,20,null,null,"","","","","","","","","","","","","","",""]
[null,null,21,null,null,"","","","","","","","","","","","","","",""]
[null,null,22,null,null,"","","","","","","","","","","","","","",""]
[null,null,23,null,null,"","","","","","","","","","","","","","",""]
[null,null,24,null,null,{"$f":"IF(E33=\"\",\"\",MID($E33,F$9,1))","v":""},{"$f":"IF(L33=\"\",\"\",MID($E33,G$9,1))","v":""},{"$f":"IF(F33=\"\",\"\",MID($E33,H$9,1))","v":""},"","","","",{"$f":"IF(E33=\"\",\"\",E33)","v":""},"","","","","","",{"$f":"IF(D33=\"\",\"\",D33)","v":""}]
[null,null,25,null,null,{"$f":"IF(E34=\"\",\"\",MID($E34,F$9,1))","v":""},{"$f":"IF(L34=\"\",\"\",MID($E34,G$9,1))","v":""},"","","","","","","","","","","","",{"$f":"IF(D34=\"\",\"\",D34)","v":""}]

{"sheet":"チーム情報(設定)","index":5,"n_rows":350,"n_cols":28,"rows_kept":350,"cut":false,"hidden":false,"merged":[[6,1,7,1],[11,1,22,1],[11,3,11,4],[13,3,13,4],[14,3,14,4],[15,3,15,4],[16,3,16,4],[17,3,17,4],[12,3,12,4],[6,17,6,22],[33,8,34,8],[31,9,32,9],[33,9,34,9],[6,15,6,16],[8,15,8,16],[7,15,7,16],[12,7,12,8],[13,7,13,8],[3,1,3,3],[40,8,40,9],[37,1,37,2],[14,7,14,8],[15,7,15,8],[16,7,16,8],[17,7,17,8],[18,7,18,8],[19,7,19,8],[20,7,20,8],[21,3,21,4],[21,7,21,8],[7,3,7,13],[6,3,6,13],[25,8,25,9],[11,7,11,8],[39,12,39,14],[18,3,18,4],[19,3,19,4],[20,3,20,4],[22,3,22,4],[22,7,22,8],[26,8,26,9],[27,8,27,9],[26,4,26,5],[26,2,26,3],[32,12,32,16],[34,12,34,16],[31,8,32,8]]}
[]
[]
[]
[null,"❹チーム情報(入力)"]
[]
[]
[null,"チーム","ふりがな",null,null,null,null,null,null,null,null,null,null,null,null,"ふりがな",null,null,null,null,null,null,null,{"$f":"R7","v":0}]
[null,null,"中学校名",null,null,null,null,null,null,null,null,null,null,null,null,"チーム表記",null,null,null,null,null,null,null,{"$f":"R8&S8&T8&U8&V8&W8","v":""},{"$f":"IF(D12=\"\",\"\",D12)","v":""},{"$f":"IF(F12=\"\",\"\",F12)","v":""},{"$f":"M32&N32&O32&P32&Q32","v":"--"},{"$f":"J32&\"(\"&L32&R32&\")\"","v":"(電話)"}]
[null,null,null,null,null,null,null,null,null,null,null,null,null,null,null,"6文字以内",null,1,2,3,4,5,6,2,{"$f":"IF(D13=\"\",\"\",D13)","v":""},{"$f":"IF(F13=\"\",\"\",F13)","v":""},{"$f":"M33&N33&O33&P33&Q33","v":""},{"$f":"L33&R33","v":"アドレス"}]
[null,null,null,null,null,null,null,null,null,null,null,null,null,null,null,null,null,null,null,null,null,null,null,3,"","",{"$f":"M34&N34&O34&P34&Q34","v":"--"},{"$f":"J34&\"(\"&L34&R34&\")\"","v":"(電話)"}]
[null,null,null,null,null,null,null,null,null,null,null,null,null,null,null,null,null,null,null,null,null,null,null,4,"","",{"$f":"M35&N35&O35&P35&Q35","v":""},{"$f":"L35&R35","v":"アドレス"}]
[null,"所属中学校","1(単独)",null,null,{"$f":"IFERROR(VLOOKUP(D12,'学校情報(設定)'!$C$11:$D$40,2,FALSE),\"\")","v":""},13,null,null,{"$f":"IFERROR(VLOOKUP(H12,'学校情報(設定)'!$C$11:$D$40,2,FALSE),\"\")","v":""},null,null,null,null,null,null,null,null,null,null,null,null,null,5,"",""]
[null,null,2,null,null,{"$f":"IFERROR(VLOOKUP(D13,'学校情報(設定)'!$C$11:$D$40,2,FALSE),\"\")","v":""},14,null,null,{"$f":"IFERROR(VLOOKUP(H13,'学校情報(設定)'!$C$11:$D$40,2,FALSE),\"\")","v":""},null,null,null,null,null,null,null,null,null,null,null,null,null,6,"",""]
[null,null,3,null,null,{"$f":"IFERROR(VLOOKUP(D14,'学校情報(設定)'!$C$11:$D$40,2,FALSE),\"\")","v":""},15,null,null,{"$f":"IFERROR(VLOOKUP(H14,'学校情報(設定)'!$C$11:$D$40,2,FALSE),\"\")","v":""},null,null,null,null,null,null,null,null,null,null,null,null,null,7,"",""]
[null,null,4,null,null,{"$f":"IFERROR(VLOOKUP(D15,'学校情報(設定)'!$C$11:$D$40,2,FALSE),\"\")","v":""},16,null,null,{"$f":"IFERROR(VLOOKUP(H15,'学校情報(設定)'!$C$11:$D$40,2,FALSE),\"\")","v":""},null,null,null,null,null,null,null,null,null,null,null,null,null,8,"",""]
[null,null,5,null,null,{"$f":"IFERROR(VLOOKUP(D16,'学校情報(設定)'!$C$11:$D$40,2,FALSE),\"\")","v":""},17,null,null,{"$f":"IFERROR(VLOOKUP(H16,'学校情報(設定)'!$C$11:$D$40,2,FALSE),\"\")","v":""},null,null,null,null,null,null,null,null,null,null,null,null,null,9,"",""]
[null,null,6,null,null,{"$f":"IFERROR(VLOOKUP(D17,'学校情報(設定)'!$C$11:$D$40,2,FALSE),\"\")","v":""},18,null,null,{"$f":"IFERROR(VLOOKUP(H17,'学校情報(設定)'!$C$11:$D$40,2,FALSE),\"\")","v":""},null,null,null,null,null,null,null,null,null,null,null,null,null,10,"",""]
[null,null,7,null,null,{"$f":"IFERROR(VLOOKUP(D18,'学校情報(設定)'!$C$11:$D$40,2,FALSE),\"\")","v":""},19,null,null,{"$f":"IFERROR(VLOOKUP(H18,'学校情報(設定)'!$C$11:$D$40,2,FALSE),\"\")","v":""},null,null,null,null,null,null,null,null,null,null,null,null,null,11,{"$f":"IF(D22=\"\",\"\",D22)","v":""},""]
[null,null,8,null,null,{"$f":"IFERROR(VLOOKUP(D19,'学校情報(設定)'!$C$11:$D$40,2,FALSE),\"\")","v":""},20,null,null,{"$f":"IFERROR(VLOOKUP(H19,'学校情報(設定)'!$C$11:$D$40,2,FALSE),\"\")","v":""},null,null,null,null,null,null,null,null,null,null,null,null,null,12,"",""]
[null,null,9,null,null,{"$f":"IFERROR(VLOOKUP(D20,'学校情報(設定)'!$C$11:$D$40,2,FALSE),\"\")","v":""},21,null,null,{"$f":"IFERROR(VLOOKUP(H20,'学校情報(設定)'!$C$11:$D$40,2,FALSE),\"\")","v":""},null,null,null,null,null,null,null,null,null,null,null,null,null,13,{"$f":"IF(H12=\"\",\"\",H12)","v":""},{"$f":"IF(J12=\"\",\"\",J12)","v":""}]
[null,null,10,null,null,{"$f":"IFERROR(VLOOKUP(D21,'学校情報(設定)'!$C$11:$D$40,2,FALSE),\"\")","v":""},22,null,null,{"$f":"IFERROR(VLOOKUP(H21,'学校情報(設定)'!$C$11:$D$40,2,FALSE),\"\")","v":""},null,null,null,null,null,null,null,null,null,null,null,null,null,14,{"$f":"IF(H13=\"\",\"\",H13)","v":""},{"$f":"IF(J13=\"\",\"\",J13)","v":""}]
[null,null,11,null,null,{"$f":"IFERROR(VLOOKUP(D22,'学校情報(設定)'!$C$11:$D$40,2,FALSE),\"\")","v":""},23,null,null,{"$f":"IFERROR(VLOOKUP(H22,'学校情報(設定)'!$C$11:$D$40,2,FALSE),\"\")","v":""},null,null,null,null,null,null,null,null,null,null,null,null,null,15,{"$f":"IF(H14=\"\",\"\",H14)","v":""},{"$f":"IF(J14=\"\",\"\",J14)","v":""}]
[null,null,12,null,null,{"$f":"IFERROR(VLOOKUP(D23,'学校情報(設定)'!$C$11:$D$40,2,FALSE),\"\")","v":""},24,null,null,{"$f":"IFERROR(VLOOKUP(H23,'学校情報(設定)'!$C$11:$D$40,2,FALSE),\"\")","v":""},null,null,null,null,null,null,null,null,null,null,null,null,null,16,{"$f":"IF(H15=\"\",\"\",H15)","v":""},{"$f":"IF(J15=\"\",\"\",J15)","v":""}]
[null,null,null,null,null,null,null,null,null,null,null,null,null,null,null,null,null,null,null,null,null,null,null,17,{"$f":"IF(H16=\"\",\"\",H16)","v":""},{"$f":"IF(J16=\"\",\"\",J16)","v":""}]
[null,null,null,null,null,null,null,null,null,null,null,null,null,null,null,null,null,null,null,null,null,null,null,18,{"$f":"IF(H17=\"\",\"\",H17)","v":""},{"$f":"IF(J17=\"\",\"\",J17)","v":""}]
[null,null,null,null,null,null,null,null,"(監督が部活動指導員の場合のみ)",null,null,null,null,null,null,null,null,null,null,null,null,null,null,19,"",""]
[null,null,"名前",null,"所属中学校",null,"役職","性別","任命権者",null,null,null,null,null,null,null,null,null,null,null,null,null,null,20,"",""]
[null,"監　督",null,null,null,{"$f":"IFERROR(VLOOKUP(E28,$Y$8:$Z$35,2,FALSE),\"\")","v":""},null,null,null,null,null,null,null,null,null,null,null,null,null,null,null,null,null,21,"",""]
[null,null,null,null,null,{"$f":"IFERROR(VLOOKUP(E29,$Y$8:$Z$35,2,FALSE),\"\")","v":""},null,null,null,null,null,null,null,null,null,null,null,null,null,null,null,null,null,22,"",""]
[null,null,null,null,null,{"$f":"IFERROR(VLOOKUP(E30,$Y$8:$Z$35,2,FALSE),\"\")","v":""},null,null,null,null,null,null,null,null,null,null,null,null,null,null,null,null,null,23,"",""]
[null,null,null,null,null,{"$f":"IFERROR(VLOOKUP(E31,$Y$8:$Z$35,2,FALSE),\"\")","v":""},null,null,"連　絡　先","担当者",null,null,null,null,null,null,null,null,null,null,null,null,null,24,"",""]
[null,null,null,null,null,{"$f":"IFERROR(VLOOKUP(E32,$Y$8:$Z$35,2,FALSE),\"\")","v":""},null,null,"大会前",null,"電話番号",null,null,"-",null,"-",null,"電話"]
[null,null,null,null,null,null,null,null,null,null,"メールアドレス",null,null,null,null,null,null,"アドレス"]
[null,null,null,null,null,null,null,null,"大会中",null,"電話番号",null,null,"-",null,"-",null,"電話"]
[null,null,null,null,null,null,null,null,null,null,"メールアドレス",null,null,null,null,null,null,"アドレス"]
[]
[]
[null,"ユニフォームカラー",null,"背番号１",null,"背番号２"]
[]
[null,null,null,null,null,null,null,null,null,null,null,null,"生年月日"]
[null,"No,","背番号２","背番号１","ポジション","氏　　名","よみがな","C/A","学校名",null,"学年","日ア連番号","年(西暦)","月","日生"]
[null,1,null,null,null,null,null,null,null,{"$f":"IFERROR(VLOOKUP($I42,$Y$8:$Z$35,2,FALSE),\"\")","v":""}]
[null,2,null,null,null,null,null,null,null,{"$f":"IFERROR(VLOOKUP($I43,$Y$8:$Z$35,2,FALSE),\"\")","v":""}]
[null,3,null,null,null,null,null,null,null,""]
[null,4,null,null,null,null,null,null,null,""]
[null,5,null,null,null,null,null,null,null,""]
[null,6,null,null,null,null,null,null,null,""]
[null,7,null,null,null,null,null,null,null,""]
[null,8,null,null,null,null,null,null,null,""]
[null,9,null,null,null,null,null,null,null,""]
[null,10,null,null,null,null,null,null,null,""]
[null,11,null,null,null,null,null,null,null,""]
[null,12,null,null,null,null,null,null,null,""]
[null,13,null,null,null,null,null,null,null,""]
[null,14,null,null,null,null,null,null,null,""]
[null,15,null,null,null,null,null,null,null,""]
[null,16,null,null,null,null,null,null,null,""]
[null,17,null,null,null,null,null,null,null,""]
[null,18,null,null,null,null,null,null,null,""]
[null,19,null,null,null,null,null,null,null,{"$f":"IFERROR(VLOOKUP($I60,$Y$8:$Z$35,2,FALSE),\"\")","v":""}]
[null,20,null,null,null,null,null,null,null,""]
[null,21,null,null,null,null,null,null,null,""]
[null,22,null,null,null,null,null,null,null,""]
[null,23,null,null,null,null,null,null,null,""]
[null,24,null,null,null,null,null,null,null,""]
[null,25,null,null,null,null,null,null,null,""]
[null,{"$f":"IF(B41=\"\",\"\",B41)","v":"No,"},{"$f":"IF(E41=\"\",\"\",E41)","v":"ポジション"},{"$f":"IF(D41=\"\",\"\",D41)","v":"背番号１"},{"$f":"IF(H41=\"\",\"\",H41)","v":"C/A"},{"$f":"IF(C41=\"\",\"\",C41)","v":"背番号２"},{"$f":"IF(H41=\"\",\"\",H41)","v":"C/A"},{"$f":"IF(F41=\"\",\"\",F41)","v":"氏　　名"},"よみがな",{"$f":"IF(K41=\"\",\"\",K41)","v":"学年"},{"$f":"IF(M40=\"\",\"\",M40)","v":"生年月日"},{"$f":"IF(I41=\"\",\"\",I41)","v":"学校名"},{"$f":"IF(L41=\"\",\"\",L41)","v":"日ア連番号"},null,null,{"$f":"C67","v":"ポジション"}]
[{"$f":"IF(M68=\"\",\"\",RANK(M68,$M$68:$M$92,1))","v":""},1,{"$f":"IF(E42=\"\",\"\",ASC(E42))","v":""},"",{"$f":"IF(H42=\"\",\"\",ASC(H42))","v":""},"",{"$f":"IF(H42=\"\",\"\",ASC(H42))","v":""},"",{"$f":"IF(G42=\"\",\"\",PHONETIC(G42))","v":""},"",{"$f":"IF(OR(M42=\"\",N42=\"\",O42=\"\"),\"\",TEXT(DATE(M42,N42,O42),\"yy.mm.dd\"))","v":""},{"$f":"IF(I42=\"\",\"\",I42&J42)","v":""},"",{"$f":"IF(C68=\"\",\"\",$M42*10000+$N42*100+$O42)","v":""},{"$f":"IF(I42=\"\",\"\",I42)","v":""},{"$f":"C68","v":""}]
[{"$f":"IF(M69=\"\",\"\",RANK(M69,$M$68:$M$92,1))","v":""},2,{"$f":"IF(E43=\"\",\"\",ASC(E43))","v":""},"",{"$f":"IF(H43=\"\",\"\",ASC(H43))","v":""},"",{"$f":"IF(H43=\"\",\"\",ASC(H43))","v":""},"",{"$f":"IF(G43=\"\",\"\",PHONETIC(G43))","v":""},"",{"$f":"IF(OR(M43=\"\",N43=\"\",O43=\"\"),\"\",TEXT(DATE(M43,N43,O43),\"yy.mm.dd\"))","v":""},{"$f":"IF(I43=\"\",\"\",I43&J43)","v":""},"",{"$f":"IF(C69=\"\",\"\",$M43*10000+$N43*100+$O43)","v":""},{"$f":"IF(I43=\"\",\"\",I43)","v":""},{"$f":"C69","v":""}]
["",3,"","","","","","","","",{"$f":"IF(OR(M44=\"\",N44=\"\",O44=\"\"),\"\",TEXT(DATE(M44,N44,O44),\"yy.mm.dd\"))","v":""},"","","","",""]
["",4,"","","","","","","","","","","","","",""]
["",5,"","","","","","","","","","","","","",""]
["",6,"","","","","","","","","","","","","",""]
["",7,"","","","","","","","","","","","","",""]
["",8,"","","","","","","","","","","","","",""]
["",9,"","","","","","","","","","","","","",""]
["",10,"","","","","","","","","","","","","",""]
["",11,"","","","","","","","","","","","","",""]
["",12,"","","","","","","","","","","","","",""]
["",13,"","","","","","","","","","","","","",""]
["",14,"","","","","","","","","","","","","",""]
["",15,"","","","","","","","","","","","","",""]
["",16,"","","","","","","","","","","","","",""]
["",17,"","","","","","","","","","","","","",""]
["",18,"","","","","","","","","","","","","",""]
["",19,"","","","","","","","","","","","","",""]
["",20,"","","","","","","","",{"$f":"IF(OR(M61=\"\",N61=\"\",O61=\"\"),\"\",TEXT(DATE(M61,N61,O61),\"yy.mm.dd\"))","v":""},{"$f":"IF(I61=\"\",\"\",I61&J61)","v":""},{"$f":"IF(L61=\"\",\"\",L61)","v":""},{"$f":"IF(C87=\"\",\"\",$M61*10000+$N61*100+$O61)","v":""},{"$f":"IF(I61=\"\",\"\",I61)","v":""},{"$f":"C87","v":""}]
["",21,"","","","","","",{"$f":"IF(G62=\"\",\"\",PHONETIC(G62))","v":""},"","","","","","",""]
["",{"$f":"IF(B63=\"\",\"\",B63)","v":22},{"$f":"IF(E63=\"\",\"\",ASC(E63))","v":""},"","","","","","","","","","","","",""]
["",{"$f":"IF(B64=\"\",\"\",B64)","v":23},{"$f":"IF(E64=\"\",\"\",ASC(E64))","v":""},"","","","","","","","","","","","",""]
["",{"$f":"IF(B65=\"\",\"\",B65)","v":24},{"$f":"IF(E65=\"\",\"\",ASC(E65))","v":""},"","","","",{"$f":"IF(F65=\"\",\"\",F65)","v":""},"","","","","","","",""]
["",{"$f":"IF(B66=\"\",\"\",B66)","v":25},{"$f":"IF(E66=\"\",\"\",ASC(E66))","v":""},{"$f":"IF(D66=\"\",\"\",D66)","v":""},"","","",{"$f":"IF(F66=\"\",\"\",F66)","v":""},"","","","","","","",""]
[null,{"$f":"IF('承諾書(10人未満)'!$AP$5=\"\",\"\",'承諾書(10人未満)'!$AP$5)","v":""}]
[null,"該当","連番","NO,","名前","学校名","学年","生年月日"]
[null,{"$f":"IF(F95=$B$93,\"○\",\"\")","v":"○"},{"$f":"IF(B95=\"\",\"\",COUNTIF(B95,\"○\"))","v":1},1,{"$f":"IFERROR(VLOOKUP($D95,$A$68:$M$92,8,FALSE),\"\")","v":""},{"$f":"IFERROR(VLOOKUP($D95,$A$68:$O$92,15,FALSE),\"\")","v":""},{"$f":"IFERROR(VLOOKUP($D95,$A$68:$M$92,10,FALSE),\"\")","v":""},{"$f":"IFERROR(VLOOKUP($D95,$A$68:$M$92,11,FALSE),\"\")","v":""}]
[null,"○",{"$f":"IF(B96=\"\",\"\",COUNTIF($B$95:B96,\"○\"))","v":2},2,{"$f":"IFERROR(VLOOKUP($D96,$A$68:$M$92,8,FALSE),\"\")","v":""},{"$f":"IFERROR(VLOOKUP($D96,$A$68:$O$92,15,FALSE),\"\")","v":""},{"$f":"IFERROR(VLOOKUP($D96,$A$68:$M$92,10,FALSE),\"\")","v":""},{"$f":"IFERROR(VLOOKUP($D96,$A$68:$M$92,11,FALSE),\"\")","v":""}]
[null,"○",{"$f":"IF(B97=\"\",\"\",COUNTIF($B$95:B97,\"○\"))","v":3},3,"","","",""]
[null,{"$f":"IF(F98=$B$93,\"○\",\"\")","v":"○"},{"$f":"IF(B98=\"\",\"\",COUNTIF($B$95:B98,\"○\"))","v":4},4,"","","",""]
[null,"○",{"$f":"IF(B99=\"\",\"\",COUNTIF($B$95:B99,\"○\"))","v":5},5,"","","",""]
[null,"○",{"$f":"IF(B100=\"\",\"\",COUNTIF($B$95:B100,\"○\"))","v":6},6,"","","",""]
[null,"○",{"$f":"IF(B101=\"\",\"\",COUNTIF($B$95:B101,\"○\"))","v":7},7,"","","",""]
[null,"○",{"$f":"IF(B102=\"\",\"\",COUNTIF($B$95:B102,\"○\"))","v":8},8,"","","",""]
[null,"○",{"$f":"IF(B103=\"\",\"\",COUNTIF($B$95:B103,\"○\"))","v":9},9,"","","",""]
[null,"○",{"$f":"IF(B104=\"\",\"\",COUNTIF($B$95:B104,\"○\"))","v":10},10,"","","",""]
[null,"○",{"$f":"IF(B105=\"\",\"\",COUNTIF($B$95:B105,\"○\"))","v":11},11,"","","",""]
[null,"○",{"$f":"IF(B106=\"\",\"\",COUNTIF($B$95:B106,\"○\"))","v":12},12,"","","",""]
[null,"○",{"$f":"IF(B107=\"\",\"\",COUNTIF($B$95:B107,\"○\"))","v":13},13,"","","",""]
[null,"○",{"$f":"IF(B108=\"\",\"\",COUNTIF($B$95:B108,\"○\"))","v":14},14,"","","",""]
[null,"○",{"$f":"IF(B109=\"\",\"\",COUNTIF($B$95:B109,\"○\"))","v":15},15,"","","",""]
[null,"○",{"$f":"IF(B110=\"\",\"\",COUNTIF($B$95:B110,\"○\"))","v":16},16,"","","",""]
[null,"○",{"$f":"IF(B111=\"\",\"\",COUNTIF($B$95:B111,\"○\"))","v":17},17,"","","",""]
[null,"○",{"$f":"IF(B112=\"\",\"\",COUNTIF($B$95:B112,\"○\"))","v":18},18,"","","",""]
[null,"○",{"$f":"IF(B113=\"\",\"\",COUNTIF($B$95:B113,\"○\"))","v":19},19,{"$f":"IFERROR(VLOOKUP($D113,$A$68:$M$92,8,FALSE),\"\")","v":""},"","",""]
[null,"○",{"$f":"IF(B114=\"\",\"\",COUNTIF($B$95:B114,\"○\"))","v":20},20,"","","",""]
[null,"○",{"$f":"IF(B115=\"\",\"\",COUNTIF($B$95:B115,\"○\"))","v":21},21,"","","",""]
[null,{"$f":"IF(F116=$B$93,\"○\",\"\")","v":"○"},{"$f":"IF(B116=\"\",\"\",COUNTIF($B$95:B116,\"○\"))","v":22},22,"","","",""]
[null,{"$f":"IF(F117=$B$93,\"○\",\"\")","v":"○"},{"$f":"IF(B117=\"\",\"\",COUNTIF($B$95:B117,\"○\"))","v":23},23,"","","",""]
[null,{"$f":"IF(F118=$B$93,\"○\",\"\")","v":"○"},{"$f":"IF(B118=\"\",\"\",COUNTIF($B$95:B118,\"○\"))","v":24},24,"","","",""]
[null,{"$f":"IF(F119=$B$93,\"○\",\"\")","v":"○"},{"$f":"IF(B119=\"\",\"\",COUNTIF($B$95:B119,\"○\"))","v":25},25,{"$f":"IFERROR(VLOOKUP($D119,$A$68:$M$92,8,FALSE),\"\")","v":""},"","",""]
[null,{"$f":"IF('承諾書(10人以上) '!$AP$5=\"\",\"\",'承諾書(10人以上) '!$AP$5)","v":""}]
[null,"該当","連番","NO,","名前","学校名","学年","生年月日"]
[null,{"$f":"IF(F122=$B$120,\"○\",\"\")","v":"○"},{"$f":"IF(B122=\"\",\"\",COUNTIF(B122,\"○\"))","v":1},1,{"$f":"IFERROR(VLOOKUP($D122,$A$68:$M$92,8,FALSE),\"\")","v":""},{"$f":"IFERROR(VLOOKUP($D122,$A$68:$O$92,15,FALSE),\"\")","v":""},{"$f":"IFERROR(VLOOKUP($D122,$A$68:$M$92,10,FALSE),\"\")","v":""},{"$f":"IFERROR(VLOOKUP($D122,$A$68:$M$92,11,FALSE),\"\")","v":""}]
[null,{"$f":"IF(F123=$B$120,\"○\",\"\")","v":"○"},{"$f":"IF(B123=\"\",\"\",COUNTIF($B$122:B123,\"○\"))","v":2},2,{"$f":"IFERROR(VLOOKUP($D123,$A$68:$M$92,8,FALSE),\"\")","v":""},{"$f":"IFERROR(VLOOKUP($D123,$A$68:$O$92,15,FALSE),\"\")","v":""},{"$f":"IFERROR(VLOOKUP($D123,$A$68:$M$92,10,FALSE),\"\")","v":""},{"$f":"IFERROR(VLOOKUP($D123,$A$68:$M$92,11,FALSE),\"\")","v":""}]
[null,"○",{"$f":"IF(B124=\"\",\"\",COUNTIF($B$122:B124,\"○\"))","v":3},3,"","","",""]
[null,"○",{"$f":"IF(B125=\"\",\"\",COUNTIF($B$122:B125,\"○\"))","v":4},4,"","","",""]
[null,"○",{"$f":"IF(B126=\"\",\"\",COUNTIF($B$122:B126,\"○\"))","v":5},5,"","","",""]
[null,"○",{"$f":"IF(B127=\"\",\"\",COUNTIF($B$122:B127,\"○\"))","v":6},6,"","","",""]
[null,"○",{"$f":"IF(B128=\"\",\"\",COUNTIF($B$122:B128,\"○\"))","v":7},7,"","","",""]
[null,"○",{"$f":"IF(B129=\"\",\"\",COUNTIF($B$122:B129,\"○\"))","v":8},8,"","","",""]
[null,"○",{"$f":"IF(B130=\"\",\"\",COUNTIF($B$122:B130,\"○\"))","v":9},9,"","","",""]
[null,"○",{"$f":"IF(B131=\"\",\"\",COUNTIF($B$122:B131,\"○\"))","v":10},10,"","","",""]
[null,"○",{"$f":"IF(B132=\"\",\"\",COUNTIF($B$122:B132,\"○\"))","v":11},11,"","","",""]
[null,"○",{"$f":"IF(B133=\"\",\"\",COUNTIF($B$122:B133,\"○\"))","v":12},12,"","","",""]
[null,"○",{"$f":"IF(B134=\"\",\"\",COUNTIF($B$122:B134,\"○\"))","v":13},13,"","","",""]
[null,"○",{"$f":"IF(B135=\"\",\"\",COUNTIF($B$122:B135,\"○\"))","v":14},14,"","","",""]
[null,"○",{"$f":"IF(B136=\"\",\"\",COUNTIF($B$122:B136,\"○\"))","v":15},15,"","","",""]
[null,"○",{"$f":"IF(B137=\"\",\"\",COUNTIF($B$122:B137,\"○\"))","v":16},16,"","","",""]
[null,"○",{"$f":"IF(B138=\"\",\"\",COUNTIF($B$122:B138,\"○\"))","v":17},17,"","","",""]
[null,"○",{"$f":"IF(B139=\"\",\"\",COUNTIF($B$122:B139,\"○\"))","v":18},18,"","","",""]
[null,"○",{"$f":"IF(B140=\"\",\"\",COUNTIF($B$122:B140,\"○\"))","v":19},19,"","","",""]
[null,"○",{"$f":"IF(B141=\"\",\"\",COUNTIF($B$122:B141,\"○\"))","v":20},20,"","","",""]
[null,"○",{"$f":"IF(B142=\"\",\"\",COUNTIF($B$122:B142,\"○\"))","v":21},21,"","","",""]
[null,"○",{"$f":"IF(B143=\"\",\"\",COUNTIF($B$122:B143,\"○\"))","v":22},22,"","","",""]
[null,"○",{"$f":"IF(B144=\"\",\"\",COUNTIF($B$122:B144,\"○\"))","v":23},23,"","","",""]
[null,"○",{"$f":"IF(B145=\"\",\"\",COUNTIF($B$122:B145,\"○\"))","v":24},24,"","","",""]
[null,"○",{"$f":"IF(B146=\"\",\"\",COUNTIF($B$122:B146,\"○\"))","v":25},25,"","","",""]
[]
[null,"背番号１"]
[null,1,{"$f":"IF(IFERROR(VLOOKUP($B149,$D$42:$K$66,3,FALSE),\"\")=\"\",\"\",\"○\")","v":""},{"$f":"IF(C149=\"\",\"\",COUNTIF(C149,\"○\"))","v":""},{"$f":"IF(C149=\"\",\"\",B149)","v":""},1,{"$f":"IFERROR(VLOOKUP($F149,$D$149:$E$247,2,FALSE),\"\")","v":""},{"$f":"IF(G149=\"\",\"\",IFERROR(VLOOKUP($G149,$D$68:$P$92,13,FALSE),\"\"))","v":""},{"$f":"IFERROR(VLOOKUP($G149,$D$68:$P$92,2,FALSE),\"\")","v":""},{"$f":"IF(IFERROR(VLOOKUP($G149,$D$68:$P$92,5,FALSE),\"\")=\"\",\"\",IFERROR(VLOOKUP($G149,$D$68:$P$92,5,FALSE),\"\"))","v":""},{"$f":"IFERROR(VLOOKUP($G149,$D$68:$P$92,6,FALSE),\"\")","v":""}]
[null,2,{"$f":"IF(IFERROR(VLOOKUP($B150,$D$42:$K$66,3,FALSE),\"\")=\"\",\"\",\"○\")","v":""},{"$f":"IF(C150=\"\",\"\",COUNTIF($C$149:C150,\"○\"))","v":""},"",2,{"$f":"IFERROR(VLOOKUP($F150,$D$149:$E$247,2,FALSE),\"\")","v":""},{"$f":"IF(G150=\"\",\"\",IFERROR(VLOOKUP($G150,$D$68:$P$92,13,FALSE),\"\"))","v":""},{"$f":"IFERROR(VLOOKUP($G150,$D$68:$P$92,2,FALSE),\"\")","v":""},{"$f":"IF(IFERROR(VLOOKUP($G150,$D$68:$P$92,5,FALSE),\"\")=\"\",\"\",IFERROR(VLOOKUP($G150,$D$68:$P$92,5,FALSE),\"\"))","v":""},{"$f":"IFERROR(VLOOKUP($G150,$D$68:$P$92,6,FALSE),\"\")","v":""}]
[null,3,"",{"$f":"IF(C151=\"\",\"\",COUNTIF($C$149:C151,\"○\"))","v":""},"",3,"","","","",""]
[null,4,"",{"$f":"IF(C152=\"\",\"\",COUNTIF($C$149:C152,\"○\"))","v":""},"",4,"","","","",""]
[null,5,"",{"$f":"IF(C153=\"\",\"\",COUNTIF($C$149:C153,\"○\"))","v":""},"",5,"","","","",""]
[null,6,"",{"$f":"IF(C154=\"\",\"\",COUNTIF($C$149:C154,\"○\"))","v":""},"",6,"","","","",""]
[null,7,"",{"$f":"IF(C155=\"\",\"\",COUNTIF($C$149:C155,\"○\"))","v":""},"",7,"","","","",""]
[null,8,"",{"$f":"IF(C156=\"\",\"\",COUNTIF($C$149:C156,\"○\"))","v":""},"",8,"","","","",""]
[null,9,"",{"$f":"IF(C157=\"\",\"\",COUNTIF($C$149:C157,\"○\"))","v":""},"",9,"","","","",""]
[null,10,"",{"$f":"IF(C158=\"\",\"\",COUNTIF($C$149:C158,\"○\"))","v":""},"",10,"","","","",""]
[null,11,"",{"$f":"IF(C159=\"\",\"\",COUNTIF($C$149:C159,\"○\"))","v":""},"",11,"","","","",""]
[null,12,"",{"$f":"IF(C160=\"\",\"\",COUNTIF($C$149:C160,\"○\"))","v":""},"",12,"","","","",""]
[null,13,"",{"$f":"IF(C161=\"\",\"\",COUNTIF($C$149:C161,\"○\"))","v":""},"",13,"","","","",""]
[null,14,"",{"$f":"IF(C162=\"\",\"\",COUNTIF($C$149:C162,\"○\"))","v":""},"",14,"","","","",""]
[null,15,"",{"$f":"IF(C163=\"\",\"\",COUNTIF($C$149:C163,\"○\"))","v":""},"",15,"","","","",""]
[null,16,"",{"$f":"IF(C164=\"\",\"\",COUNTIF($C$149:C164,\"○\"))","v":""},"",16,"","","","",""]
[null,17,"",{"$f":"IF(C165=\"\",\"\",COUNTIF($C$149:C165,\"○\"))","v":""},"",17,"","","","",""]
[null,18,"",{"$f":"IF(C166=\"\",\"\",COUNTIF($C$149:C166,\"○\"))","v":""},"",18,"","","","",""]
[null,19,"",{"$f":"IF(C167=\"\",\"\",COUNTIF($C$149:C167,\"○\"))","v":""},"",19,{"$f":"IFERROR(VLOOKUP($F167,$D$149:$E$247,2,FALSE),\"\")","v":""},"","","",""]
[null,20,"",{"$f":"IF(C168=\"\",\"\",COUNTIF($C$149:C168,\"○\"))","v":""},"",20,"","","","",""]
[null,21,"",{"$f":"IF(C169=\"\",\"\",COUNTIF($C$149:C169,\"○\"))","v":""},{"$f":"IF(C169=\"\",\"\",B169)","v":""},21,"","","","",""]
[null,22,"",{"$f":"IF(C170=\"\",\"\",COUNTIF($C$149:C170,\"○\"))","v":""},"",22,"","","","",""]
[null,23,"",{"$f":"IF(C171=\"\",\"\",COUNTIF($C$149:C171,\"○\"))","v":""},"",23,"","","","",""]
[null,24,"",{"$f":"IF(C172=\"\",\"\",COUNTIF($C$149:C172,\"○\"))","v":""},"",24,"","","","",""]
[null,25,"",{"$f":"IF(C173=\"\",\"\",COUNTIF($C$149:C173,\"○\"))","v":""},"",25,"","",{"$f":"IFERROR(VLOOKUP($G173,$D$68:$P$92,2,FALSE),\"\")","v":""},"",""]
[null,26,"",{"$f":"IF(C174=\"\",\"\",COUNTIF($C$149:C174,\"○\"))","v":""},""]
[null,27,"",{"$f":"IF(C175=\"\",\"\",COUNTIF($C$149:C175,\"○\"))","v":""},""]
[null,28,"",{"$f":"IF(C176=\"\",\"\",COUNTIF($C$149:C176,\"○\"))","v":""},""]
[null,29,"",{"$f":"IF(C177=\"\",\"\",COUNTIF($C$149:C177,\"○\"))","v":""},""]
[null,30,"",{"$f":"IF(C178=\"\",\"\",COUNTIF($C$149:C178,\"○\"))","v":""},{"$f":"IF(C178=\"\",\"\",B178)","v":""}]
[null,31,"",{"$f":"IF(C179=\"\",\"\",COUNTIF($C$149:C179,\"○\"))","v":""},""]
[null,32,"",{"$f":"IF(C180=\"\",\"\",COUNTIF($C$149:C180,\"○\"))","v":""},""]
[null,33,"",{"$f":"IF(C181=\"\",\"\",COUNTIF($C$149:C181,\"○\"))","v":""},{"$f":"IF(C181=\"\",\"\",B181)","v":""}]
[null,34,"",{"$f":"IF(C182=\"\",\"\",COUNTIF($C$149:C182,\"○\"))","v":""},""]
[null,35,"",{"$f":"IF(C183=\"\",\"\",COUNTIF($C$149:C183,\"○\"))","v":""},""]
[null,36,"",{"$f":"IF(C184=\"\",\"\",COUNTIF($C$149:C184,\"○\"))","v":""},""]
[null,37,"",{"$f":"IF(C185=\"\",\"\",COUNTIF($C$149:C185,\"○\"))","v":""},""]
[null,38,"",{"$f":"IF(C186=\"\",\"\",COUNTIF($C$149:C186,\"○\"))","v":""},""]
[null,39,"",{"$f":"IF(C187=\"\",\"\",COUNTIF($C$149:C187,\"○\"))","v":""},""]
[null,40,"",{"$f":"IF(C188=\"\",\"\",COUNTIF($C$149:C188,\"○\"))","v":""},""]
[null,41,"",{"$f":"IF(C189=\"\",\"\",COUNTIF($C$149:C189,\"○\"))","v":""},""]
[null,42,"",{"$f":"IF(C190=\"\",\"\",COUNTIF($C$149:C190,\"○\"))","v":""},""]
[null,43,"",{"$f":"IF(C191=\"\",\"\",COUNTIF($C$149:C191,\"○\"))","v":""},""]
[null,44,"",{"$f":"IF(C192=\"\",\"\",COUNTIF($C$149:C192,\"○\"))","v":""},""]
[null,45,"",{"$f":"IF(C193=\"\",\"\",COUNTIF($C$149:C193,\"○\"))","v":""},""]
[null,46,"",{"$f":"IF(C194=\"\",\"\",COUNTIF($C$149:C194,\"○\"))","v":""},""]
[null,47,"",{"$f":"IF(C195=\"\",\"\",COUNTIF($C$149:C195,\"○\"))","v":""},""]
[null,48,"",{"$f":"IF(C196=\"\",\"\",COUNTIF($C$149:C196,\"○\"))","v":""},""]
[null,49,"",{"$f":"IF(C197=\"\",\"\",COUNTIF($C$149:C197,\"○\"))","v":""},""]
[null,50,"",{"$f":"IF(C198=\"\",\"\",COUNTIF($C$149:C198,\"○\"))","v":""},""]
[null,51,"",{"$f":"IF(C199=\"\",\"\",COUNTIF($C$149:C199,\"○\"))","v":""},""]
[null,52,"",{"$f":"IF(C200=\"\",\"\",COUNTIF($C$149:C200,\"○\"))","v":""},""]
[null,53,"",{"$f":"IF(C201=\"\",\"\",COUNTIF($C$149:C201,\"○\"))","v":""},""]
[null,54,"",{"$f":"IF(C202=\"\",\"\",COUNTIF($C$149:C202,\"○\"))","v":""},""]
[null,55,"",{"$f":"IF(C203=\"\",\"\",COUNTIF($C$149:C203,\"○\"))","v":""},""]
[null,56,"",{"$f":"IF(C204=\"\",\"\",COUNTIF($C$149:C204,\"○\"))","v":""},""]
[null,57,"",{"$f":"IF(C205=\"\",\"\",COUNTIF($C$149:C205,\"○\"))","v":""},""]
[null,58,"",{"$f":"IF(C206=\"\",\"\",COUNTIF($C$149:C206,\"○\"))","v":""},""]
[null,59,"",{"$f":"IF(C207=\"\",\"\",COUNTIF($C$149:C207,\"○\"))","v":""},""]
[null,60,"",{"$f":"IF(C208=\"\",\"\",COUNTIF($C$149:C208,\"○\"))","v":""},""]
[null,61,"",{"$f":"IF(C209=\"\",\"\",COUNTIF($C$149:C209,\"○\"))","v":""},""]
[null,62,"",{"$f":"IF(C210=\"\",\"\",COUNTIF($C$149:C210,\"○\"))","v":""},""]
[null,63,"",{"$f":"IF(C211=\"\",\"\",COUNTIF($C$149:C211,\"○\"))","v":""},""]
[null,64,"",{"$f":"IF(C212=\"\",\"\",COUNTIF($C$149:C212,\"○\"))","v":""},""]
[null,65,"",{"$f":"IF(C213=\"\",\"\",COUNTIF($C$149:C213,\"○\"))","v":""},{"$f":"IF(C213=\"\",\"\",B213)","v":""}]
[null,66,{"$f":"IF(IFERROR(VLOOKUP($B214,$D$42:$K$66,3,FALSE),\"\")=\"\",\"\",\"○\")","v":""},{"$f":"IF(C214=\"\",\"\",COUNTIF($C$149:C214,\"○\"))","v":""},""]
[null,67,"",{"$f":"IF(C215=\"\",\"\",COUNTIF($C$149:C215,\"○\"))","v":""},""]
[null,68,"",{"$f":"IF(C216=\"\",\"\",COUNTIF($C$149:C216,\"○\"))","v":""},""]
[null,69,"",{"$f":"IF(C217=\"\",\"\",COUNTIF($C$149:C217,\"○\"))","v":""},""]
[null,70,"",{"$f":"IF(C218=\"\",\"\",COUNTIF($C$149:C218,\"○\"))","v":""},""]
[null,71,"",{"$f":"IF(C219=\"\",\"\",COUNTIF($C$149:C219,\"○\"))","v":""},""]
[null,72,"",{"$f":"IF(C220=\"\",\"\",COUNTIF($C$149:C220,\"○\"))","v":""},""]
[null,73,"",{"$f":"IF(C221=\"\",\"\",COUNTIF($C$149:C221,\"○\"))","v":""},""]
[null,74,"",{"$f":"IF(C222=\"\",\"\",COUNTIF($C$149:C222,\"○\"))","v":""},""]
[null,75,"",{"$f":"IF(C223=\"\",\"\",COUNTIF($C$149:C223,\"○\"))","v":""},""]
[null,76,"",{"$f":"IF(C224=\"\",\"\",COUNTIF($C$149:C224,\"○\"))","v":""},""]
[null,77,"",{"$f":"IF(C225=\"\",\"\",COUNTIF($C$149:C225,\"○\"))","v":""},""]
[null,78,"",{"$f":"IF(C226=\"\",\"\",COUNTIF($C$149:C226,\"○\"))","v":""},""]
[null,79,"",{"$f":"IF(C227=\"\",\"\",COUNTIF($C$149:C227,\"○\"))","v":""},""]
[null,80,"",{"$f":"IF(C228=\"\",\"\",COUNTIF($C$149:C228,\"○\"))","v":""},""]
[null,81,"",{"$f":"IF(C229=\"\",\"\",COUNTIF($C$149:C229,\"○\"))","v":""},""]
[null,82,"",{"$f":"IF(C230=\"\",\"\",COUNTIF($C$149:C230,\"○\"))","v":""},""]
[null,83,"",{"$f":"IF(C231=\"\",\"\",COUNTIF($C$149:C231,\"○\"))","v":""},""]
[null,84,"",{"$f":"IF(C232=\"\",\"\",COUNTIF($C$149:C232,\"○\"))","v":""},""]
[null,85,"",{"$f":"IF(C233=\"\",\"\",COUNTIF($C$149:C233,\"○\"))","v":""},""]
[null,86,"",{"$f":"IF(C234=\"\",\"\",COUNTIF($C$149:C234,\"○\"))","v":""},""]
[null,87,"",{"$f":"IF(C235=\"\",\"\",COUNTIF($C$149:C235,\"○\"))","v":""},""]
[null,88,"",{"$f":"IF(C236=\"\",\"\",COUNTIF($C$149:C236,\"○\"))","v":""},""]
[null,89,"",{"$f":"IF(C237=\"\",\"\",COUNTIF($C$149:C237,\"○\"))","v":""},""]
[null,90,"",{"$f":"IF(C238=\"\",\"\",COUNTIF($C$149:C238,\"○\"))","v":""},""]
[null,91,"",{"$f":"IF(C239=\"\",\"\",COUNTIF($C$149:C239,\"○\"))","v":""},""]
[null,92,"",{"$f":"IF(C240=\"\",\"\",COUNTIF($C$149:C240,\"○\"))","v":""},""]
[null,93,"",{"$f":"IF(C241=\"\",\"\",COUNTIF($C$149:C241,\"○\"))","v":""},""]
[null,94,"",{"$f":"IF(C242=\"\",\"\",COUNTIF($C$149:C242,\"○\"))","v":""},""]
[null,95,"",{"$f":"IF(C243=\"\",\"\",COUNTIF($C$149:C243,\"○\"))","v":""},""]
[null,96,"",{"$f":"IF(C244=\"\",\"\",COUNTIF($C$149:C244,\"○\"))","v":""},""]
[null,97,"",{"$f":"IF(C245=\"\",\"\",COUNTIF($C$149:C245,\"○\"))","v":""},""]
[null,98,"",{"$f":"IF(C246=\"\",\"\",COUNTIF($C$149:C246,\"○\"))","v":""},""]
[null,99,"",{"$f":"IF(C247=\"\",\"\",COUNTIF($C$149:C247,\"○\"))","v":""},""]
[]
[]
[]
[null,"背番号2"]
[null,1,{"$f":"IF(IFERROR(VLOOKUP($B252,$C$42:$K$66,4,FALSE),\"\")=\"\",\"\",\"○\")","v":""},{"$f":"IF(C252=\"\",\"\",COUNTIF(C252,\"○\"))","v":""},{"$f":"IF(C252=\"\",\"\",B252)","v":""},1,{"$f":"IFERROR(VLOOKUP($F252,$D$252:$E$350,2,FALSE),\"\")","v":""},{"$f":"IF(G252=\"\",\"\",IFERROR(VLOOKUP($G252,$F$68:$P$92,11,FALSE),\"\"))","v":""},{"$f":"IFERROR(VLOOKUP($G252,$F$68:$P$92,2,FALSE),\"\")","v":""},{"$f":"IF(G252=\"\",\"\",IF(IFERROR(VLOOKUP($G252,$F$68:$P$92,3,FALSE),\"\")=\"\",\"\",IFERROR(VLOOKUP($G252,$F$68:$P$92,3,FALSE),\"\")))","v":""},{"$f":"IF(G252=\"\",\"\",IFERROR(VLOOKUP($G252,$F$68:$P$92,4,FALSE),\"\"))","v":""}]
[null,2,{"$f":"IF(IFERROR(VLOOKUP($B253,$C$42:$K$66,4,FALSE),\"\")=\"\",\"\",\"○\")","v":""},{"$f":"IF(C253=\"\",\"\",COUNTIF($C$252:C253,\"○\"))","v":""},{"$f":"IF(C253=\"\",\"\",B253)","v":""},2,{"$f":"IFERROR(VLOOKUP($F253,$D$252:$E$350,2,FALSE),\"\")","v":""},{"$f":"IF(G253=\"\",\"\",IFERROR(VLOOKUP($G253,$F$68:$P$92,11,FALSE),\"\"))","v":""},{"$f":"IFERROR(VLOOKUP($G253,$F$68:$P$92,2,FALSE),\"\")","v":""},{"$f":"IF(G253=\"\",\"\",IF(IFERROR(VLOOKUP($G253,$F$68:$P$92,3,FALSE),\"\")=\"\",\"\",IFERROR(VLOOKUP($G253,$F$68:$P$92,3,FALSE),\"\")))","v":""},{"$f":"IF(G253=\"\",\"\",IFERROR(VLOOKUP($G253,$F$68:$P$92,4,FALSE),\"\"))","v":""}]
[null,3,"",{"$f":"IF(C254=\"\",\"\",COUNTIF($C$252:C254,\"○\"))","v":""},"",3,"","","","",""]
[null,4,"",{"$f":"IF(C255=\"\",\"\",COUNTIF($C$252:C255,\"○\"))","v":""},"",4,"","","","",""]
[null,5,"",{"$f":"IF(C256=\"\",\"\",COUNTIF($C$252:C256,\"○\"))","v":""},"",5,"","","","",""]
[null,6,"",{"$f":"IF(C257=\"\",\"\",COUNTIF($C$252:C257,\"○\"))","v":""},"",6,"","","","",""]
[null,7,"",{"$f":"IF(C258=\"\",\"\",COUNTIF($C$252:C258,\"○\"))","v":""},"",7,"","","","",""]
[null,8,"",{"$f":"IF(C259=\"\",\"\",COUNTIF($C$252:C259,\"○\"))","v":""},"",8,"","","","",""]
[null,9,"",{"$f":"IF(C260=\"\",\"\",COUNTIF($C$252:C260,\"○\"))","v":""},"",9,"","","","",""]
[null,10,"",{"$f":"IF(C261=\"\",\"\",COUNTIF($C$252:C261,\"○\"))","v":""},"",10,"","","","",""]
[null,11,"",{"$f":"IF(C262=\"\",\"\",COUNTIF($C$252:C262,\"○\"))","v":""},"",11,"","","","",""]
[null,12,"",{"$f":"IF(C263=\"\",\"\",COUNTIF($C$252:C263,\"○\"))","v":""},"",12,"","","","",""]
[null,13,"",{"$f":"IF(C264=\"\",\"\",COUNTIF($C$252:C264,\"○\"))","v":""},"",13,"","","","",""]
[null,14,"",{"$f":"IF(C265=\"\",\"\",COUNTIF($C$252:C265,\"○\"))","v":""},"",14,"","","","",""]
[null,15,"",{"$f":"IF(C266=\"\",\"\",COUNTIF($C$252:C266,\"○\"))","v":""},"",15,"","","","",""]
[null,16,"",{"$f":"IF(C267=\"\",\"\",COUNTIF($C$252:C267,\"○\"))","v":""},"",16,"","","","",""]
[null,17,"",{"$f":"IF(C268=\"\",\"\",COUNTIF($C$252:C268,\"○\"))","v":""},"",17,"","","","",""]
[null,18,"",{"$f":"IF(C269=\"\",\"\",COUNTIF($C$252:C269,\"○\"))","v":""},"",18,"","","","",""]
[null,19,"",{"$f":"IF(C270=\"\",\"\",COUNTIF($C$252:C270,\"○\"))","v":""},"",19,"","","","",""]
[null,20,"",{"$f":"IF(C271=\"\",\"\",COUNTIF($C$252:C271,\"○\"))","v":""},"",20,"","","","",""]
[null,21,"",{"$f":"IF(C272=\"\",\"\",COUNTIF($C$252:C272,\"○\"))","v":""},"",21,"","","","",""]
[null,22,"",{"$f":"IF(C273=\"\",\"\",COUNTIF($C$252:C273,\"○\"))","v":""},"",22,{"$f":"IFERROR(VLOOKUP($F273,$D$252:$E$350,2,FALSE),\"\")","v":""},"","","",""]
[null,23,"",{"$f":"IF(C274=\"\",\"\",COUNTIF($C$252:C274,\"○\"))","v":""},"",23,{"$f":"IFERROR(VLOOKUP($F274,$D$252:$E$350,2,FALSE),\"\")","v":""},{"$f":"IF(G274=\"\",\"\",IFERROR(VLOOKUP($G274,$F$68:$P$92,11,FALSE),\"\"))","v":""},"","",""]
[null,24,"",{"$f":"IF(C275=\"\",\"\",COUNTIF($C$252:C275,\"○\"))","v":""},"",24,{"$f":"IFERROR(VLOOKUP($F275,$D$252:$E$350,2,FALSE),\"\")","v":""},"","","",""]
[null,25,"",{"$f":"IF(C276=\"\",\"\",COUNTIF($C$252:C276,\"○\"))","v":""},"",25,{"$f":"IFERROR(VLOOKUP($F276,$D$252:$E$350,2,FALSE),\"\")","v":""},"","","",""]
[null,26,"",{"$f":"IF(C277=\"\",\"\",COUNTIF($C$252:C277,\"○\"))","v":""},""]
[null,27,"",{"$f":"IF(C278=\"\",\"\",COUNTIF($C$252:C278,\"○\"))","v":""},""]
[null,28,"",{"$f":"IF(C279=\"\",\"\",COUNTIF($C$252:C279,\"○\"))","v":""},""]
[null,29,"",{"$f":"IF(C280=\"\",\"\",COUNTIF($C$252:C280,\"○\"))","v":""},""]
[null,30,"",{"$f":"IF(C281=\"\",\"\",COUNTIF($C$252:C281,\"○\"))","v":""},""]
[null,31,"",{"$f":"IF(C282=\"\",\"\",COUNTIF($C$252:C282,\"○\"))","v":""},""]
[null,32,"",{"$f":"IF(C283=\"\",\"\",COUNTIF($C$252:C283,\"○\"))","v":""},""]
[null,33,"",{"$f":"IF(C284=\"\",\"\",COUNTIF($C$252:C284,\"○\"))","v":""},{"$f":"IF(C284=\"\",\"\",B284)","v":""}]
[null,34,"",{"$f":"IF(C285=\"\",\"\",COUNTIF($C$252:C285,\"○\"))","v":""},""]
[null,35,"",{"$f":"IF(C286=\"\",\"\",COUNTIF($C$252:C286,\"○\"))","v":""},""]
[null,36,"",{"$f":"IF(C287=\"\",\"\",COUNTIF($C$252:C287,\"○\"))","v":""},""]
[null,37,"",{"$f":"IF(C288=\"\",\"\",COUNTIF($C$252:C288,\"○\"))","v":""},""]
[null,38,"",{"$f":"IF(C289=\"\",\"\",COUNTIF($C$252:C289,\"○\"))","v":""},""]
[null,39,"",{"$f":"IF(C290=\"\",\"\",COUNTIF($C$252:C290,\"○\"))","v":""},""]
[null,40,"",{"$f":"IF(C291=\"\",\"\",COUNTIF($C$252:C291,\"○\"))","v":""},""]
[null,41,"",{"$f":"IF(C292=\"\",\"\",COUNTIF($C$252:C292,\"○\"))","v":""},""]
[null,42,"",{"$f":"IF(C293=\"\",\"\",COUNTIF($C$252:C293,\"○\"))","v":""},""]
[null,43,"",{"$f":"IF(C294=\"\",\"\",COUNTIF($C$252:C294,\"○\"))","v":""},""]
[null,44,"",{"$f":"IF(C295=\"\",\"\",COUNTIF($C$252:C295,\"○\"))","v":""},""]
[null,45,"",{"$f":"IF(C296=\"\",\"\",COUNTIF($C$252:C296,\"○\"))","v":""},""]
[null,46,"",{"$f":"IF(C297=\"\",\"\",COUNTIF($C$252:C297,\"○\"))","v":""},""]
[null,47,"",{"$f":"IF(C298=\"\",\"\",COUNTIF($C$252:C298,\"○\"))","v":""},""]
[null,48,"",{"$f":"IF(C299=\"\",\"\",COUNTIF($C$252:C299,\"○\"))","v":""},""]
[null,49,"",{"$f":"IF(C300=\"\",\"\",COUNTIF($C$252:C300,\"○\"))","v":""},""]
[null,50,"",{"$f":"IF(C301=\"\",\"\",COUNTIF($C$252:C301,\"○\"))","v":""},""]
[null,51,"",{"$f":"IF(C302=\"\",\"\",COUNTIF($C$252:C302,\"○\"))","v":""},""]
[null,52,"",{"$f":"IF(C303=\"\",\"\",COUNTIF($C$252:C303,\"○\"))","v":""},""]
[null,53,"",{"$f":"IF(C304=\"\",\"\",COUNTIF($C$252:C304,\"○\"))","v":""},""]
[null,54,"",{"$f":"IF(C305=\"\",\"\",COUNTIF($C$252:C305,\"○\"))","v":""},""]
[null,55,"",{"$f":"IF(C306=\"\",\"\",COUNTIF($C$252:C306,\"○\"))","v":""},""]
[null,56,"",{"$f":"IF(C307=\"\",\"\",COUNTIF($C$252:C307,\"○\"))","v":""},""]
[null,57,"",{"$f":"IF(C308=\"\",\"\",COUNTIF($C$252:C308,\"○\"))","v":""},""]
[null,58,"",{"$f":"IF(C309=\"\",\"\",COUNTIF($C$252:C309,\"○\"))","v":""},""]
[null,59,"",{"$f":"IF(C310=\"\",\"\",COUNTIF($C$252:C310,\"○\"))","v":""},""]
[null,60,"",{"$f":"IF(C311=\"\",\"\",COUNTIF($C$252:C311,\"○\"))","v":""},""]
[null,61,"",{"$f":"IF(C312=\"\",\"\",COUNTIF($C$252:C312,\"○\"))","v":""},""]
[null,62,"",{"$f":"IF(C313=\"\",\"\",COUNTIF($C$252:C313,\"○\"))","v":""},""]
[null,63,"",{"$f":"IF(C314=\"\",\"\",COUNTIF($C$252:C314,\"○\"))","v":""},""]
[null,64,"",{"$f":"IF(C315=\"\",\"\",COUNTIF($C$252:C315,\"○\"))","v":""},""]
[null,65,"",{"$f":"IF(C316=\"\",\"\",COUNTIF($C$252:C316,\"○\"))","v":""},{"$f":"IF(C316=\"\",\"\",B316)","v":""}]
[null,66,{"$f":"IF(IFERROR(VLOOKUP($B317,$C$42:$K$66,4,FALSE),\"\")=\"\",\"\",\"○\")","v":""},{"$f":"IF(C317=\"\",\"\",COUNTIF($C$252:C317,\"○\"))","v":""},""]
[null,67,"",{"$f":"IF(C318=\"\",\"\",COUNTIF($C$252:C318,\"○\"))","v":""},""]
[null,68,"",{"$f":"IF(C319=\"\",\"\",COUNTIF($C$252:C319,\"○\"))","v":""},""]
[null,69,"",{"$f":"IF(C320=\"\",\"\",COUNTIF($C$252:C320,\"○\"))","v":""},""]
[null,70,"",{"$f":"IF(C321=\"\",\"\",COUNTIF($C$252:C321,\"○\"))","v":""},""]
[null,71,"",{"$f":"IF(C322=\"\",\"\",COUNTIF($C$252:C322,\"○\"))","v":""},""]
[null,72,"",{"$f":"IF(C323=\"\",\"\",COUNTIF($C$252:C323,\"○\"))","v":""},""]
[null,73,"",{"$f":"IF(C324=\"\",\"\",COUNTIF($C$252:C324,\"○\"))","v":""},""]
[null,74,"",{"$f":"IF(C325=\"\",\"\",COUNTIF($C$252:C325,\"○\"))","v":""},""]
[null,75,"",{"$f":"IF(C326=\"\",\"\",COUNTIF($C$252:C326,\"○\"))","v":""},""]
[null,76,"",{"$f":"IF(C327=\"\",\"\",COUNTIF($C$252:C327,\"○\"))","v":""},""]
[null,77,"",{"$f":"IF(C328=\"\",\"\",COUNTIF($C$252:C328,\"○\"))","v":""},""]
[null,78,"",{"$f":"IF(C329=\"\",\"\",COUNTIF($C$252:C329,\"○\"))","v":""},""]
[null,79,"",{"$f":"IF(C330=\"\",\"\",COUNTIF($C$252:C330,\"○\"))","v":""},""]
[null,80,"",{"$f":"IF(C331=\"\",\"\",COUNTIF($C$252:C331,\"○\"))","v":""},""]
[null,81,"",{"$f":"IF(C332=\"\",\"\",COUNTIF($C$252:C332,\"○\"))","v":""},""]
[null,82,"",{"$f":"IF(C333=\"\",\"\",COUNTIF($C$252:C333,\"○\"))","v":""},""]
[null,83,"",{"$f":"IF(C334=\"\",\"\",COUNTIF($C$252:C334,\"○\"))","v":""},""]
[null,84,"",{"$f":"IF(C335=\"\",\"\",COUNTIF($C$252:C335,\"○\"))","v":""},""]
[null,85,"",{"$f":"IF(C336=\"\",\"\",COUNTIF($C$252:C336,\"○\"))","v":""},""]
[null,86,"",{"$f":"IF(C337=\"\",\"\",COUNTIF($C$252:C337,\"○\"))","v":""},""]
[null,87,"",{"$f":"IF(C338=\"\",\"\",COUNTIF($C$252:C338,\"○\"))","v":""},""]
[null,88,"",{"$f":"IF(C339=\"\",\"\",COUNTIF($C$252:C339,\"○\"))","v":""},""]
[null,89,"",{"$f":"IF(C340=\"\",\"\",COUNTIF($C$252:C340,\"○\"))","v":""},""]
[null,90,"",{"$f":"IF(C341=\"\",\"\",COUNTIF($C$252:C341,\"○\"))","v":""},""]
[null,91,"",{"$f":"IF(C342=\"\",\"\",COUNTIF($C$252:C342,\"○\"))","v":""},""]
[null,92,"",{"$f":"IF(C343=\"\",\"\",COUNTIF($C$252:C343,\"○\"))","v":""},""]
[null,93,"",{"$f":"IF(C344=\"\",\"\",COUNTIF($C$252:C344,\"○\"))","v":""},""]
[null,94,"",{"$f":"IF(C345=\"\",\"\",COUNTIF($C$252:C345,\"○\"))","v":""},""]
[null,95,"",{"$f":"IF(C346=\"\",\"\",COUNTIF($C$252:C346,\"○\"))","v":""},""]
[null,96,"",{"$f":"IF(C347=\"\",\"\",COUNTIF($C$252:C347,\"○\"))","v":""},""]
[null,97,"",{"$f":"IF(C348=\"\",\"\",COUNTIF($C$252:C348,\"○\"))","v":""},""]
[null,98,"",{"$f":"IF(C349=\"\",\"\",COUNTIF($C$252:C349,\"○\"))","v":""},""]
[null,99,"",{"$f":"IF(C350=\"\",\"\",COUNTIF($C$252:C350,\"○\"))","v":""},""]

{"sheet":"試合情報(設定)","index":6,"n_rows":36,"n_cols":83,"rows_kept":36,"cut":false,"hidden":false,"merged":[[30,31,30,43],[31,3,31,8],[31,15,31,22],[31,41,31,46],[33,7,33,10],[33,39,33,42],[36,2,39,3],[36,6,39,7],[36,10,39,11],[36,14,39,15],[36,22,39,23],[36,38,39,39],[36,42,39,43],[31,28,31,33],[32,28,32,33],[33,32,33,35],[34,32,34,35],[35,27,35,28],[35,31,35,32],[35,35,35,36],[36,27,39,28],[36,31,39,32],[36,35,39,36],[34,7,34,10],[34,39,34,42],[32,3,32,8],[32,15,32,22],[32,41,32,46],[36,46,39,47],[10,74,10,75],[35,2,35,3],[35,6,35,7],[35,10,35,11],[35,14,35,15],[35,22,35,23],[35,38,35,39],[35,42,35,43],[35,46,35,47],[27,13,27,36],[29,6,29,18],[30,6,30,18],[17,5,20,6],[17,9,20,10],[17,13,20,14],[17,17,20,18],[17,21,20,22],[17,25,20,26],[17,29,20,30],[17,33,20,34],[17,37,20,38],[16,33,16,34],[17,61,20,62],[7,52,7,59],[12,52,12,59],[13,52,13,59],[14,2,14,5],[26,41,26,46],[29,31,29,43],[10,66,10,73],[15,2,15,5],[16,1,16,2],[16,5,16,6],[16,9,16,10],[16,13,16,14],[16,17,16,18],[16,21,16,22],[16,25,16,26],[16,29,16,30],[27,41,27,46],[28,13,28,36],[16,41,16,42],[16,45,16,46],[17,41,20,42],[17,45,20,46],[16,37,16,38],[17,1,20,2],[14,18,14,21],[14,26,14,29],[15,10,15,13],[15,18,15,21],[15,26,15,29],[16,49,16,50],[16,53,16,54],[16,57,16,58],[17,49,20,50],[17,53,20,54],[17,57,20,58],[14,34,14,37],[14,10,14,13],[23,7,24,41],[8,52,8,59],[8,65,9,73],[4,15,5,48],[10,8,10,23],[11,8,11,23],[10,40,10,55],[11,40,11,55],[8,16,8,47],[9,16,9,47],[12,36,12,43],[13,36,13,43],[12,4,12,11],[13,4,13,11],[12,20,12,27],[13,20,13,27],[14,42,14,45],[14,50,14,53],[14,58,14,61],[15,34,15,37],[15,42,15,45],[15,50,15,53],[15,58,15,61],[16,61,16,62]]}
[]
[]
[]
[]
[null,null,null,null,null,null,null,null,null,null,null,null,null,null,null,"≪全国≫トーナメント表"]
[]
[]
[null,null,null,null,null,null,null,null,null,null,null,null,null,null,null,null,null,null,null,null,null,null,null,null,null,null,null,null,null,null,null,null,null,null,null,null,null,null,null,null,null,null,null,null,null,null,null,null,null,null,null,null,"⑮\n"]
[null,null,null,null,null,null,null,null,null,null,null,null,null,null,null,null,"⑯\n",null,null,null,null,null,null,null,null,null,null,null,null,null,null,null,null,null,null,null,null,null,null,null,null,null,null,null,null,null,null,null,null,null,null,null,"3位決定戦",null,null,null,null,null,null,null,null,null,null,null,null,"❺試合情報(入力)"]
[null,null,null,null,null,null,null,null,null,null,null,null,null,null,null,null,"決勝"]
[null,null,null,null,null,null,null,null,"⑬",null,null,null,null,null,null,null,null,null,null,null,null,null,null,null,null,null,null,null,null,null,null,null,null,null,null,null,null,null,null,null,"⑭",null,null,null,null,null,null,null,null,null,null,null,null,null,null,null,null,null,null,null,null,null,null,null,null,"No,","試　合　日",null,null,null,null,null,null,null,"試合No,",null,"対戦チーム","対戦校"]
[null,null,null,null,null,null,null,null,"準決勝",null,null,null,null,null,null,null,null,null,null,null,null,null,null,null,null,null,null,null,null,null,null,null,null,null,null,null,null,null,null,null,"準決勝",null,null,null,null,null,null,null,null,null,null,null,null,null,null,null,null,null,null,null,null,null,null,null,null,1,"西暦",2023,"年",12,"月",9,"日",{"$f":"IF(OR(BP12=\"\",BR12=\"\",BT12=\"\"),\"\",TEXT(DATE(BP12,BR12,BT12),\"(aaa)\"))","v":"(土)"},"1回戦","①",null,{"$f":"IF(BY12=\"\",\"\",IFERROR(VLOOKUP(BY12,'登録チーム情報(設定) '!$M$10:$T$24,8,FALSE),\"\"))","v":""},{"$f":"BN12","v":1},{"$f":"IF(OR(BP12=\"\",BR12=\"\",BT12=\"\"),\"\",TEXT(DATE(BP12,BR12,BT12),\"[$-ja-JP]ggge年m月d日(aaa)\"))","v":"令和5年12月9日(土)"},{"$f":"IF(BW12=\"\",\"\",BW12&BX12)","v":"1回戦①"},{"$f":"IF(BY12=\"\",\"\",BY12)","v":""},{"$f":"IF(BY12=\"\",\"\",\"《\"&BW12&BX12&\"》\"&BZ12&\"(\"&BY12&\")\")","v":""}]
[null,null,null,null,"⑨",null,null,null,null,null,null,null,null,null,null,null,null,null,null,null,"⑩",null,null,null,null,null,null,null,null,null,null,null,null,null,null,null,"⑪",null,null,null,null,null,null,null,null,null,null,null,null,null,null,null,"⑫",null,null,null,null,null,null,null,null,null,null,null,null,2,"西暦",2023,"年",12,"月",9,"日",{"$f":"IF(OR(BP13=\"\",BR13=\"\",BT13=\"\"),\"\",TEXT(DATE(BP13,BR13,BT13),\"(aaa)\"))","v":"(土)"},"1回戦","②",null,{"$f":"IF(BY13=\"\",\"\",IFERROR(VLOOKUP(BY13,'登録チーム情報(設定) '!$M$10:$T$24,8,FALSE),\"\"))","v":""},{"$f":"BN13","v":2},{"$f":"IF(OR(BP13=\"\",BR13=\"\",BT13=\"\"),\"\",TEXT(DATE(BP13,BR13,BT13),\"[$-ja-JP]ggge年m月d日(aaa)\"))","v":"令和5年12月9日(土)"},"1回戦②",{"$f":"IF(BY13=\"\",\"\",BY13)","v":""},{"$f":"IF(BY13=\"\",\"\",\"《\"&BW13&BX13&\"》\"&BZ13&\"(\"&BY13&\")\")","v":""}]
[null,null,null,null,"2回戦",null,null,null,null,null,null,null,null,null,null,null,null,null,null,null,"3回戦",null,null,null,null,null,null,null,null,null,null,null,null,null,null,null,"2回戦",null,null,null,null,null,null,null,null,null,null,null,null,null,null,null,"2回戦",null,null,null,null,null,null,null,null,null,null,null,null,3,"西暦",2023,"年",12,"月",9,"日","(土)","1回戦","③",null,{"$f":"IF(BY14=\"\",\"\",IFERROR(VLOOKUP(BY14,'登録チーム情報(設定) '!$M$10:$T$24,8,FALSE),\"\"))","v":""},{"$f":"BN14","v":3},"令和5年12月9日(土)","1回戦③","",""]
[null,null,"①",null,null,null,null,null,null,null,"②",null,null,null,null,null,null,null,"③",null,null,null,null,null,null,null,"④",null,null,null,null,null,null,null,"⑤",null,null,null,null,null,null,null,"⑥",null,null,null,null,null,null,null,"⑦",null,null,null,null,null,null,null,"⑧",null,null,null,null,null,null,4,"西暦",2023,"年",12,"月",10,"日","(日)","2回戦","④",null,{"$f":"IF(BY15=\"\",\"\",IFERROR(VLOOKUP(BY15,'登録チーム情報(設定) '!$M$10:$T$24,8,FALSE),\"\"))","v":""},{"$f":"BN15","v":4},"令和5年12月10日(日)","2回戦④","",""]
[null,null,"1回戦",null,null,null,null,null,null,null,"1回戦",null,null,null,null,null,null,null,"1回戦",null,null,null,null,null,null,null,"1回戦",null,null,null,null,null,null,null,"1回戦",null,null,null,null,null,null,null,"1回戦",null,null,null,null,null,null,null,"1回戦",null,null,null,null,null,null,null,"1回戦",null,null,null,null,null,null,5,"西暦",2023,"年",12,"月",10,"日","(日)","2回戦","⑤",null,{"$f":"IF(BY16=\"\",\"\",IFERROR(VLOOKUP(BY16,'登録チーム情報(設定) '!$M$10:$T$24,8,FALSE),\"\"))","v":""},5,"令和5年12月10日(日)","2回戦⑤","",""]
[null,1,null,null,null,2,null,null,null,3,null,null,null,4,null,null,null,5,null,null,null,6,null,null,null,7,null,null,null,8,null,null,null,9,null,null,null,10,null,null,null,11,null,null,null,12,null,null,null,13,null,null,null,14,null,null,null,15,null,null,null,16,null,null,null,6,"西暦",2023,"年",12,"月",10,"日","(日)","2回戦","⑥",null,{"$f":"IF(BY17=\"\",\"\",IFERROR(VLOOKUP(BY17,'登録チーム情報(設定) '!$M$10:$T$24,8,FALSE),\"\"))","v":""},6,"令和5年12月10日(日)","2回戦⑥","",""]
[null,null,null,null,null,null,null,null,null,null,null,null,null,null,null,null,null,null,null,null,null,null,null,null,null,null,null,null,null,null,null,null,null,null,null,null,null,null,null,null,null,null,null,null,null,null,null,null,null,null,null,null,null,null,null,null,null,null,null,null,null,null,null,null,null,7,"西暦",2023,"年",12,"月",10,"日","(日)","2回戦","⑦",null,{"$f":"IF(BY18=\"\",\"\",IFERROR(VLOOKUP(BY18,'登録チーム情報(設定) '!$M$10:$T$24,8,FALSE),\"\"))","v":""},7,"令和5年12月10日(日)","2回戦⑦","",""]
[null,null,null,null,null,null,null,null,null,null,null,null,null,null,null,null,null,null,null,null,null,null,null,null,null,null,null,null,null,null,null,null,null,null,null,null,null,null,null,null,null,null,null,null,null,null,null,null,null,null,null,null,null,null,null,null,null,null,null,null,null,null,null,null,null,8,"西暦",2023,"年",12,"月",10,"日","(日)","準決勝","⑧",null,{"$f":"IF(BY19=\"\",\"\",IFERROR(VLOOKUP(BY19,'登録チーム情報(設定) '!$M$10:$T$24,8,FALSE),\"\"))","v":""},8,"令和5年12月10日(日)","準決勝⑧",{"$f":"IF(BY19=\"\",\"\",BY19)","v":""},""]
[null,null,null,null,null,null,null,null,null,null,null,null,null,null,null,null,null,null,null,null,null,null,null,null,null,null,null,null,null,null,null,null,null,null,null,null,null,null,null,null,null,null,null,null,null,null,null,null,null,null,null,null,null,null,null,null,null,null,null,null,null,null,null,null,null,9,"西暦",2023,"年",12,"月",10,"日","(日)","準決勝","⑨",null,{"$f":"IF(BY20=\"\",\"\",IFERROR(VLOOKUP(BY20,'登録チーム情報(設定) '!$M$10:$T$24,8,FALSE),\"\"))","v":""},9,"令和5年12月10日(日)","準決勝⑨",{"$f":"IF(BY20=\"\",\"\",BY20)","v":""},""]
[null,null,null,null,null,null,null,null,null,null,null,null,null,null,null,null,null,null,null,null,null,null,null,null,null,null,null,null,null,null,null,null,null,null,null,null,null,null,null,null,null,null,null,null,null,null,null,null,null,null,null,null,null,null,null,null,null,null,null,null,null,null,null,null,null,10,"西暦",2023,"年",12,"月",11,"日",{"$f":"IF(OR(BP21=\"\",BR21=\"\",BT21=\"\"),\"\",TEXT(DATE(BP21,BR21,BT21),\"(aaa)\"))","v":"(月)"},"第３代表決定戦","⑩",null,{"$f":"IF(BY21=\"\",\"\",IFERROR(VLOOKUP(BY21,'登録チーム情報(設定) '!$M$10:$T$24,8,FALSE),\"\"))","v":""},10,"令和5年12月11日(月)",{"$f":"IF(BW21=\"\",\"\",BW21&BX21)","v":"第３代表決定戦⑩"},"",""]
[null,null,null,null,null,null,null,null,null,null,null,null,null,null,null,null,null,null,null,null,null,null,null,null,null,null,null,null,null,null,null,null,null,null,null,null,null,null,null,null,null,null,null,null,null,null,null,null,null,null,null,null,null,null,null,null,null,null,null,null,null,null,null,null,null,11,"西暦",2023,"年",12,"月",11,"日",{"$f":"IF(OR(BP22=\"\",BR22=\"\",BT22=\"\"),\"\",TEXT(DATE(BP22,BR22,BT22),\"(aaa)\"))","v":"(月)"},"決勝","⑪",null,{"$f":"IF(BY22=\"\",\"\",IFERROR(VLOOKUP(BY22,'登録チーム情報(設定) '!$M$10:$T$24,8,FALSE),\"\"))","v":""},{"$f":"BN22","v":11},{"$f":"IF(OR(BP22=\"\",BR22=\"\",BT22=\"\"),\"\",TEXT(DATE(BP22,BR22,BT22),\"[$-ja-JP]ggge年m月d日(aaa)\"))","v":"令和5年12月11日(月)"},{"$f":"IF(BW22=\"\",\"\",BW22&BX22)","v":"決勝⑪"},{"$f":"IF(BY22=\"\",\"\",BY22)","v":""},{"$f":"IF(BY22=\"\",\"\",\"《\"&BW22&BX22&\"》\"&BZ22&\"(\"&BY22&\")\")","v":""}]
[]
[null,null,null,null,null,null,null,"≪全道≫トーナメント表"]
[]
[]
[null,null,null,null,null,null,null,null,null,null,null,null,null,null,null,null,null,null,null,null,null,null,null,null,null,null,null,null,null,null,null,null,null,null,null,null,null,null,null,null,null,"⑩"]
[null,null,null,null,null,null,null,null,null,null,null,null,null,"⑪",null,null,null,null,null,null,null,null,null,null,null,null,null,null,null,null,null,null,null,null,null,null,null,null,null,null,null,"第３代表決定"]
[null,null,null,null,null,null,null,null,null,null,null,null,null,"決勝"]
[null,null,null,null,null,null,"⑧",null,null,null,null,null,null,null,null,null,null,null,null,null,null,null,null,null,null,null,null,null,null,null,null,"⑨"]
[null,null,null,null,null,null,"準決勝",null,null,null,null,null,null,null,null,null,null,null,null,null,null,null,null,null,null,null,null,null,null,null,null,"準決勝"]
[null,null,null,"④",null,null,null,null,null,null,null,null,null,null,null,"⑤",null,null,null,null,null,null,null,null,null,null,null,null,"⑥",null,null,null,null,null,null,null,null,null,null,null,null,"⑦"]
[null,null,null,"2回戦",null,null,null,null,null,null,null,null,null,null,null,"2回戦",null,null,null,null,null,null,null,null,null,null,null,null,"2回戦",null,null,null,null,null,null,null,null,null,null,null,null,"2回戦"]
[null,null,null,null,null,null,null,"①",null,null,null,null,null,null,null,null,null,null,null,null,null,null,null,null,null,null,null,null,null,null,null,null,"②",null,null,null,null,null,null,"③"]
[null,null,null,null,null,null,null,"1回戦",null,null,null,null,null,null,null,null,null,null,null,null,null,null,null,null,null,null,null,null,null,null,null,null,"1回戦",null,null,null,null,null,null,"1回戦"]
[null,null,1,null,null,null,2,null,null,null,3,null,null,null,4,null,null,null,null,null,null,null,5,null,null,null,null,6,null,null,null,7,null,null,null,8,null,null,9,null,null,null,10,null,null,null,11]

{"sheet":"選手名簿情報","index":7,"n_rows":37,"n_cols":7,"rows_kept":37,"cut":false,"hidden":false,"merged":[[3,1,3,2],[3,3,3,4]]}
[]
[]
[]
[null,{"$f":"IF('大会情報(設定)'!C7=\"\",\"\",'大会情報(設定)'!C7)","v":"全道大会"},null,"Ver"]
[]
["チーム名",{"$f":"'チーム情報(設定)'!D8&\"(\"&'チーム情報(設定)'!X8&\")\"","v":"()"}]
["監督",{"$f":"IF('チーム情報(設定)'!C28=\"\",\"\",LEFT('チーム情報(設定)'!C28,FIND(\"　\",'チーム情報(設定)'!C28)-1))","v":""},{"$f":"IF('チーム情報(設定)'!C28=\"\",\"\",RIGHT('チーム情報(設定)'!C28,LEN('チーム情報(設定)'!C28)-FIND(\"　\",'チーム情報(設定)'!C28)))","v":""}]
["コーチ",{"$f":"IF('チーム情報(設定)'!C29=\"\",\"\",LEFT('チーム情報(設定)'!C29,FIND(\"　\",'チーム情報(設定)'!C29)-1))","v":""},{"$f":"IF('チーム情報(設定)'!C29=\"\",\"\",RIGHT('チーム情報(設定)'!C29,LEN('チーム情報(設定)'!C29)-FIND(\"　\",'チーム情報(設定)'!C29)))","v":""}]
["コーチ",{"$f":"IF('チーム情報(設定)'!C30=\"\",\"\",LEFT('チーム情報(設定)'!C30,FIND(\"　\",'チーム情報(設定)'!C30)-1))","v":""},{"$f":"IF('チーム情報(設定)'!C30=\"\",\"\",RIGHT('チーム情報(設定)'!C30,LEN('チーム情報(設定)'!C30)-FIND(\"　\",'チーム情報(設定)'!C30)))","v":""}]
["マネージャー",{"$f":"IF('チーム情報(設定)'!C31=\"\",\"\",LEFT('チーム情報(設定)'!C31,FIND(\"　\",'チーム情報(設定)'!C31)-1))","v":""},{"$f":"IF('チーム情報(設定)'!C31=\"\",\"\",RIGHT('チーム情報(設定)'!C31,LEN('チーム情報(設定)'!C31)-FIND(\"　\",'チーム情報(設定)'!C31)))","v":""}]
["マネージャー",{"$f":"IF('チーム情報(設定)'!C32=\"\",\"\",LEFT('チーム情報(設定)'!C32,FIND(\"　\",'チーム情報(設定)'!C32)-1))","v":""},{"$f":"IF('チーム情報(設定)'!C32=\"\",\"\",RIGHT('チーム情報(設定)'!C32,LEN('チーム情報(設定)'!C32)-FIND(\"　\",'チーム情報(設定)'!C32)))","v":""}]
["主将",{"$f":"IFERROR(VLOOKUP(\"C\",D13:G34,2,),\"\")","v":""},{"$f":"IFERROR(VLOOKUP(\"C\",D13:G34,3,),\"\")","v":""}]
[1,{"$f":"IF('チーム情報(設定)'!E42=\"\",\"\",'チーム情報(設定)'!E42)","v":""},{"$f":"IF('チーム情報(設定)'!D42=\"\",\"\",'チーム情報(設定)'!D42)","v":""},{"$f":"IF('チーム情報(設定)'!H42=\"\",\"\",'チーム情報(設定)'!H42)","v":""},{"$f":"IF('チーム情報(設定)'!F42=\"\",\"\",LEFT('チーム情報(設定)'!F42,FIND(\"　\",'チーム情報(設定)'!F42)-1))","v":""},{"$f":"IF('チーム情報(設定)'!F42=\"\",\"\",RIGHT('チーム情報(設定)'!F42,LEN('チーム情報(設定)'!F42)-FIND(\"　\",'チーム情報(設定)'!F42)))","v":""},{"$f":"IF('チーム情報(設定)'!K42=\"\",\"\",'チーム情報(設定)'!K42)","v":""}]
[2,{"$f":"IF('チーム情報(設定)'!E43=\"\",\"\",'チーム情報(設定)'!E43)","v":""},{"$f":"IF('チーム情報(設定)'!D43=\"\",\"\",'チーム情報(設定)'!D43)","v":""},{"$f":"IF('チーム情報(設定)'!H43=\"\",\"\",'チーム情報(設定)'!H43)","v":""},{"$f":"IF('チーム情報(設定)'!F43=\"\",\"\",LEFT('チーム情報(設定)'!F43,FIND(\"　\",'チーム情報(設定)'!F43)-1))","v":""},{"$f":"IF('チーム情報(設定)'!F43=\"\",\"\",RIGHT('チーム情報(設定)'!F43,LEN('チーム情報(設定)'!F43)-FIND(\"　\",'チーム情報(設定)'!F43)))","v":""},{"$f":"IF('チーム情報(設定)'!K43=\"\",\"\",'チーム情報(設定)'!K43)","v":""}]
[3,{"$f":"IF('チーム情報(設定)'!E44=\"\",\"\",'チーム情報(設定)'!E44)","v":""},{"$f":"IF('チーム情報(設定)'!D44=\"\",\"\",'チーム情報(設定)'!D44)","v":""},{"$f":"IF('チーム情報(設定)'!H44=\"\",\"\",'チーム情報(設定)'!H44)","v":""},{"$f":"IF('チーム情報(設定)'!F44=\"\",\"\",LEFT('チーム情報(設定)'!F44,FIND(\"　\",'チーム情報(設定)'!F44)-1))","v":""},{"$f":"IF('チーム情報(設定)'!F44=\"\",\"\",RIGHT('チーム情報(設定)'!F44,LEN('チーム情報(設定)'!F44)-FIND(\"　\",'チーム情報(設定)'!F44)))","v":""},{"$f":"IF('チーム情報(設定)'!K44=\"\",\"\",'チーム情報(設定)'!K44)","v":""}]
[4,{"$f":"IF('チーム情報(設定)'!E45=\"\",\"\",'チーム情報(設定)'!E45)","v":""},{"$f":"IF('チーム情報(設定)'!D45=\"\",\"\",'チーム情報(設定)'!D45)","v":""},{"$f":"IF('チーム情報(設定)'!H45=\"\",\"\",'チーム情報(設定)'!H45)","v":""},{"$f":"IF('チーム情報(設定)'!F45=\"\",\"\",LEFT('チーム情報(設定)'!F45,FIND(\"　\",'チーム情報(設定)'!F45)-1))","v":""},{"$f":"IF('チーム情報(設定)'!F45=\"\",\"\",RIGHT('チーム情報(設定)'!F45,LEN('チーム情報(設定)'!F45)-FIND(\"　\",'チーム情報(設定)'!F45)))","v":""},{"$f":"IF('チーム情報(設定)'!K45=\"\",\"\",'チーム情報(設定)'!K45)","v":""}]
[5,{"$f":"IF('チーム情報(設定)'!E46=\"\",\"\",'チーム情報(設定)'!E46)","v":""},{"$f":"IF('チーム情報(設定)'!D46=\"\",\"\",'チーム情報(設定)'!D46)","v":""},{"$f":"IF('チーム情報(設定)'!H46=\"\",\"\",'チーム情報(設定)'!H46)","v":""},{"$f":"IF('チーム情報(設定)'!F46=\"\",\"\",LEFT('チーム情報(設定)'!F46,FIND(\"　\",'チーム情報(設定)'!F46)-1))","v":""},{"$f":"IF('チーム情報(設定)'!F46=\"\",\"\",RIGHT('チーム情報(設定)'!F46,LEN('チーム情報(設定)'!F46)-FIND(\"　\",'チーム情報(設定)'!F46)))","v":""},{"$f":"IF('チーム情報(設定)'!K46=\"\",\"\",'チーム情報(設定)'!K46)","v":""}]
[6,{"$f":"IF('チーム情報(設定)'!E47=\"\",\"\",'チーム情報(設定)'!E47)","v":""},{"$f":"IF('チーム情報(設定)'!D47=\"\",\"\",'チーム情報(設定)'!D47)","v":""},{"$f":"IF('チーム情報(設定)'!H47=\"\",\"\",'チーム情報(設定)'!H47)","v":""},{"$f":"IF('チーム情報(設定)'!F47=\"\",\"\",LEFT('チーム情報(設定)'!F47,FIND(\"　\",'チーム情報(設定)'!F47)-1))","v":""},{"$f":"IF('チーム情報(設定)'!F47=\"\",\"\",RIGHT('チーム情報(設定)'!F47,LEN('チーム情報(設定)'!F47)-FIND(\"　\",'チーム情報(設定)'!F47)))","v":""},{"$f":"IF('チーム情報(設定)'!K47=\"\",\"\",'チーム情報(設定)'!K47)","v":""}]
[7,{"$f":"IF('チーム情報(設定)'!E48=\"\",\"\",'チーム情報(設定)'!E48)","v":""},{"$f":"IF('チーム情報(設定)'!D48=\"\",\"\",'チーム情報(設定)'!D48)","v":""},{"$f":"IF('チーム情報(設定)'!H48=\"\",\"\",'チーム情報(設定)'!H48)","v":""},{"$f":"IF('チーム情報(設定)'!F48=\"\",\"\",LEFT('チーム情報(設定)'!F48,FIND(\"　\",'チーム情報(設定)'!F48)-1))","v":""},{"$f":"IF('チーム情報(設定)'!F48=\"\",\"\",RIGHT('チーム情報(設定)'!F48,LEN('チーム情報(設定)'!F48)-FIND(\"　\",'チーム情報(設定)'!F48)))","v":""},{"$f":"IF('チーム情報(設定)'!K48=\"\",\"\",'チーム情報(設定)'!K48)","v":""}]
[8,{"$f":"IF('チーム情報(設定)'!E49=\"\",\"\",'チーム情報(設定)'!E49)","v":""},{"$f":"IF('チーム情報(設定)'!D49=\"\",\"\",'チーム情報(設定)'!D49)","v":""},{"$f":"IF('チーム情報(設定)'!H49=\"\",\"\",'チーム情報(設定)'!H49)","v":""},{"$f":"IF('チーム情報(設定)'!F49=\"\",\"\",LEFT('チーム情報(設定)'!F49,FIND(\"　\",'チーム情報(設定)'!F49)-1))","v":""},{"$f":"IF('チーム情報(設定)'!F49=\"\",\"\",RIGHT('チーム情報(設定)'!F49,LEN('チーム情報(設定)'!F49)-FIND(\"　\",'チーム情報(設定)'!F49)))","v":""},{"$f":"IF('チーム情報(設定)'!K49=\"\",\"\",'チーム情報(設定)'!K49)","v":""}]
[9,{"$f":"IF('チーム情報(設定)'!E50=\"\",\"\",'チーム情報(設定)'!E50)","v":""},{"$f":"IF('チーム情報(設定)'!D50=\"\",\"\",'チーム情報(設定)'!D50)","v":""},{"$f":"IF('チーム情報(設定)'!H50=\"\",\"\",'チーム情報(設定)'!H50)","v":""},{"$f":"IF('チーム情報(設定)'!F50=\"\",\"\",LEFT('チーム情報(設定)'!F50,FIND(\"　\",'チーム情報(設定)'!F50)-1))","v":""},{"$f":"IF('チーム情報(設定)'!F50=\"\",\"\",RIGHT('チーム情報(設定)'!F50,LEN('チーム情報(設定)'!F50)-FIND(\"　\",'チーム情報(設定)'!F50)))","v":""},{"$f":"IF('チーム情報(設定)'!K50=\"\",\"\",'チーム情報(設定)'!K50)","v":""}]
[10,{"$f":"IF('チーム情報(設定)'!E51=\"\",\"\",'チーム情報(設定)'!E51)","v":""},{"$f":"IF('チーム情報(設定)'!D51=\"\",\"\",'チーム情報(設定)'!D51)","v":""},{"$f":"IF('チーム情報(設定)'!H51=\"\",\"\",'チーム情報(設定)'!H51)","v":""},{"$f":"IF('チーム情報(設定)'!F51=\"\",\"\",LEFT('チーム情報(設定)'!F51,FIND(\"　\",'チーム情報(設定)'!F51)-1))","v":""},{"$f":"IF('チーム情報(設定)'!F51=\"\",\"\",RIGHT('チーム情報(設定)'!F51,LEN('チーム情報(設定)'!F51)-FIND(\"　\",'チーム情報(設定)'!F51)))","v":""},{"$f":"IF('チーム情報(設定)'!K51=\"\",\"\",'チーム情報(設定)'!K51)","v":""}]
[11,{"$f":"IF('チーム情報(設定)'!E52=\"\",\"\",'チーム情報(設定)'!E52)","v":""},{"$f":"IF('チーム情報(設定)'!D52=\"\",\"\",'チーム情報(設定)'!D52)","v":""},{"$f":"IF('チーム情報(設定)'!H52=\"\",\"\",'チーム情報(設定)'!H52)","v":""},{"$f":"IF('チーム情報(設定)'!F52=\"\",\"\",LEFT('チーム情報(設定)'!F52,FIND(\"　\",'チーム情報(設定)'!F52)-1))","v":""},{"$f":"IF('チーム情報(設定)'!F52=\"\",\"\",RIGHT('チーム情報(設定)'!F52,LEN('チーム情報(設定)'!F52)-FIND(\"　\",'チーム情報(設定)'!F52)))","v":""},{"$f":"IF('チーム情報(設定)'!K52=\"\",\"\",'チーム情報(設定)'!K52)","v":""}]
[12,{"$f":"IF('チーム情報(設定)'!E53=\"\",\"\",'チーム情報(設定)'!E53)","v":""},{"$f":"IF('チーム情報(設定)'!D53=\"\",\"\",'チーム情報(設定)'!D53)","v":""},{"$f":"IF('チーム情報(設定)'!H53=\"\",\"\",'チーム情報(設定)'!H53)","v":""},{"$f":"IF('チーム情報(設定)'!F53=\"\",\"\",LEFT('チーム情報(設定)'!F53,FIND(\"　\",'チーム情報(設定)'!F53)-1))","v":""},{"$f":"IF('チーム情報(設定)'!F53=\"\",\"\",RIGHT('チーム情報(設定)'!F53,LEN('チーム情報(設定)'!F53)-FIND(\"　\",'チーム情報(設定)'!F53)))","v":""},{"$f":"IF('チーム情報(設定)'!K53=\"\",\"\",'チーム情報(設定)'!K53)","v":""}]
[13,{"$f":"IF('チーム情報(設定)'!E54=\"\",\"\",'チーム情報(設定)'!E54)","v":""},{"$f":"IF('チーム情報(設定)'!D54=\"\",\"\",'チーム情報(設定)'!D54)","v":""},{"$f":"IF('チーム情報(設定)'!H54=\"\",\"\",'チーム情報(設定)'!H54)","v":""},{"$f":"IF('チーム情報(設定)'!F54=\"\",\"\",LEFT('チーム情報(設定)'!F54,FIND(\"　\",'チーム情報(設定)'!F54)-1))","v":""},{"$f":"IF('チーム情報(設定)'!F54=\"\",\"\",RIGHT('チーム情報(設定)'!F54,LEN('チーム情報(設定)'!F54)-FIND(\"　\",'チーム情報(設定)'!F54)))","v":""},{"$f":"IF('チーム情報(設定)'!K54=\"\",\"\",'チーム情報(設定)'!K54)","v":""}]
[14,{"$f":"IF('チーム情報(設定)'!E55=\"\",\"\",'チーム情報(設定)'!E55)","v":""},{"$f":"IF('チーム情報(設定)'!D55=\"\",\"\",'チーム情報(設定)'!D55)","v":""},{"$f":"IF('チーム情報(設定)'!H55=\"\",\"\",'チーム情報(設定)'!H55)","v":""},{"$f":"IF('チーム情報(設定)'!F55=\"\",\"\",LEFT('チーム情報(設定)'!F55,FIND(\"　\",'チーム情報(設定)'!F55)-1))","v":""},{"$f":"IF('チーム情報(設定)'!F55=\"\",\"\",RIGHT('チーム情報(設定)'!F55,LEN('チーム情報(設定)'!F55)-FIND(\"　\",'チーム情報(設定)'!F55)))","v":""},{"$f":"IF('チーム情報(設定)'!K55=\"\",\"\",'チーム情報(設定)'!K55)","v":""}]
[15,{"$f":"IF('チーム情報(設定)'!E56=\"\",\"\",'チーム情報(設定)'!E56)","v":""},{"$f":"IF('チーム情報(設定)'!D56=\"\",\"\",'チーム情報(設定)'!D56)","v":""},{"$f":"IF('チーム情報(設定)'!H56=\"\",\"\",'チーム情報(設定)'!H56)","v":""},{"$f":"IF('チーム情報(設定)'!F56=\"\",\"\",LEFT('チーム情報(設定)'!F56,FIND(\"　\",'チーム情報(設定)'!F56)-1))","v":""},{"$f":"IF('チーム情報(設定)'!F56=\"\",\"\",RIGHT('チーム情報(設定)'!F56,LEN('チーム情報(設定)'!F56)-FIND(\"　\",'チーム情報(設定)'!F56)))","v":""},{"$f":"IF('チーム情報(設定)'!K56=\"\",\"\",'チーム情報(設定)'!K56)","v":""}]
[16,{"$f":"IF('チーム情報(設定)'!E57=\"\",\"\",'チーム情報(設定)'!E57)","v":""},{"$f":"IF('チーム情報(設定)'!D57=\"\",\"\",'チーム情報(設定)'!D57)","v":""},{"$f":"IF('チーム情報(設定)'!H57=\"\",\"\",'チーム情報(設定)'!H57)","v":""},{"$f":"IF('チーム情報(設定)'!F57=\"\",\"\",LEFT('チーム情報(設定)'!F57,FIND(\"　\",'チーム情報(設定)'!F57)-1))","v":""},{"$f":"IF('チーム情報(設定)'!F57=\"\",\"\",RIGHT('チーム情報(設定)'!F57,LEN('チーム情報(設定)'!F57)-FIND(\"　\",'チーム情報(設定)'!F57)))","v":""},{"$f":"IF('チーム情報(設定)'!K57=\"\",\"\",'チーム情報(設定)'!K57)","v":""}]
[17,{"$f":"IF('チーム情報(設定)'!E58=\"\",\"\",'チーム情報(設定)'!E58)","v":""},{"$f":"IF('チーム情報(設定)'!D58=\"\",\"\",'チーム情報(設定)'!D58)","v":""},{"$f":"IF('チーム情報(設定)'!H58=\"\",\"\",'チーム情報(設定)'!H58)","v":""},{"$f":"IF('チーム情報(設定)'!F58=\"\",\"\",LEFT('チーム情報(設定)'!F58,FIND(\"　\",'チーム情報(設定)'!F58)-1))","v":""},{"$f":"IF('チーム情報(設定)'!F58=\"\",\"\",RIGHT('チーム情報(設定)'!F58,LEN('チーム情報(設定)'!F58)-FIND(\"　\",'チーム情報(設定)'!F58)))","v":""},{"$f":"IF('チーム情報(設定)'!K58=\"\",\"\",'チーム情報(設定)'!K58)","v":""}]
[18,{"$f":"IF('チーム情報(設定)'!E59=\"\",\"\",'チーム情報(設定)'!E59)","v":""},{"$f":"IF('チーム情報(設定)'!D59=\"\",\"\",'チーム情報(設定)'!D59)","v":""},{"$f":"IF('チーム情報(設定)'!H59=\"\",\"\",'チーム情報(設定)'!H59)","v":""},{"$f":"IF('チーム情報(設定)'!F59=\"\",\"\",LEFT('チーム情報(設定)'!F59,FIND(\"　\",'チーム情報(設定)'!F59)-1))","v":""},{"$f":"IF('チーム情報(設定)'!F59=\"\",\"\",RIGHT('チーム情報(設定)'!F59,LEN('チーム情報(設定)'!F59)-FIND(\"　\",'チーム情報(設定)'!F59)))","v":""},{"$f":"IF('チーム情報(設定)'!K59=\"\",\"\",'チーム情報(設定)'!K59)","v":""}]
[19,{"$f":"IF('チーム情報(設定)'!E60=\"\",\"\",'チーム情報(設定)'!E60)","v":""},{"$f":"IF('チーム情報(設定)'!D60=\"\",\"\",'チーム情報(設定)'!D60)","v":""},{"$f":"IF('チーム情報(設定)'!H60=\"\",\"\",'チーム情報(設定)'!H60)","v":""},{"$f":"IF('チーム情報(設定)'!F60=\"\",\"\",LEFT('チーム情報(設定)'!F60,FIND(\"　\",'チーム情報(設定)'!F60)-1))","v":""},{"$f":"IF('チーム情報(設定)'!F60=\"\",\"\",RIGHT('チーム情報(設定)'!F60,LEN('チーム情報(設定)'!F60)-FIND(\"　\",'チーム情報(設定)'!F60)))","v":""},{"$f":"IF('チーム情報(設定)'!K60=\"\",\"\",'チーム情報(設定)'!K60)","v":""}]
[20,{"$f":"IF('チーム情報(設定)'!E61=\"\",\"\",'チーム情報(設定)'!E61)","v":""},{"$f":"IF('チーム情報(設定)'!D61=\"\",\"\",'チーム情報(設定)'!D61)","v":""},{"$f":"IF('チーム情報(設定)'!H61=\"\",\"\",'チーム情報(設定)'!H61)","v":""},{"$f":"IF('チーム情報(設定)'!F61=\"\",\"\",LEFT('チーム情報(設定)'!F61,FIND(\"　\",'チーム情報(設定)'!F61)-1))","v":""},{"$f":"IF('チーム情報(設定)'!F61=\"\",\"\",RIGHT('チーム情報(設定)'!F61,LEN('チーム情報(設定)'!F61)-FIND(\"　\",'チーム情報(設定)'!F61)))","v":""},{"$f":"IF('チーム情報(設定)'!K61=\"\",\"\",'チーム情報(設定)'!K61)","v":""}]
[21,{"$f":"IF('チーム情報(設定)'!E62=\"\",\"\",'チーム情報(設定)'!E62)","v":""},{"$f":"IF('チーム情報(設定)'!D62=\"\",\"\",'チーム情報(設定)'!D62)","v":""},{"$f":"IF('チーム情報(設定)'!H62=\"\",\"\",'チーム情報(設定)'!H62)","v":""},{"$f":"IF('チーム情報(設定)'!F62=\"\",\"\",LEFT('チーム情報(設定)'!F62,FIND(\"　\",'チーム情報(設定)'!F62)-1))","v":""},{"$f":"IF('チーム情報(設定)'!F62=\"\",\"\",RIGHT('チーム情報(設定)'!F62,LEN('チーム情報(設定)'!F62)-FIND(\"　\",'チーム情報(設定)'!F62)))","v":""},{"$f":"IF('チーム情報(設定)'!K62=\"\",\"\",'チーム情報(設定)'!K62)","v":""}]
[22,{"$f":"IF('チーム情報(設定)'!E63=\"\",\"\",'チーム情報(設定)'!E63)","v":""},{"$f":"IF('チーム情報(設定)'!D63=\"\",\"\",'チーム情報(設定)'!D63)","v":""},{"$f":"IF('チーム情報(設定)'!H63=\"\",\"\",'チーム情報(設定)'!H63)","v":""},{"$f":"IF('チーム情報(設定)'!F63=\"\",\"\",LEFT('チーム情報(設定)'!F63,FIND(\"　\",'チーム情報(設定)'!F63)-1))","v":""},{"$f":"IF('チーム情報(設定)'!F63=\"\",\"\",RIGHT('チーム情報(設定)'!F63,LEN('チーム情報(設定)'!F63)-FIND(\"　\",'チーム情報(設定)'!F63)))","v":""},{"$f":"IF('チーム情報(設定)'!K63=\"\",\"\",'チーム情報(設定)'!K63)","v":""}]
[23,{"$f":"IF('チーム情報(設定)'!E64=\"\",\"\",'チーム情報(設定)'!E64)","v":""},{"$f":"IF('チーム情報(設定)'!D64=\"\",\"\",'チーム情報(設定)'!D64)","v":""},{"$f":"IF('チーム情報(設定)'!H64=\"\",\"\",'チーム情報(設定)'!H64)","v":""},{"$f":"IF('チーム情報(設定)'!F64=\"\",\"\",LEFT('チーム情報(設定)'!F64,FIND(\"　\",'チーム情報(設定)'!F64)-1))","v":""},{"$f":"IF('チーム情報(設定)'!F64=\"\",\"\",RIGHT('チーム情報(設定)'!F64,LEN('チーム情報(設定)'!F64)-FIND(\"　\",'チーム情報(設定)'!F64)))","v":""},{"$f":"IF('チーム情報(設定)'!K64=\"\",\"\",'チーム情報(設定)'!K64)","v":""}]
[24,{"$f":"IF('チーム情報(設定)'!E65=\"\",\"\",'チーム情報(設定)'!E65)","v":""},{"$f":"IF('チーム情報(設定)'!D65=\"\",\"\",'チーム情報(設定)'!D65)","v":""},{"$f":"IF('チーム情報(設定)'!H65=\"\",\"\",'チーム情報(設定)'!H65)","v":""},{"$f":"IF('チーム情報(設定)'!F65=\"\",\"\",LEFT('チーム情報(設定)'!F65,FIND(\"　\",'チーム情報(設定)'!F65)-1))","v":""},{"$f":"IF('チーム情報(設定)'!F65=\"\",\"\",RIGHT('チーム情報(設定)'!F65,LEN('チーム情報(設定)'!F65)-FIND(\"　\",'チーム情報(設定)'!F65)))","v":""},{"$f":"IF('チーム情報(設定)'!K65=\"\",\"\",'チーム情報(設定)'!K65)","v":""}]
[25,{"$f":"IF('チーム情報(設定)'!E66=\"\",\"\",'チーム情報(設定)'!E66)","v":""},{"$f":"IF('チーム情報(設定)'!D66=\"\",\"\",'チーム情報(設定)'!D66)","v":""},{"$f":"IF('チーム情報(設定)'!H66=\"\",\"\",'チーム情報(設定)'!H66)","v":""},{"$f":"IF('チーム情報(設定)'!F66=\"\",\"\",LEFT('チーム情報(設定)'!F66,FIND(\"　\",'チーム情報(設定)'!F66)-1))","v":""},{"$f":"IF('チーム情報(設定)'!F66=\"\",\"\",RIGHT('チーム情報(設定)'!F66,LEN('チーム情報(設定)'!F66)-FIND(\"　\",'チーム情報(設定)'!F66)))","v":""},{"$f":"IF('チーム情報(設定)'!K66=\"\",\"\",'チーム情報(設定)'!K66)","v":""}]

{"sheet":"登録チーム情報","index":8,"n_rows":31,"n_cols":5,"rows_kept":31,"cut":false,"hidden":false,"merged":[]}
[]
[]
[]
[]
[]
[]
[null,null,{"$f":"IF('登録チーム情報(設定) '!C10=\"\",\"\",'登録チーム情報(設定) '!C10)","v":1},{"$f":"IF('登録チーム情報(設定) '!E10=\"\",\"\",'登録チーム情報(設定) '!E10)","v":""},{"$f":"IF('登録チーム情報(設定) '!D10=\"\",\"\",'登録チーム情報(設定) '!D10)","v":""}]
[null,null,{"$f":"IF('登録チーム情報(設定) '!C11=\"\",\"\",'登録チーム情報(設定) '!C11)","v":2},{"$f":"IF('登録チーム情報(設定) '!E11=\"\",\"\",'登録チーム情報(設定) '!E11)","v":""},{"$f":"IF('登録チーム情報(設定) '!D11=\"\",\"\",'登録チーム情報(設定) '!D11)","v":""}]
[null,null,{"$f":"IF('登録チーム情報(設定) '!C12=\"\",\"\",'登録チーム情報(設定) '!C12)","v":3},{"$f":"IF('登録チーム情報(設定) '!E12=\"\",\"\",'登録チーム情報(設定) '!E12)","v":""},{"$f":"IF('登録チーム情報(設定) '!D12=\"\",\"\",'登録チーム情報(設定) '!D12)","v":""}]
[null,null,{"$f":"IF('登録チーム情報(設定) '!C13=\"\",\"\",'登録チーム情報(設定) '!C13)","v":4},{"$f":"IF('登録チーム情報(設定) '!E13=\"\",\"\",'登録チーム情報(設定) '!E13)","v":""},{"$f":"IF('登録チーム情報(設定) '!D13=\"\",\"\",'登録チーム情報(設定) '!D13)","v":""}]
[null,null,{"$f":"IF('登録チーム情報(設定) '!C14=\"\",\"\",'登録チーム情報(設定) '!C14)","v":5},{"$f":"IF('登録チーム情報(設定) '!E14=\"\",\"\",'登録チーム情報(設定) '!E14)","v":""},{"$f":"IF('登録チーム情報(設定) '!D14=\"\",\"\",'登録チーム情報(設定) '!D14)","v":""}]
[null,null,{"$f":"IF('登録チーム情報(設定) '!C15=\"\",\"\",'登録チーム情報(設定) '!C15)","v":6},{"$f":"IF('登録チーム情報(設定) '!E15=\"\",\"\",'登録チーム情報(設定) '!E15)","v":""},{"$f":"IF('登録チーム情報(設定) '!D15=\"\",\"\",'登録チーム情報(設定) '!D15)","v":""}]
[null,null,{"$f":"IF('登録チーム情報(設定) '!C16=\"\",\"\",'登録チーム情報(設定) '!C16)","v":7},{"$f":"IF('登録チーム情報(設定) '!E16=\"\",\"\",'登録チーム情報(設定) '!E16)","v":""},{"$f":"IF('登録チーム情報(設定) '!D16=\"\",\"\",'登録チーム情報(設定) '!D16)","v":""}]
[null,null,{"$f":"IF('登録チーム情報(設定) '!C17=\"\",\"\",'登録チーム情報(設定) '!C17)","v":8},{"$f":"IF('登録チーム情報(設定) '!E17=\"\",\"\",'登録チーム情報(設定) '!E17)","v":""},{"$f":"IF('登録チーム情報(設定) '!D17=\"\",\"\",'登録チーム情報(設定) '!D17)","v":""}]
[null,null,{"$f":"IF('登録チーム情報(設定) '!C18=\"\",\"\",'登録チーム情報(設定) '!C18)","v":9},{"$f":"IF('登録チーム情報(設定) '!E18=\"\",\"\",'登録チーム情報(設定) '!E18)","v":""},{"$f":"IF('登録チーム情報(設定) '!D18=\"\",\"\",'登録チーム情報(設定) '!D18)","v":""}]
[null,null,{"$f":"IF('登録チーム情報(設定) '!C19=\"\",\"\",'登録チーム情報(設定) '!C19)","v":10},{"$f":"IF('登録チーム情報(設定) '!E19=\"\",\"\",'登録チーム情報(設定) '!E19)","v":""},{"$f":"IF('登録チーム情報(設定) '!D19=\"\",\"\",'登録チーム情報(設定) '!D19)","v":""}]
[null,null,{"$f":"IF('登録チーム情報(設定) '!C20=\"\",\"\",'登録チーム情報(設定) '!C20)","v":11},{"$f":"IF('登録チーム情報(設定) '!E20=\"\",\"\",'登録チーム情報(設定) '!E20)","v":""},{"$f":"IF('登録チーム情報(設定) '!D20=\"\",\"\",'登録チーム情報(設定) '!D20)","v":""}]
[null,null,{"$f":"IF('登録チーム情報(設定) '!C21=\"\",\"\",'登録チーム情報(設定) '!C21)","v":12},{"$f":"IF('登録チーム情報(設定) '!E21=\"\",\"\",'登録チーム情報(設定) '!E21)","v":""},{"$f":"IF('登録チーム情報(設定) '!D21=\"\",\"\",'登録チーム情報(設定) '!D21)","v":""}]
[null,null,{"$f":"IF('登録チーム情報(設定) '!C22=\"\",\"\",'登録チーム情報(設定) '!C22)","v":13},{"$f":"IF('登録チーム情報(設定) '!E22=\"\",\"\",'登録チーム情報(設定) '!E22)","v":""},{"$f":"IF('登録チーム情報(設定) '!D22=\"\",\"\",'登録チーム情報(設定) '!D22)","v":""}]
[null,null,{"$f":"IF('登録チーム情報(設定) '!C23=\"\",\"\",'登録チーム情報(設定) '!C23)","v":14},{"$f":"IF('登録チーム情報(設定) '!E23=\"\",\"\",'登録チーム情報(設定) '!E23)","v":""},{"$f":"IF('登録チーム情報(設定) '!D23=\"\",\"\",'登録チーム情報(設定) '!D23)","v":""}]
[null,null,{"$f":"IF('登録チーム情報(設定) '!C24=\"\",\"\",'登録チーム情報(設定) '!C24)","v":15},{"$f":"IF('登録チーム情報(設定) '!E24=\"\",\"\",'登録チーム情報(設定) '!E24)","v":""},{"$f":"IF('登録チーム情報(設定) '!D24=\"\",\"\",'登録チーム情報(設定) '!D24)","v":""}]
[null,null,{"$f":"IF('登録チーム情報(設定) '!C25=\"\",\"\",'登録チーム情報(設定) '!C25)","v":16},{"$f":"IF('登録チーム情報(設定) '!E25=\"\",\"\",'登録チーム情報(設定) '!E25)","v":""},{"$f":"IF('登録チーム情報(設定) '!D25=\"\",\"\",'登録チーム情報(設定) '!D25)","v":""}]
[null,null,{"$f":"IF('登録チーム情報(設定) '!C26=\"\",\"\",'登録チーム情報(設定) '!C26)","v":17},{"$f":"IF('登録チーム情報(設定) '!E26=\"\",\"\",'登録チーム情報(設定) '!E26)","v":""},{"$f":"IF('登録チーム情報(設定) '!D26=\"\",\"\",'登録チーム情報(設定) '!D26)","v":""}]
[null,null,{"$f":"IF('登録チーム情報(設定) '!C27=\"\",\"\",'登録チーム情報(設定) '!C27)","v":18},{"$f":"IF('登録チーム情報(設定) '!E27=\"\",\"\",'登録チーム情報(設定) '!E27)","v":""},{"$f":"IF('登録チーム情報(設定) '!D27=\"\",\"\",'登録チーム情報(設定) '!D27)","v":""}]
[null,null,{"$f":"IF('登録チーム情報(設定) '!C28=\"\",\"\",'登録チーム情報(設定) '!C28)","v":19},{"$f":"IF('登録チーム情報(設定) '!E28=\"\",\"\",'登録チーム情報(設定) '!E28)","v":""},{"$f":"IF('登録チーム情報(設定) '!D28=\"\",\"\",'登録チーム情報(設定) '!D28)","v":""}]
[null,null,{"$f":"IF('登録チーム情報(設定) '!C29=\"\",\"\",'登録チーム情報(設定) '!C29)","v":20},{"$f":"IF('登録チーム情報(設定) '!E29=\"\",\"\",'登録チーム情報(設定) '!E29)","v":""},{"$f":"IF('登録チーム情報(設定) '!D29=\"\",\"\",'登録チーム情報(設定) '!D29)","v":""}]
[null,null,{"$f":"IF('登録チーム情報(設定) '!C30=\"\",\"\",'登録チーム情報(設定) '!C30)","v":21},{"$f":"IF('登録チーム情報(設定) '!E30=\"\",\"\",'登録チーム情報(設定) '!E30)","v":""},{"$f":"IF('登録チーム情報(設定) '!D30=\"\",\"\",'登録チーム情報(設定) '!D30)","v":""}]
[null,null,{"$f":"IF('登録チーム情報(設定) '!C31=\"\",\"\",'登録チーム情報(設定) '!C31)","v":22},{"$f":"IF('登録チーム情報(設定) '!E31=\"\",\"\",'登録チーム情報(設定) '!E31)","v":""},{"$f":"IF('登録チーム情報(設定) '!D31=\"\",\"\",'登録チーム情報(設定) '!D31)","v":""}]
[null,null,{"$f":"IF('登録チーム情報(設定) '!C32=\"\",\"\",'登録チーム情報(設定) '!C32)","v":23},{"$f":"IF('登録チーム情報(設定) '!E32=\"\",\"\",'登録チーム情報(設定) '!E32)","v":""},{"$f":"IF('登録チーム情報(設定) '!D32=\"\",\"\",'登録チーム情報(設定) '!D32)","v":""}]
[null,null,{"$f":"IF('登録チーム情報(設定) '!C33=\"\",\"\",'登録チーム情報(設定) '!C33)","v":24},{"$f":"IF('登録チーム情報(設定) '!E33=\"\",\"\",'登録チーム情報(設定) '!E33)","v":""},{"$f":"IF('登録チーム情報(設定) '!D33=\"\",\"\",'登録チーム情報(設定) '!D33)","v":""}]
[null,null,{"$f":"IF('登録チーム情報(設定) '!C34=\"\",\"\",'登録チーム情報(設定) '!C34)","v":25},{"$f":"IF('登録チーム情報(設定) '!E34=\"\",\"\",'登録チーム情報(設定) '!E34)","v":""},{"$f":"IF('登録チーム情報(設定) '!D34=\"\",\"\",'登録チーム情報(設定) '!D34)","v":""}]

{"sheet":"リスト","index":9,"n_rows":77,"n_cols":26,"rows_kept":77,"cut":false,"hidden":false,"merged":[[5,12,5,13],[3,1,3,7],[5,21,5,23]]}
[]
[]
[]
[null,"ドロップリスト(入力)"]
[]
[null,null,"中体連","管内","学年","順位","Pos.","C/A","役職","性別",null,"西暦","和暦",null,"チーム名",null,"試合","曜日","試合N,",null,"種属","大会名",null,null,"ブロック","都道府県"]
[null,null,null,null,null,null,null,"　"]
[null,1,"東胆振","東胆振",3,1,"GK","C","校長","男",1,2006,"H18",null,"全十勝A","コーチ","1回戦","月","①","携帯","中学校","全国大会","年度　全国中学校体育大会","回全国中学校アイスホッケー大会","北海道","北海道"]
[null,2,"釧路","釧路",2,2,"DF","A","教諭","女",2,2007,"H19",null,"全十勝B","マネージャー","2回戦","火","②","学校","学校","全道大会","年度　北海道中学校体育大会","回北海道中学校アイスホッケー大会","青森県","青森県"]
[null,3,"全十勝","十勝",1,3,"FW",null,"部活動指導員",null,3,2008,"H20",null,"全十勝C",null,"3回戦","水","③","自宅","学校中等部",null,null,null,"東北","岩手県"]
[null,4,"札幌","札幌",null,4,null,null,"外部指導者",null,4,2009,"H21",null,"全十勝D",null,"準決勝","木","④","個人","学園",null,null,null,"関東","宮城県"]
[null,5,null,null,null,5,"RD",null,"生徒",null,5,2010,"H22",null,null,null,"決勝","金","⑤",null,"義務教育学校",null,null,null,"北信越","福島県"]
[null,6,null,null,null,6,"LD",null,"主幹教諭",null,6,2011,"H23",null,null,null,"第３代表決定戦","土","⑥",null,"初中高級学校 ",null,null,null,"東海","栃木県"]
[null,7,null,null,null,"－","RW",null,null,null,7,2012,"H24",null,null,null,"5位決定戦","日","⑦",null,null,null,null,null,null,"千葉県"]
[null,8,null,null,null,null,"CF",null,null,null,8,2013,"H25",null,null,null,"7位決定戦",null,"⑧",null,null,null,null,null,null,"埼玉県"]
[null,9,null,null,null,null,"LW",null,null,null,9,2014,"H26",null,null,null,"9位決定戦",null,"⑨",null,null,null,null,null,null,"東京都"]
[null,10,null,null,null,null,null,null,null,null,10,2015,"H27",null,null,null,"敗者戦",null,"⑩",null,null,null,null,null,null,"長野県"]
[null,11,null,null,null,null,null,null,null,null,11,2016,"H28",null,null,null,null,null,"⑪",null,null,null,null,null,null,"山梨県"]
[null,12,null,null,null,null,null,null,null,null,12,2017,"H29",null,null,null,null,null,"⑫"]
[null,13,null,null,null,null,null,null,null,null,13,2018,"H30",null,null,null,null,null,"⑬"]
[null,14,null,null,null,null,null,null,null,null,14,2019,"H31","R01",null,null,null,null,"⑭"]
[null,15,null,null,null,null,null,null,null,null,15,2020,"R02",null,null,null,null,null,"⑮"]
[null,16,null,null,null,null,null,null,null,null,16,2021,"R03",null,null,null,null,null,"⑯"]
[null,17,null,null,null,null,null,null,null,null,17,2022,"R04"]
[null,18,null,null,null,null,null,null,null,null,18,2023,"R05"]
[null,19,null,null,null,null,null,null,null,null,19,2024,"R06"]
[null,20,null,null,null,null,null,null,null,null,20,2025,"R07"]
[null,21,null,null,null,null,null,null,null,null,21,2026,"R08"]
[null,22,null,null,null,null,null,null,null,null,22,2027,"R09"]
[null,23,null,null,null,null,null,null,null,null,23,2028,"R10"]
[null,24,null,null,null,null,null,null,null,null,24,2029,"R11"]
[null,25,null,null,null,null,null,null,null,null,25,2030,"R12"]
[null,26,null,null,null,null,null,null,null,null,26,2031,"R13"]
[null,27,null,null,null,null,null,null,null,null,27,2032,"R14"]
[null,28,null,null,null,null,null,null,null,null,28,2033,"R15"]
[null,29,null,null,null,null,null,null,null,null,29,2034,"R16"]
[null,30,null,null,null,null,null,null,null,null,30,2035,"R17"]
[null,31,null,null,null,null,null,null,null,null,31,2036,"R18"]
[null,32,null,null,null,null,null,null,null,null,32,2037,"R19"]
[null,33,null,null,null,null,null,null,null,null,33,2038,"R20"]
[null,34,null,null,null,null,null,null,null,null,34,2039,"R21"]
[null,35,null,null,null,null,null,null,null,null,35,2040,"R22"]
[null,36,null,null,null,null,null,null,null,null,36,2041,"R23"]
[null,37,null,null,null,null,null,null,null,null,37,2042,"R24"]
[null,38,null,null,null,null,null,null,null,null,38,2043,"R25"]
[null,39,null,null,null,null,null,null,null,null,39,2044,"R26"]
[null,40,null,null,null,null,null,null,null,null,40,2045,"R27"]
[null,41,null,null,null,null,null,null,null,null,41,2046,"R28"]
[null,42,null,null,null,null,null,null,null,null,42,2047,"R29"]
[null,43,null,null,null,null,null,null,null,null,43,2048,"R30"]
[null,44,null,null,null,null,null,null,null,null,44,2049,"R31"]
[null,45,null,null,null,null,null,null,null,null,45,2050,"R32"]
[null,46,null,null,null,null,null,null,null,null,46]
[null,47,null,null,null,null,null,null,null,null,47]
[null,48,null,null,null,null,null,null,null,null,48]
[null,49,null,null,null,null,null,null,null,null,49]
[null,50,null,null,null,null,null,null,null,null,50]
[null,51,null,null,null,null,null,null,null,null,51]
[null,52,null,null,null,null,null,null,null,null,52]
[null,53,null,null,null,null,null,null,null,null,53]
[null,54,null,null,null,null,null,null,null,null,54]
[null,55,null,null,null,null,null,null,null,null,55]
[null,56,null,null,null,null,null,null,null,null,56]
[null,57,null,null,null,null,null,null,null,null,57]
[null,58,null,null,null,null,null,null,null,null,58]
[null,59,null,null,null,null,null,null,null,null,59]
[null,60,null,null,null,null,null,null,null,null,60]
[null,61,null,null,null,null,null,null,null,null,61]
[null,62,null,null,null,null,null,null,null,null,62]
[null,63,null,null,null,null,null,null,null,null,63]
[null,64,null,null,null,null,null,null,null,null,64]
[null,65,null,null,null,null,null,null,null,null,65]
[null,66,null,null,null,null,null,null,null,null,66]
[null,67,null,null,null,null,null,null,null,null,67]
[null,68,null,null,null,null,null,null,null,null,68]
[null,69,null,null,null,null,null,null,null,null,69]
[null,70,null,null,null,null,null,null,null,null,70]

{"sheet":"参加申込書　様式1(単独)　印刷用","index":10,"n_rows":63,"n_cols":38,"rows_kept":63,"cut":false,"hidden":false,"merged":[[47,7,47,14],[47,15,47,22],[47,23,47,25],[47,26,47,30],[47,31,47,36],[45,7,45,14],[45,15,45,22],[45,23,45,25],[45,26,45,30],[45,31,45,36],[46,7,46,14],[46,15,46,22],[46,23,46,25],[46,26,46,30],[46,31,46,36],[4,6,4,9],[4,10,4,17],[17,31,17,37],[14,22,15,22],[15,23,15,30],[15,31,15,37],[14,23,14,25],[14,26,14,30],[14,31,14,33],[14,34,14,37],[8,6,8,21],[8,22,9,24],[8,25,9,37],[1,1,1,37],[4,18,4,21],[16,6,16,11],[16,12,16,21],[12,6,12,8],[11,25,12,37],[14,1,14,5],[15,1,15,5],[16,1,16,5],[14,6,14,11],[14,12,14,21],[15,6,15,11],[15,12,15,21],[16,31,16,33],[16,34,16,37],[9,6,9,8],[7,6,7,21],[10,6,10,8],[10,9,10,21],[10,22,10,24],[10,25,10,37],[6,29,7,30],[9,9,9,21],[6,37,7,37],[0,1,0,37],[11,1,13,5],[13,6,13,8],[13,9,13,21],[13,22,13,24],[13,25,13,37],[2,1,2,37],[3,1,3,37],[4,1,4,5],[4,22,4,26],[4,28,4,32],[4,33,4,35],[6,31,7,32],[6,33,7,34],[6,35,7,36],[6,1,7,5],[6,6,6,21],[6,22,7,26],[6,27,7,28],[11,9,11,21],[11,22,11,24],[12,9,12,21],[12,22,12,24],[11,6,11,8],[17,1,17,5],[19,24,19,29],[21,1,22,1],[21,2,22,2],[21,3,21,4],[21,5,21,6],[18,1,18,5],[21,15,22,22],[18,6,18,11],[18,12,18,21],[21,23,22,25],[16,22,17,22],[16,23,16,25],[16,26,16,30],[17,23,17,30],[8,1,10,5],[58,0,58,1],[18,22,18,37],[17,6,17,11],[17,12,17,21],[21,7,22,14],[21,37,22,37],[21,31,22,36],[21,26,22,30],[33,26,33,30],[33,31,33,36],[52,1,52,37],[53,1,53,37],[28,26,28,30],[28,31,28,36],[27,23,27,25],[27,26,27,30],[27,7,27,14],[27,15,27,22],[26,7,26,14],[26,15,26,22],[26,23,26,25],[26,26,26,30],[33,23,33,25],[60,25,60,35],[60,13,60,18],[44,7,44,14],[44,15,44,22],[40,15,40,22],[19,1,19,5],[19,6,19,11],[19,12,19,17],[19,18,19,23],[23,15,23,22],[23,23,23,25],[23,26,23,30],[23,31,23,36],[24,7,24,14],[24,15,24,22],[24,23,24,25],[24,26,24,30],[24,31,24,36],[23,7,23,14],[27,31,27,36],[28,7,28,14],[28,15,28,22],[28,23,28,25],[54,1,54,37],[33,7,33,14],[33,15,33,22],[38,26,38,30],[38,31,38,36],[50,2,50,37],[39,7,39,14],[39,15,39,22],[39,23,39,25],[39,26,39,30],[39,31,39,36],[42,23,42,25],[40,26,40,30],[38,7,38,14],[38,15,38,22],[42,7,42,14],[42,15,42,22],[49,1,49,32],[48,1,48,22],[38,23,38,25],[34,23,34,25],[34,26,34,30],[34,31,34,36],[35,7,35,14],[35,15,35,22],[26,31,26,36],[25,7,25,14],[25,15,25,22],[25,23,25,25],[25,26,25,30],[25,31,25,36],[29,26,29,30],[29,31,29,36],[30,7,30,14],[30,15,30,22],[30,23,30,25],[30,26,30,30],[30,31,30,36],[29,7,29,14],[29,15,29,22],[29,23,29,25],[31,23,31,25],[31,26,31,30],[31,31,31,36],[32,7,32,14],[32,15,32,22],[32,23,32,25],[32,26,32,30],[32,31,32,36],[31,7,31,14],[31,15,31,22],[35,23,35,25],[35,26,35,30],[35,31,35,36],[34,7,34,14],[34,15,34,22],[37,7,37,14],[37,15,37,22],[37,23,37,25],[37,26,37,30],[37,31,37,36],[36,15,36,22],[36,7,36,14],[36,23,36,25],[36,26,36,30],[36,31,36,36],[62,19,62,22],[40,23,40,25],[40,31,40,36],[41,7,41,14],[41,15,41,22],[41,23,41,25],[44,26,44,30],[44,31,44,36],[62,13,62,18],[42,31,42,36],[43,7,43,14],[43,15,43,22],[43,23,43,25],[43,26,43,30],[43,31,43,36],[42,26,42,30],[44,23,44,25],[41,26,41,30],[41,31,41,36],[62,25,62,35],[40,7,40,14],[58,19,58,21],[58,25,58,35],[60,19,60,21]]}
[null,{"$f":"IF('大会情報(設定)'!$C$7=\"全道大会\",\"様式－1　単独チーム記入用　（参加校→地区専門委員長(地区中体連)→大会実行委員会）\",IF('大会情報(設定)'!$C$7=\"全国大会\",\"様式－1　単独チーム記入用　（参加校→都道府県専門委員長(都道府県中体連)→大会実行委員会）\",\"様式－1　単独チーム記入用\"))","v":"様式－1　単独チーム記入用　（参加校→地区専門委員長(地区中体連)→大会実行委員会）"}]
[null,{"$f":"'大会情報(設定)'!F9","v":"令和5年度　北海道中学校体育大会"}]
[null,{"$f":"'大会情報(設定)'!F11","v":"第54回北海道中学校アイスホッケー大会"}]
[null,"参加申込書 (学校単独)"]
[null,{"$f":"IF('大会情報(設定)'!$C$7=\"全道大会\",\"管内名\",IF('大会情報(設定)'!$C$7=\"全国大会\",\"都道府県\",\"\"))","v":"管内名"},null,null,null,null,null,null,null,null,{"$f":"IF('大会情報(設定)'!$C$7=\"全道大会\",'学校情報(設定)'!$C$8,IF('大会情報(設定)'!$C$7=\"全国大会\",'学校情報(設定)'!E8,\"\"))","v":0},null,null,null,null,null,null,null,{"$f":"IF('大会情報(設定)'!$C$7=\"全道大会\",\"管内\",\"\")","v":"管内"},null,null,null,"予選大会順位",null,null,null,null,null,{"$f":"IF('大会情報(設定)'!$C$7=\"全道大会\",G5&S5,IF('大会情報(設定)'!$C$7=\"全国大会\",'学校情報(設定)'!E8&\"ブロック\",\"\"))","v":"管内"},null,null,null,null,{"$f":"IF(設定!$AE$5=\"\",\"\",設定!$AE$5)","v":1},null,null,"位"]
[]
[null,"ふりがな　　　　学校名",null,null,null,null,{"$f":"IF('チーム情報(設定)'!$D$7=\"\",\"\",'チーム情報(設定)'!$D$7)","v":""},null,null,null,null,null,null,null,null,null,null,null,null,null,null,null,"チーム表示\n6文字以内",null,null,null,null,{"$f":"IF('チーム情報(設定)'!$R$8=\"\",\"\",'チーム情報(設定)'!$R$8)","v":""},null,{"$f":"IF('チーム情報(設定)'!$S$8=\"\",\"\",'チーム情報(設定)'!$S$8)","v":""},null,{"$f":"IF('チーム情報(設定)'!$T$8=\"\",\"\",'チーム情報(設定)'!$T$8)","v":""},null,{"$f":"IF('チーム情報(設定)'!$U$8=\"\",\"\",'チーム情報(設定)'!$U$8)","v":""},null,{"$f":"IF('チーム情報(設定)'!$V$8=\"\",\"\",'チーム情報(設定)'!$V$8)","v":""},null,{"$f":"IF('チーム情報(設定)'!$W$8=\"\",\"\",'チーム情報(設定)'!$W$8)","v":""}]
[null,null,null,null,null,null,{"$f":"IF('チーム情報(設定)'!$D$8=\"\",\"\",'チーム情報(設定)'!$D$8)","v":""}]
[null,"学校所在地\nTEL・FAX",null,null,null,null,"帯広市立帯広第五中学校",null,null,null,null,null,null,null,null,null,null,null,null,null,null,null,"所在地",null,null,{"$f":"IF('チーム情報(設定)'!$E$28=\"\",\"\",VLOOKUP('チーム情報(設定)'!$E$28,'学校情報(設定)'!$C$11:$W$40,7,))","v":""}]
[null,null,null,null,null,null,"郵便番号",null,null,{"$f":"IF('チーム情報(設定)'!$E$28=\"\",\"\",VLOOKUP('チーム情報(設定)'!$E$28,'学校情報(設定)'!$C$11:$W$40,19,))","v":""}]
[null,null,null,null,null,null,"ＴＥＬ",null,null,{"$f":"IF('チーム情報(設定)'!$E$28=\"\",\"\",VLOOKUP('チーム情報(設定)'!$E$28,'学校情報(設定)'!$C$11:$W$40,20,))","v":""},null,null,null,null,null,null,null,null,null,null,null,null,"ＦＡＸ",null,null,{"$f":"IF('チーム情報(設定)'!$E$28=\"\",\"\",VLOOKUP('チーム情報(設定)'!$E$28,'学校情報(設定)'!$C$11:$W$40,21,))","v":""}]
[null,"監督",null,null,null,null,"学校名",null,null,{"$f":"IF('チーム情報(設定)'!$E$28=\"\",\"\",VLOOKUP('チーム情報(設定)'!$E$28,'学校情報(設定)'!$C$11:$W$40,18,))","v":""},null,null,null,null,null,null,null,null,null,null,null,null,"男女別",null,null," ・部活動指導員の場合は任命権者を記入すること\n ※部活動指導員の任命権者は都道府県または区市教委、\n　 学校法人等です。"]
[null,null,null,null,null,null,"氏名",null,null,{"$f":"IF('チーム情報(設定)'!$C$28=\"\",\"\",'チーム情報(設定)'!$C$28)","v":""},null,null,null,null,null,null,null,null,null,null,null,null,{"$f":"IF('チーム情報(設定)'!$H$28=\"\",\"\",'チーム情報(設定)'!$H$28)","v":""}]
[null,null,null,null,null,null,"役職",null,null,{"$f":"IF('チーム情報(設定)'!$G$28=\"\",\"\",'チーム情報(設定)'!$G$28)","v":""},null,null,null,null,null,null,null,null,null,null,null,null,"任命権者",null,null,{"$f":"IF(J14=\"部活動指導員\",'チーム情報(設定)'!K33,\"－\")","v":"－"}]
[null,"役職",null,null,null,null,"氏名",null,null,null,null,null,"所属等",null,null,null,null,null,null,null,null,null,"大会前","連絡先",null,null,{"$f":"IF('チーム情報(設定)'!$AB$8=\"\",\"\",'チーム情報(設定)'!$AB$8)","v":"(電話)"},null,null,null,null,"メール",null,null,{"$f":"IF('チーム情報(設定)'!$AB$9=\"\",\"\",'チーム情報(設定)'!$AB$9)","v":"アドレス"}]
[null,{"$f":"IF('チーム情報(設定)'!$B29=\"\",\"\",'チーム情報(設定)'!$B29)","v":""},null,null,null,null,{"$f":"IF('チーム情報(設定)'!$C29=\"\",\"\",'チーム情報(設定)'!$C29)","v":""},null,null,null,null,null,{"$f":"IF('チーム情報(設定)'!$C29=\"\",\"\",IF('チーム情報(設定)'!E29=\"\",\"外部指導者\",VLOOKUP('チーム情報(設定)'!$E29,'学校情報(設定)'!$C$11:$W$40,18,)))","v":""},null,null,null,null,null,null,null,null,null,null,{"$f":"IF('チーム情報(設定)'!$AA8=\"\",\"\",'チーム情報(設定)'!$AA8)","v":"--"},null,null,null,null,null,null,null,{"$f":"IF('チーム情報(設定)'!$AA9=\"\",\"\",'チーム情報(設定)'!$AA9)","v":""}]
[null,{"$f":"IF('チーム情報(設定)'!$B30=\"\",\"\",'チーム情報(設定)'!$B30)","v":""},null,null,null,null,{"$f":"IF('チーム情報(設定)'!$C30=\"\",\"\",'チーム情報(設定)'!$C30)","v":""},null,null,null,null,null,{"$f":"IF('チーム情報(設定)'!$C30=\"\",\"\",IF('チーム情報(設定)'!E30=\"\",\"外部指導者\",VLOOKUP('チーム情報(設定)'!$E30,'学校情報(設定)'!$C$11:$W$40,18,)))","v":""},null,null,null,null,null,null,null,null,null,"大会中","連絡先",null,null,{"$f":"IF('チーム情報(設定)'!$AB$10=\"\",\"\",'チーム情報(設定)'!$AB$10)","v":"(電話)"},null,null,null,null,"メール",null,null,{"$f":"IF('チーム情報(設定)'!$AB$11=\"\",\"\",'チーム情報(設定)'!$AB$11)","v":"アドレス"}]
[null,{"$f":"IF('チーム情報(設定)'!$B31=\"\",\"\",'チーム情報(設定)'!$B31)","v":""},null,null,null,null,{"$f":"IF('チーム情報(設定)'!$C31=\"\",\"\",'チーム情報(設定)'!$C31)","v":""},null,null,null,null,null,{"$f":"IF('チーム情報(設定)'!$C31=\"\",\"\",IF('チーム情報(設定)'!E31=\"\",\"外部指導者\",VLOOKUP('チーム情報(設定)'!$E31,'学校情報(設定)'!$C$11:$W$40,18,)))","v":""},null,null,null,null,null,null,null,null,null,null,{"$f":"IF('チーム情報(設定)'!$AA10=\"\",\"\",'チーム情報(設定)'!$AA10)","v":"--"},null,null,null,null,null,null,null,{"$f":"IF('チーム情報(設定)'!$AA11=\"\",\"\",'チーム情報(設定)'!$AA11)","v":""}]
[null,{"$f":"IF('チーム情報(設定)'!$B32=\"\",\"\",'チーム情報(設定)'!$B32)","v":""},null,null,null,null,{"$f":"IF('チーム情報(設定)'!$C32=\"\",\"\",'チーム情報(設定)'!$C32)","v":""},null,null,null,null,null,{"$f":"IF('チーム情報(設定)'!$C32=\"\",\"\",IF('チーム情報(設定)'!E32=\"\",\"外部指導者\",VLOOKUP('チーム情報(設定)'!$E32,'学校情報(設定)'!$C$11:$W$40,18,)))","v":""}]
[null,"ユニホームカラー",null,null,null,null,"背番号1（ファースト）",null,null,null,null,null,{"$f":"IF('チーム情報(設定)'!$E$38=\"\",\"\",'チーム情報(設定)'!$E$38)","v":""},null,null,null,null,null,"背番号2（セカンド）",null,null,null,null,null,{"$f":"IF('チーム情報(設定)'!$G$38=\"\",\"－\",'チーム情報(設定)'!$G$38)","v":"－"}]
[]
[null,"№","位置","背番号1",null,"背番号2",null,"選手氏名",null,null,null,null,null,null,null,"ふりがな",null,null,null,null,null,null,null,"学年",null,null,"生年月日",null,null,null,null,"日ア連登録番号",null,null,null,null,null,"備考"]
[null,null,null,"№","C/A","№","C/A"]
[null,1,{"$f":"IF('チーム情報(設定)'!C68=\"\",\"\",'チーム情報(設定)'!C68)","v":""},{"$f":"IF('チーム情報(設定)'!D68=\"\",\"\",'チーム情報(設定)'!D68)","v":""},{"$f":"IF('チーム情報(設定)'!E68=\"\",\"\",'チーム情報(設定)'!E68)","v":""},{"$f":"IF('チーム情報(設定)'!F68=\"\",\"\",'チーム情報(設定)'!F68)","v":""},{"$f":"IF('チーム情報(設定)'!F68=\"\",\"\",'チーム情報(設定)'!G68)","v":""},{"$f":"IF('チーム情報(設定)'!H68=\"\",\"\",'チーム情報(設定)'!H68)","v":""},null,null,null,null,null,null,null,{"$f":"IF('チーム情報(設定)'!I68=\"\",\"\",'チーム情報(設定)'!I68)","v":""},null,null,null,null,null,null,null,{"$f":"IF('チーム情報(設定)'!J68=\"\",\"\",'チーム情報(設定)'!J68)","v":""},null,null,{"$f":"IF('チーム情報(設定)'!K68=\"\",\"\",'チーム情報(設定)'!K68)","v":""},null,null,null,null,{"$f":"IF('チーム情報(設定)'!M68=\"\",\"\",'チーム情報(設定)'!M68)","v":""}]
[null,2,{"$f":"IF('チーム情報(設定)'!C69=\"\",\"\",'チーム情報(設定)'!C69)","v":""},{"$f":"IF('チーム情報(設定)'!D69=\"\",\"\",'チーム情報(設定)'!D69)","v":""},{"$f":"IF('チーム情報(設定)'!E69=\"\",\"\",'チーム情報(設定)'!E69)","v":""},{"$f":"IF('チーム情報(設定)'!F69=\"\",\"\",'チーム情報(設定)'!F69)","v":""},{"$f":"IF('チーム情報(設定)'!F69=\"\",\"\",'チーム情報(設定)'!G69)","v":""},{"$f":"IF('チーム情報(設定)'!H69=\"\",\"\",'チーム情報(設定)'!H69)","v":""},null,null,null,null,null,null,null,{"$f":"IF('チーム情報(設定)'!I69=\"\",\"\",'チーム情報(設定)'!I69)","v":""},null,null,null,null,null,null,null,{"$f":"IF('チーム情報(設定)'!J69=\"\",\"\",'チーム情報(設定)'!J69)","v":""},null,null,{"$f":"IF('チーム情報(設定)'!K69=\"\",\"\",'チーム情報(設定)'!K69)","v":""},null,null,null,null,{"$f":"IF('チーム情報(設定)'!M69=\"\",\"\",'チーム情報(設定)'!M69)","v":""}]
[null,3,{"$f":"IF('チーム情報(設定)'!C70=\"\",\"\",'チーム情報(設定)'!C70)","v":""},{"$f":"IF('チーム情報(設定)'!D70=\"\",\"\",'チーム情報(設定)'!D70)","v":""},{"$f":"IF('チーム情報(設定)'!E70=\"\",\"\",'チーム情報(設定)'!E70)","v":""},{"$f":"IF('チーム情報(設定)'!F70=\"\",\"\",'チーム情報(設定)'!F70)","v":""},{"$f":"IF('チーム情報(設定)'!F70=\"\",\"\",'チーム情報(設定)'!G70)","v":""},{"$f":"IF('チーム情報(設定)'!H70=\"\",\"\",'チーム情報(設定)'!H70)","v":""},null,null,null,null,null,null,null,{"$f":"IF('チーム情報(設定)'!I70=\"\",\"\",'チーム情報(設定)'!I70)","v":""},null,null,null,null,null,null,null,{"$f":"IF('チーム情報(設定)'!J70=\"\",\"\",'チーム情報(設定)'!J70)","v":""},null,null,{"$f":"IF('チーム情報(設定)'!K70=\"\",\"\",'チーム情報(設定)'!K70)","v":""},null,null,null,null,{"$f":"IF('チーム情報(設定)'!M70=\"\",\"\",'チーム情報(設定)'!M70)","v":""}]
[null,4,{"$f":"IF('チーム情報(設定)'!C71=\"\",\"\",'チーム情報(設定)'!C71)","v":""},{"$f":"IF('チーム情報(設定)'!D71=\"\",\"\",'チーム情報(設定)'!D71)","v":""},{"$f":"IF('チーム情報(設定)'!E71=\"\",\"\",'チーム情報(設定)'!E71)","v":""},{"$f":"IF('チーム情報(設定)'!F71=\"\",\"\",'チーム情報(設定)'!F71)","v":""},{"$f":"IF('チーム情報(設定)'!F71=\"\",\"\",'チーム情報(設定)'!G71)","v":""},{"$f":"IF('チーム情報(設定)'!H71=\"\",\"\",'チーム情報(設定)'!H71)","v":""},null,null,null,null,null,null,null,{"$f":"IF('チーム情報(設定)'!I71=\"\",\"\",'チーム情報(設定)'!I71)","v":""},null,null,null,null,null,null,null,{"$f":"IF('チーム情報(設定)'!J71=\"\",\"\",'チーム情報(設定)'!J71)","v":""},null,null,{"$f":"IF('チーム情報(設定)'!K71=\"\",\"\",'チーム情報(設定)'!K71)","v":""},null,null,null,null,{"$f":"IF('チーム情報(設定)'!M71=\"\",\"\",'チーム情報(設定)'!M71)","v":""}]
[null,5,{"$f":"IF('チーム情報(設定)'!C72=\"\",\"\",'チーム情報(設定)'!C72)","v":""},{"$f":"IF('チーム情報(設定)'!D72=\"\",\"\",'チーム情報(設定)'!D72)","v":""},{"$f":"IF('チーム情報(設定)'!E72=\"\",\"\",'チーム情報(設定)'!E72)","v":""},{"$f":"IF('チーム情報(設定)'!F72=\"\",\"\",'チーム情報(設定)'!F72)","v":""},{"$f":"IF('チーム情報(設定)'!F72=\"\",\"\",'チーム情報(設定)'!G72)","v":""},{"$f":"IF('チーム情報(設定)'!H72=\"\",\"\",'チーム情報(設定)'!H72)","v":""},null,null,null,null,null,null,null,{"$f":"IF('チーム情報(設定)'!I72=\"\",\"\",'チーム情報(設定)'!I72)","v":""},null,null,null,null,null,null,null,{"$f":"IF('チーム情報(設定)'!J72=\"\",\"\",'チーム情報(設定)'!J72)","v":""},null,null,{"$f":"IF('チーム情報(設定)'!K72=\"\",\"\",'チーム情報(設定)'!K72)","v":""},null,null,null,null,{"$f":"IF('チーム情報(設定)'!M72=\"\",\"\",'チーム情報(設定)'!M72)","v":""}]
[null,6,{"$f":"IF('チーム情報(設定)'!C73=\"\",\"\",'チーム情報(設定)'!C73)","v":""},{"$f":"IF('チーム情報(設定)'!D73=\"\",\"\",'チーム情報(設定)'!D73)","v":""},{"$f":"IF('チーム情報(設定)'!E73=\"\",\"\",'チーム情報(設定)'!E73)","v":""},{"$f":"IF('チーム情報(設定)'!F73=\"\",\"\",'チーム情報(設定)'!F73)","v":""},{"$f":"IF('チーム情報(設定)'!F73=\"\",\"\",'チーム情報(設定)'!G73)","v":""},{"$f":"IF('チーム情報(設定)'!H73=\"\",\"\",'チーム情報(設定)'!H73)","v":""},null,null,null,null,null,null,null,{"$f":"IF('チーム情報(設定)'!I73=\"\",\"\",'チーム情報(設定)'!I73)","v":""},null,null,null,null,null,null,null,{"$f":"IF('チーム情報(設定)'!J73=\"\",\"\",'チーム情報(設定)'!J73)","v":""},null,null,{"$f":"IF('チーム情報(設定)'!K73=\"\",\"\",'チーム情報(設定)'!K73)","v":""},null,null,null,null,{"$f":"IF('チーム情報(設定)'!M73=\"\",\"\",'チーム情報(設定)'!M73)","v":""}]
[null,7,{"$f":"IF('チーム情報(設定)'!C74=\"\",\"\",'チーム情報(設定)'!C74)","v":""},{"$f":"IF('チーム情報(設定)'!D74=\"\",\"\",'チーム情報(設定)'!D74)","v":""},{"$f":"IF('チーム情報(設定)'!E74=\"\",\"\",'チーム情報(設定)'!E74)","v":""},{"$f":"IF('チーム情報(設定)'!F74=\"\",\"\",'チーム情報(設定)'!F74)","v":""},{"$f":"IF('チーム情報(設定)'!F74=\"\",\"\",'チーム情報(設定)'!G74)","v":""},{"$f":"IF('チーム情報(設定)'!H74=\"\",\"\",'チーム情報(設定)'!H74)","v":""},null,null,null,null,null,null,null,{"$f":"IF('チーム情報(設定)'!I74=\"\",\"\",'チーム情報(設定)'!I74)","v":""},null,null,null,null,null,null,null,{"$f":"IF('チーム情報(設定)'!J74=\"\",\"\",'チーム情報(設定)'!J74)","v":""},null,null,{"$f":"IF('チーム情報(設定)'!K74=\"\",\"\",'チーム情報(設定)'!K74)","v":""},null,null,null,null,{"$f":"IF('チーム情報(設定)'!M74=\"\",\"\",'チーム情報(設定)'!M74)","v":""}]
[null,8,{"$f":"IF('チーム情報(設定)'!C75=\"\",\"\",'チーム情報(設定)'!C75)","v":""},{"$f":"IF('チーム情報(設定)'!D75=\"\",\"\",'チーム情報(設定)'!D75)","v":""},{"$f":"IF('チーム情報(設定)'!E75=\"\",\"\",'チーム情報(設定)'!E75)","v":""},{"$f":"IF('チーム情報(設定)'!F75=\"\",\"\",'チーム情報(設定)'!F75)","v":""},{"$f":"IF('チーム情報(設定)'!F75=\"\",\"\",'チーム情報(設定)'!G75)","v":""},{"$f":"IF('チーム情報(設定)'!H75=\"\",\"\",'チーム情報(設定)'!H75)","v":""},null,null,null,null,null,null,null,{"$f":"IF('チーム情報(設定)'!I75=\"\",\"\",'チーム情報(設定)'!I75)","v":""},null,null,null,null,null,null,null,{"$f":"IF('チーム情報(設定)'!J75=\"\",\"\",'チーム情報(設定)'!J75)","v":""},null,null,{"$f":"IF('チーム情報(設定)'!K75=\"\",\"\",'チーム情報(設定)'!K75)","v":""},null,null,null,null,{"$f":"IF('チーム情報(設定)'!M75=\"\",\"\",'チーム情報(設定)'!M75)","v":""}]
[null,9,{"$f":"IF('チーム情報(設定)'!C76=\"\",\"\",'チーム情報(設定)'!C76)","v":""},{"$f":"IF('チーム情報(設定)'!D76=\"\",\"\",'チーム情報(設定)'!D76)","v":""},{"$f":"IF('チーム情報(設定)'!E76=\"\",\"\",'チーム情報(設定)'!E76)","v":""},{"$f":"IF('チーム情報(設定)'!F76=\"\",\"\",'チーム情報(設定)'!F76)","v":""},{"$f":"IF('チーム情報(設定)'!F76=\"\",\"\",'チーム情報(設定)'!G76)","v":""},{"$f":"IF('チーム情報(設定)'!H76=\"\",\"\",'チーム情報(設定)'!H76)","v":""},null,null,null,null,null,null,null,{"$f":"IF('チーム情報(設定)'!I76=\"\",\"\",'チーム情報(設定)'!I76)","v":""},null,null,null,null,null,null,null,{"$f":"IF('チーム情報(設定)'!J76=\"\",\"\",'チーム情報(設定)'!J76)","v":""},null,null,{"$f":"IF('チーム情報(設定)'!K76=\"\",\"\",'チーム情報(設定)'!K76)","v":""},null,null,null,null,{"$f":"IF('チーム情報(設定)'!M76=\"\",\"\",'チーム情報(設定)'!M76)","v":""}]
[null,10,{"$f":"IF('チーム情報(設定)'!C77=\"\",\"\",'チーム情報(設定)'!C77)","v":""},{"$f":"IF('チーム情報(設定)'!D77=\"\",\"\",'チーム情報(設定)'!D77)","v":""},{"$f":"IF('チーム情報(設定)'!E77=\"\",\"\",'チーム情報(設定)'!E77)","v":""},{"$f":"IF('チーム情報(設定)'!F77=\"\",\"\",'チーム情報(設定)'!F77)","v":""},{"$f":"IF('チーム情報(設定)'!F77=\"\",\"\",'チーム情報(設定)'!G77)","v":""},{"$f":"IF('チーム情報(設定)'!H77=\"\",\"\",'チーム情報(設定)'!H77)","v":""},null,null,null,null,null,null,null,{"$f":"IF('チーム情報(設定)'!I77=\"\",\"\",'チーム情報(設定)'!I77)","v":""},null,null,null,null,null,null,null,{"$f":"IF('チーム情報(設定)'!J77=\"\",\"\",'チーム情報(設定)'!J77)","v":""},null,null,{"$f":"IF('チーム情報(設定)'!K77=\"\",\"\",'チーム情報(設定)'!K77)","v":""},null,null,null,null,{"$f":"IF('チーム情報(設定)'!M77=\"\",\"\",'チーム情報(設定)'!M77)","v":""}]
[null,11,{"$f":"IF('チーム情報(設定)'!C78=\"\",\"\",'チーム情報(設定)'!C78)","v":""},{"$f":"IF('チーム情報(設定)'!D78=\"\",\"\",'チーム情報(設定)'!D78)","v":""},{"$f":"IF('チーム情報(設定)'!E78=\"\",\"\",'チーム情報(設定)'!E78)","v":""},{"$f":"IF('チーム情報(設定)'!F78=\"\",\"\",'チーム情報(設定)'!F78)","v":""},{"$f":"IF('チーム情報(設定)'!F78=\"\",\"\",'チーム情報(設定)'!G78)","v":""},{"$f":"IF('チーム情報(設定)'!H78=\"\",\"\",'チーム情報(設定)'!H78)","v":""},null,null,null,null,null,null,null,{"$f":"IF('チーム情報(設定)'!I78=\"\",\"\",'チーム情報(設定)'!I78)","v":""},null,null,null,null,null,null,null,{"$f":"IF('チーム情報(設定)'!J78=\"\",\"\",'チーム情報(設定)'!J78)","v":""},null,null,{"$f":"IF('チーム情報(設定)'!K78=\"\",\"\",'チーム情報(設定)'!K78)","v":""},null,null,null,null,{"$f":"IF('チーム情報(設定)'!M78=\"\",\"\",'チーム情報(設定)'!M78)","v":""}]
[null,12,{"$f":"IF('チーム情報(設定)'!C79=\"\",\"\",'チーム情報(設定)'!C79)","v":""},{"$f":"IF('チーム情報(設定)'!D79=\"\",\"\",'チーム情報(設定)'!D79)","v":""},{"$f":"IF('チーム情報(設定)'!E79=\"\",\"\",'チーム情報(設定)'!E79)","v":""},{"$f":"IF('チーム情報(設定)'!F79=\"\",\"\",'チーム情報(設定)'!F79)","v":""},{"$f":"IF('チーム情報(設定)'!F79=\"\",\"\",'チーム情報(設定)'!G79)","v":""},{"$f":"IF('チーム情報(設定)'!H79=\"\",\"\",'チーム情報(設定)'!H79)","v":""},null,null,null,null,null,null,null,{"$f":"IF('チーム情報(設定)'!I79=\"\",\"\",'チーム情報(設定)'!I79)","v":""},null,null,null,null,null,null,null,{"$f":"IF('チーム情報(設定)'!J79=\"\",\"\",'チーム情報(設定)'!J79)","v":""},null,null,{"$f":"IF('チーム情報(設定)'!K79=\"\",\"\",'チーム情報(設定)'!K79)","v":""},null,null,null,null,{"$f":"IF('チーム情報(設定)'!M79=\"\",\"\",'チーム情報(設定)'!M79)","v":""}]
[null,13,{"$f":"IF('チーム情報(設定)'!C80=\"\",\"\",'チーム情報(設定)'!C80)","v":""},{"$f":"IF('チーム情報(設定)'!D80=\"\",\"\",'チーム情報(設定)'!D80)","v":""},{"$f":"IF('チーム情報(設定)'!E80=\"\",\"\",'チーム情報(設定)'!E80)","v":""},{"$f":"IF('チーム情報(設定)'!F80=\"\",\"\",'チーム情報(設定)'!F80)","v":""},{"$f":"IF('チーム情報(設定)'!F80=\"\",\"\",'チーム情報(設定)'!G80)","v":""},{"$f":"IF('チーム情報(設定)'!H80=\"\",\"\",'チーム情報(設定)'!H80)","v":""},null,null,null,null,null,null,null,{"$f":"IF('チーム情報(設定)'!I80=\"\",\"\",'チーム情報(設定)'!I80)","v":""},null,null,null,null,null,null,null,{"$f":"IF('チーム情報(設定)'!J80=\"\",\"\",'チーム情報(設定)'!J80)","v":""},null,null,{"$f":"IF('チーム情報(設定)'!K80=\"\",\"\",'チーム情報(設定)'!K80)","v":""},null,null,null,null,{"$f":"IF('チーム情報(設定)'!M80=\"\",\"\",'チーム情報(設定)'!M80)","v":""}]
[null,14,{"$f":"IF('チーム情報(設定)'!C81=\"\",\"\",'チーム情報(設定)'!C81)","v":""},{"$f":"IF('チーム情報(設定)'!D81=\"\",\"\",'チーム情報(設定)'!D81)","v":""},{"$f":"IF('チーム情報(設定)'!E81=\"\",\"\",'チーム情報(設定)'!E81)","v":""},{"$f":"IF('チーム情報(設定)'!F81=\"\",\"\",'チーム情報(設定)'!F81)","v":""},{"$f":"IF('チーム情報(設定)'!F81=\"\",\"\",'チーム情報(設定)'!G81)","v":""},{"$f":"IF('チーム情報(設定)'!H81=\"\",\"\",'チーム情報(設定)'!H81)","v":""},null,null,null,null,null,null,null,{"$f":"IF('チーム情報(設定)'!I81=\"\",\"\",'チーム情報(設定)'!I81)","v":""},null,null,null,null,null,null,null,{"$f":"IF('チーム情報(設定)'!J81=\"\",\"\",'チーム情報(設定)'!J81)","v":""},null,null,{"$f":"IF('チーム情報(設定)'!K81=\"\",\"\",'チーム情報(設定)'!K81)","v":""},null,null,null,null,{"$f":"IF('チーム情報(設定)'!M81=\"\",\"\",'チーム情報(設定)'!M81)","v":""}]
[null,15,{"$f":"IF('チーム情報(設定)'!C82=\"\",\"\",'チーム情報(設定)'!C82)","v":""},{"$f":"IF('チーム情報(設定)'!D82=\"\",\"\",'チーム情報(設定)'!D82)","v":""},{"$f":"IF('チーム情報(設定)'!E82=\"\",\"\",'チーム情報(設定)'!E82)","v":""},{"$f":"IF('チーム情報(設定)'!F82=\"\",\"\",'チーム情報(設定)'!F82)","v":""},{"$f":"IF('チーム情報(設定)'!F82=\"\",\"\",'チーム情報(設定)'!G82)","v":""},{"$f":"IF('チーム情報(設定)'!H82=\"\",\"\",'チーム情報(設定)'!H82)","v":""},null,null,null,null,null,null,null,{"$f":"IF('チーム情報(設定)'!I82=\"\",\"\",'チーム情報(設定)'!I82)","v":""},null,null,null,null,null,null,null,{"$f":"IF('チーム情報(設定)'!J82=\"\",\"\",'チーム情報(設定)'!J82)","v":""},null,null,{"$f":"IF('チーム情報(設定)'!K82=\"\",\"\",'チーム情報(設定)'!K82)","v":""},null,null,null,null,{"$f":"IF('チーム情報(設定)'!M82=\"\",\"\",'チーム情報(設定)'!M82)","v":""}]
[null,16,{"$f":"IF('チーム情報(設定)'!C83=\"\",\"\",'チーム情報(設定)'!C83)","v":""},{"$f":"IF('チーム情報(設定)'!D83=\"\",\"\",'チーム情報(設定)'!D83)","v":""},{"$f":"IF('チーム情報(設定)'!E83=\"\",\"\",'チーム情報(設定)'!E83)","v":""},{"$f":"IF('チーム情報(設定)'!F83=\"\",\"\",'チーム情報(設定)'!F83)","v":""},{"$f":"IF('チーム情報(設定)'!F83=\"\",\"\",'チーム情報(設定)'!G83)","v":""},{"$f":"IF('チーム情報(設定)'!H83=\"\",\"\",'チーム情報(設定)'!H83)","v":""},null,null,null,null,null,null,null,{"$f":"IF('チーム情報(設定)'!I83=\"\",\"\",'チーム情報(設定)'!I83)","v":""},null,null,null,null,null,null,null,{"$f":"IF('チーム情報(設定)'!J83=\"\",\"\",'チーム情報(設定)'!J83)","v":""},null,null,{"$f":"IF('チーム情報(設定)'!K83=\"\",\"\",'チーム情報(設定)'!K83)","v":""},null,null,null,null,{"$f":"IF('チーム情報(設定)'!M83=\"\",\"\",'チーム情報(設定)'!M83)","v":""}]
[null,17,{"$f":"IF('チーム情報(設定)'!C84=\"\",\"\",'チーム情報(設定)'!C84)","v":""},{"$f":"IF('チーム情報(設定)'!D84=\"\",\"\",'チーム情報(設定)'!D84)","v":""},{"$f":"IF('チーム情報(設定)'!E84=\"\",\"\",'チーム情報(設定)'!E84)","v":""},{"$f":"IF('チーム情報(設定)'!F84=\"\",\"\",'チーム情報(設定)'!F84)","v":""},{"$f":"IF('チーム情報(設定)'!F84=\"\",\"\",'チーム情報(設定)'!G84)","v":""},{"$f":"IF('チーム情報(設定)'!H84=\"\",\"\",'チーム情報(設定)'!H84)","v":""},null,null,null,null,null,null,null,{"$f":"IF('チーム情報(設定)'!I84=\"\",\"\",'チーム情報(設定)'!I84)","v":""},null,null,null,null,null,null,null,{"$f":"IF('チーム情報(設定)'!J84=\"\",\"\",'チーム情報(設定)'!J84)","v":""},null,null,{"$f":"IF('チーム情報(設定)'!K84=\"\",\"\",'チーム情報(設定)'!K84)","v":""},null,null,null,null,{"$f":"IF('チーム情報(設定)'!M84=\"\",\"\",'チーム情報(設定)'!M84)","v":""}]
[null,18,{"$f":"IF('チーム情報(設定)'!C85=\"\",\"\",'チーム情報(設定)'!C85)","v":""},{"$f":"IF('チーム情報(設定)'!D85=\"\",\"\",'チーム情報(設定)'!D85)","v":""},{"$f":"IF('チーム情報(設定)'!E85=\"\",\"\",'チーム情報(設定)'!E85)","v":""},{"$f":"IF('チーム情報(設定)'!F85=\"\",\"\",'チーム情報(設定)'!F85)","v":""},{"$f":"IF('チーム情報(設定)'!F85=\"\",\"\",'チーム情報(設定)'!G85)","v":""},{"$f":"IF('チーム情報(設定)'!H85=\"\",\"\",'チーム情報(設定)'!H85)","v":""},null,null,null,null,null,null,null,{"$f":"IF('チーム情報(設定)'!I85=\"\",\"\",'チーム情報(設定)'!I85)","v":""},null,null,null,null,null,null,null,{"$f":"IF('チーム情報(設定)'!J85=\"\",\"\",'チーム情報(設定)'!J85)","v":""},null,null,{"$f":"IF('チーム情報(設定)'!K85=\"\",\"\",'チーム情報(設定)'!K85)","v":""},null,null,null,null,{"$f":"IF('チーム情報(設定)'!M85=\"\",\"\",'チーム情報(設定)'!M85)","v":""}]
[null,19,{"$f":"IF('チーム情報(設定)'!C86=\"\",\"\",'チーム情報(設定)'!C86)","v":""},{"$f":"IF('チーム情報(設定)'!D86=\"\",\"\",'チーム情報(設定)'!D86)","v":""},{"$f":"IF('チーム情報(設定)'!E86=\"\",\"\",'チーム情報(設定)'!E86)","v":""},{"$f":"IF('チーム情報(設定)'!F86=\"\",\"\",'チーム情報(設定)'!F86)","v":""},{"$f":"IF('チーム情報(設定)'!F86=\"\",\"\",'チーム情報(設定)'!G86)","v":""},{"$f":"IF('チーム情報(設定)'!H86=\"\",\"\",'チーム情報(設定)'!H86)","v":""},null,null,null,null,null,null,null,{"$f":"IF('チーム情報(設定)'!I86=\"\",\"\",'チーム情報(設定)'!I86)","v":""},null,null,null,null,null,null,null,{"$f":"IF('チーム情報(設定)'!J86=\"\",\"\",'チーム情報(設定)'!J86)","v":""},null,null,{"$f":"IF('チーム情報(設定)'!K86=\"\",\"\",'チーム情報(設定)'!K86)","v":""},null,null,null,null,{"$f":"IF('チーム情報(設定)'!M86=\"\",\"\",'チーム情報(設定)'!M86)","v":""}]
[null,20,{"$f":"IF('チーム情報(設定)'!C87=\"\",\"\",'チーム情報(設定)'!C87)","v":""},{"$f":"IF('チーム情報(設定)'!D87=\"\",\"\",'チーム情報(設定)'!D87)","v":""},{"$f":"IF('チーム情報(設定)'!E87=\"\",\"\",'チーム情報(設定)'!E87)","v":""},{"$f":"IF('チーム情報(設定)'!F87=\"\",\"\",'チーム情報(設定)'!F87)","v":""},{"$f":"IF('チーム情報(設定)'!F87=\"\",\"\",'チーム情報(設定)'!G87)","v":""},{"$f":"IF('チーム情報(設定)'!H87=\"\",\"\",'チーム情報(設定)'!H87)","v":""},null,null,null,null,null,null,null,{"$f":"IF('チーム情報(設定)'!I87=\"\",\"\",'チーム情報(設定)'!I87)","v":""},null,null,null,null,null,null,null,{"$f":"IF('チーム情報(設定)'!J87=\"\",\"\",'チーム情報(設定)'!J87)","v":""},null,null,{"$f":"IF('チーム情報(設定)'!K87=\"\",\"\",'チーム情報(設定)'!K87)","v":""},null,null,null,null,{"$f":"IF('チーム情報(設定)'!M87=\"\",\"\",'チーム情報(設定)'!M87)","v":""}]
[null,21,{"$f":"IF('チーム情報(設定)'!C88=\"\",\"\",'チーム情報(設定)'!C88)","v":""},{"$f":"IF('チーム情報(設定)'!D88=\"\",\"\",'チーム情報(設定)'!D88)","v":""},{"$f":"IF('チーム情報(設定)'!E88=\"\",\"\",'チーム情報(設定)'!E88)","v":""},{"$f":"IF('チーム情報(設定)'!F88=\"\",\"\",'チーム情報(設定)'!F88)","v":""},{"$f":"IF('チーム情報(設定)'!F88=\"\",\"\",'チーム情報(設定)'!G88)","v":""},{"$f":"IF('チーム情報(設定)'!H88=\"\",\"\",'チーム情報(設定)'!H88)","v":""},null,null,null,null,null,null,null,{"$f":"IF('チーム情報(設定)'!I88=\"\",\"\",'チーム情報(設定)'!I88)","v":""},null,null,null,null,null,null,null,{"$f":"IF('チーム情報(設定)'!J88=\"\",\"\",'チーム情報(設定)'!J88)","v":""},null,null,{"$f":"IF('チーム情報(設定)'!K88=\"\",\"\",'チーム情報(設定)'!K88)","v":""},null,null,null,null,{"$f":"IF('チーム情報(設定)'!M88=\"\",\"\",'チーム情報(設定)'!M88)","v":""}]
[null,22,{"$f":"IF('チーム情報(設定)'!C89=\"\",\"\",'チーム情報(設定)'!C89)","v":""},{"$f":"IF('チーム情報(設定)'!D89=\"\",\"\",'チーム情報(設定)'!D89)","v":""},{"$f":"IF('チーム情報(設定)'!E89=\"\",\"\",'チーム情報(設定)'!E89)","v":""},{"$f":"IF('チーム情報(設定)'!F89=\"\",\"\",'チーム情報(設定)'!F89)","v":""},{"$f":"IF('チーム情報(設定)'!F89=\"\",\"\",'チーム情報(設定)'!G89)","v":""},{"$f":"IF('チーム情報(設定)'!H89=\"\",\"\",'チーム情報(設定)'!H89)","v":""},null,null,null,null,null,null,null,{"$f":"IF('チーム情報(設定)'!I89=\"\",\"\",'チーム情報(設定)'!I89)","v":""},null,null,null,null,null,null,null,{"$f":"IF('チーム情報(設定)'!J89=\"\",\"\",'チーム情報(設定)'!J89)","v":""},null,null,{"$f":"IF('チーム情報(設定)'!K89=\"\",\"\",'チーム情報(設定)'!K89)","v":""},null,null,null,null,{"$f":"IF('チーム情報(設定)'!M89=\"\",\"\",'チーム情報(設定)'!M89)","v":""}]
[null,23,{"$f":"IF('チーム情報(設定)'!C90=\"\",\"\",'チーム情報(設定)'!C90)","v":""},{"$f":"IF('チーム情報(設定)'!D90=\"\",\"\",'チーム情報(設定)'!D90)","v":""},{"$f":"IF('チーム情報(設定)'!E90=\"\",\"\",'チーム情報(設定)'!E90)","v":""},{"$f":"IF('チーム情報(設定)'!F90=\"\",\"\",'チーム情報(設定)'!F90)","v":""},{"$f":"IF('チーム情報(設定)'!F90=\"\",\"\",'チーム情報(設定)'!G90)","v":""},{"$f":"IF('チーム情報(設定)'!H90=\"\",\"\",'チーム情報(設定)'!H90)","v":""},null,null,null,null,null,null,null,{"$f":"IF('チーム情報(設定)'!I90=\"\",\"\",'チーム情報(設定)'!I90)","v":""},null,null,null,null,null,null,null,{"$f":"IF('チーム情報(設定)'!J90=\"\",\"\",'チーム情報(設定)'!J90)","v":""},null,null,{"$f":"IF('チーム情報(設定)'!K90=\"\",\"\",'チーム情報(設定)'!K90)","v":""},null,null,null,null,{"$f":"IF('チーム情報(設定)'!M90=\"\",\"\",'チーム情報(設定)'!M90)","v":""}]
[null,24,{"$f":"IF('チーム情報(設定)'!C91=\"\",\"\",'チーム情報(設定)'!C91)","v":""},{"$f":"IF('チーム情報(設定)'!D91=\"\",\"\",'チーム情報(設定)'!D91)","v":""},{"$f":"IF('チーム情報(設定)'!E91=\"\",\"\",'チーム情報(設定)'!E91)","v":""},{"$f":"IF('チーム情報(設定)'!F91=\"\",\"\",'チーム情報(設定)'!F91)","v":""},{"$f":"IF('チーム情報(設定)'!F91=\"\",\"\",'チーム情報(設定)'!G91)","v":""},{"$f":"IF('チーム情報(設定)'!H91=\"\",\"\",'チーム情報(設定)'!H91)","v":""},null,null,null,null,null,null,null,{"$f":"IF('チーム情報(設定)'!I91=\"\",\"\",'チーム情報(設定)'!I91)","v":""},null,null,null,null,null,null,null,{"$f":"IF('チーム情報(設定)'!J91=\"\",\"\",'チーム情報(設定)'!J91)","v":""},null,null,{"$f":"IF('チーム情報(設定)'!K91=\"\",\"\",'チーム情報(設定)'!K91)","v":""},null,null,null,null,{"$f":"IF('チーム情報(設定)'!M91=\"\",\"\",'チーム情報(設定)'!M91)","v":""}]
[null,25,{"$f":"IF('チーム情報(設定)'!C92=\"\",\"\",'チーム情報(設定)'!C92)","v":""},{"$f":"IF('チーム情報(設定)'!D92=\"\",\"\",'チーム情報(設定)'!D92)","v":""},{"$f":"IF('チーム情報(設定)'!E92=\"\",\"\",'チーム情報(設定)'!E92)","v":""},{"$f":"IF('チーム情報(設定)'!F92=\"\",\"\",'チーム情報(設定)'!F92)","v":""},{"$f":"IF('チーム情報(設定)'!F92=\"\",\"\",'チーム情報(設定)'!G92)","v":""},{"$f":"IF('チーム情報(設定)'!H92=\"\",\"\",'チーム情報(設定)'!H92)","v":""},null,null,null,null,null,null,null,{"$f":"IF('チーム情報(設定)'!I92=\"\",\"\",'チーム情報(設定)'!I92)","v":""},null,null,null,null,null,null,null,{"$f":"IF('チーム情報(設定)'!J92=\"\",\"\",'チーム情報(設定)'!J92)","v":""},null,null,{"$f":"IF('チーム情報(設定)'!K92=\"\",\"\",'チーム情報(設定)'!K92)","v":""},null,null,null,null,{"$f":"IF('チーム情報(設定)'!M92=\"\",\"\",'チーム情報(設定)'!M92)","v":""}]
[null,"*1　生年月日は、西暦下二桁を記入すること。　（例：01.07.25）"]
[null,"*2　公印のあるものについては、郵送すること。事前にメールでも必ず添付して送信すること。"]
[null,"*3","コーチ・マネージャーが教員の場合は、所属学校を記載すること。"]
[]
[null,"　上記の者は、本大会参加について保護者の同意を得ているので参加を申込みます.また、本大会プログラム作成及び成績上位者の報道発表並びにホーム"]
[null,"　ページにおける氏名、学校名、学年等の個人情報の記載について本人及び保護者の同意を得ています。"]
[null,"　宿泊・弁当については、宿泊・弁当・輸送要項を厳守し申込みます。"]
[]
[]
[null,null,null,null,null,null,null,null,null,null,null,null,null,null,null,null,null,null,null,null,"職　名",null,null,null,null,"氏　　名"]
[{"$f":"IF(設定!$AE$3=\"\",\"\",設定!$AE$3)","v":"令和"},null,{"$f":"IF(設定!$AF$3=\"\",\"\",設定!$AF$3)","v":5},"年",{"$f":"IF(設定!$AH$3=\"\",\"\",設定!$AH$3)","v":11},"月",{"$f":"IF(設定!$AJ$3=\"\",\"\",設定!$AJ$3)","v":22},"日",null,null,null,null,null,null,"監督",null,null,null,null,{"$f":"IF('チーム情報(設定)'!$G$28=\"\",\"\",IF('チーム情報(設定)'!$G$28=\"教員\",\"教諭\",'チーム情報(設定)'!$G$28))","v":""},null,null,null,null,null,{"$f":"IF('チーム情報(設定)'!$C$28=\"\",\"\",'チーム情報(設定)'!$C$28)","v":""},null,null,null,null,null,null,null,null,null,null,null,"印"]
[]
[]
[]
[null,null,null,null,null,null,null,null,"監督所属中学校",null,null,null,null,{"$f":"IF('チーム情報(設定)'!$E$28=\"\",\"\",'チーム情報(設定)'!$E$28)","v":""},null,null,null,null,null,{"$f":"IFERROR(VLOOKUP(N63,'学校情報(設定)'!$C$11:$D$40,2,FALSE),\"\")","v":""},null,null,null,null,null,{"$f":"IF(N63=\"\",\"\",VLOOKUP(N63,'学校情報(設定)'!$C$11:$S$40,3,FALSE))","v":""},null,null,null,null,null,null,null,null,null,null,null,"印"]

{"sheet":"参加申込書　様式2(合同)　印刷用","index":11,"n_rows":63,"n_cols":38,"rows_kept":63,"cut":false,"hidden":false,"merged":[[47,7,47,12],[47,13,47,18],[47,19,47,20],[47,21,47,24],[47,25,47,31],[47,32,47,36],[45,7,45,12],[45,13,45,18],[45,19,45,20],[45,21,45,24],[45,25,45,31],[45,32,45,36],[46,7,46,12],[46,13,46,18],[46,19,46,20],[46,21,46,24],[46,25,46,31],[46,32,46,36],[4,10,4,17],[4,6,4,9],[44,7,44,12],[44,13,44,18],[44,19,44,20],[44,21,44,24],[44,25,44,31],[44,32,44,36],[43,7,43,12],[43,13,43,18],[43,19,43,20],[43,21,43,24],[43,25,43,31],[43,32,43,36],[42,7,42,12],[42,13,42,18],[42,19,42,20],[42,21,42,24],[42,25,42,31],[42,32,42,36],[41,7,41,12],[41,13,41,18],[41,19,41,20],[41,21,41,24],[41,25,41,31],[41,32,41,36],[40,7,40,12],[40,13,40,18],[40,19,40,20],[40,21,40,24],[40,25,40,31],[40,32,40,36],[39,7,39,12],[39,13,39,18],[39,19,39,20],[39,21,39,24],[39,25,39,31],[39,32,39,36],[38,7,38,12],[38,13,38,18],[38,19,38,20],[38,21,38,24],[38,25,38,31],[38,32,38,36],[37,7,37,12],[37,13,37,18],[37,19,37,20],[37,21,37,24],[37,25,37,31],[37,32,37,36],[36,7,36,12],[36,13,36,18],[36,19,36,20],[36,21,36,24],[36,25,36,31],[36,32,36,36],[35,7,35,12],[35,13,35,18],[35,19,35,20],[35,21,35,24],[35,25,35,31],[35,32,35,36],[34,7,34,12],[34,13,34,18],[34,19,34,20],[34,21,34,24],[34,25,34,31],[34,32,34,36],[33,7,33,12],[33,13,33,18],[33,19,33,20],[33,21,33,24],[33,25,33,31],[33,32,33,36],[32,7,32,12],[32,13,32,18],[32,19,32,20],[32,21,32,24],[32,25,32,31],[32,32,32,36],[31,7,31,12],[31,13,31,18],[31,19,31,20],[31,21,31,24],[31,25,31,31],[31,32,31,36],[30,7,30,12],[30,13,30,18],[30,19,30,20],[30,21,30,24],[30,25,30,31],[30,32,30,36],[29,7,29,12],[29,13,29,18],[29,19,29,20],[29,21,29,24],[29,25,29,31],[29,32,29,36],[26,32,26,36],[24,32,24,36],[25,7,25,12],[25,13,25,18],[25,19,25,20],[25,21,25,24],[25,25,25,31],[25,32,25,36],[28,7,28,12],[28,13,28,18],[28,19,28,20],[28,21,28,24],[28,25,28,31],[28,32,28,36],[27,7,27,12],[27,13,27,18],[27,19,27,20],[27,21,27,24],[27,25,27,31],[27,32,27,36],[62,13,62,18],[62,25,62,35],[21,7,22,12],[21,13,22,18],[21,19,22,20],[21,21,22,24],[21,25,22,31],[21,32,22,36],[23,7,23,12],[23,13,23,18],[23,19,23,20],[23,21,23,24],[23,25,23,31],[23,32,23,36],[24,7,24,12],[24,13,24,18],[24,19,24,20],[24,21,24,24],[24,25,24,31],[26,7,26,12],[26,13,26,18],[26,19,26,20],[26,21,26,24],[26,25,26,31],[58,0,58,1],[58,19,58,21],[58,25,58,35],[60,13,60,18],[60,19,60,21],[60,25,60,35],[48,1,48,22],[49,1,49,32],[50,2,50,37],[52,1,52,37],[53,1,53,37],[54,1,54,37],[21,37,22,37],[19,1,19,5],[19,6,19,11],[19,12,19,17],[19,18,19,23],[19,24,19,29],[21,1,22,1],[21,2,22,2],[21,3,21,4],[21,5,21,6],[18,1,18,5],[18,6,18,11],[18,12,18,21],[18,22,18,37],[14,6,14,11],[14,12,14,21],[15,6,15,11],[15,12,15,21],[16,6,16,11],[16,12,16,21],[14,1,14,5],[15,1,15,5],[16,1,16,5],[17,1,17,5],[14,22,15,22],[14,23,14,25],[14,26,14,30],[14,31,14,33],[14,34,14,37],[15,23,15,30],[15,31,15,37],[17,6,17,11],[17,12,17,21],[16,22,17,22],[16,23,16,25],[16,26,16,30],[16,31,16,33],[16,34,16,37],[17,23,17,30],[17,31,17,37],[12,9,12,21],[12,22,12,24],[13,6,13,8],[13,9,13,21],[13,22,13,24],[13,25,13,37],[10,9,10,21],[10,22,10,24],[10,25,10,37],[8,25,9,37],[9,6,9,8],[9,9,9,21],[6,1,7,5],[6,6,6,21],[6,22,7,26],[6,27,7,28],[6,29,7,30],[6,31,7,32],[62,19,62,22],[0,1,0,37],[1,1,1,37],[4,1,4,5],[4,18,4,21],[4,22,4,26],[4,28,4,32],[4,33,4,35],[2,1,2,37],[3,1,3,37],[11,1,13,5],[11,6,11,8],[11,9,11,21],[11,22,11,24],[11,25,12,37],[12,6,12,8],[6,33,7,34],[6,35,7,36],[6,37,7,37],[7,6,7,21],[8,1,10,5],[8,6,8,21],[8,22,9,24],[10,6,10,8]]}
[null,{"$f":"IF('大会情報(設定)'!$C$7=\"全道大会\",\"様式－2　合同チーム記入用　（参加校→地区専門委員長(地区中体連)→大会実行委員会）\",IF('大会情報(設定)'!$C$7=\"全国大会\",\"様式－2　合同･選抜チーム記入用　（参加校→都道府県専門委員長(都道府県中体連)→大会実行員会）\",\"様式－2　合同チーム記入用\"))","v":"様式－2　合同チーム記入用　（参加校→地区専門委員長(地区中体連)→大会実行委員会）"}]
[null,{"$f":"'大会情報(設定)'!$F$9","v":"令和5年度　北海道中学校体育大会"}]
[null,{"$f":"'大会情報(設定)'!$F$11","v":"第54回北海道中学校アイスホッケー大会"}]
[null,{"$f":"IF('大会情報(設定)'!$C$7=\"全道大会\",\"参加申込書 (合同チーム)\",IF('大会情報(設定)'!$C$7=\"全国大会\",\"参加申込書 (合同・選抜チーム)\",\"参加申込書 (合同チーム)\"))","v":"参加申込書 (合同チーム)"}]
[null,{"$f":"IF('大会情報(設定)'!$C$7=\"全道大会\",\"管内名\",IF('大会情報(設定)'!$C$7=\"全国大会\",\"都道府県\",\"\"))","v":"管内名"},null,null,null,null,null,null,null,null,{"$f":"IF('大会情報(設定)'!$C$7=\"全道大会\",'学校情報(設定)'!$C$8,IF('大会情報(設定)'!$C$7=\"全国大会\",'学校情報(設定)'!E8,\"\"))","v":0},null,null,null,null,null,null,null,{"$f":"IF('大会情報(設定)'!$C$7=\"全道大会\",\"管内\",\"\")","v":"管内"},null,null,null,"予選大会順位",null,null,null,null,null,{"$f":"IF('大会情報(設定)'!$C$7=\"全道大会\",G5&S5,IF('大会情報(設定)'!$C$7=\"全国大会\",'学校情報(設定)'!E8&\"ブロック\",\"\"))","v":"管内"},null,null,null,null,{"$f":"IF(設定!$AE$5=\"\",\"\",設定!$AE$5)","v":1},null,null,"位"]
[]
[null,"ふりがな　　　　学校名",null,null,null,null,{"$f":"IF('チーム情報(設定)'!$D$7=\"\",\"\",'チーム情報(設定)'!$D$7&\"(\"&'チーム情報(設定)'!X7&\")\")","v":""},null,null,null,null,null,null,null,null,null,null,null,null,null,null,null,"チーム表示\n6文字以内",null,null,null,null,{"$f":"IF('チーム情報(設定)'!$R$8=\"\",\"\",'チーム情報(設定)'!$R$8)","v":""},null,{"$f":"IF('チーム情報(設定)'!$S$8=\"\",\"\",'チーム情報(設定)'!$S$8)","v":""},null,{"$f":"IF('チーム情報(設定)'!$T$8=\"\",\"\",'チーム情報(設定)'!$T$8)","v":""},null,{"$f":"IF('チーム情報(設定)'!$U$8=\"\",\"\",'チーム情報(設定)'!$U$8)","v":""},null,{"$f":"IF('チーム情報(設定)'!$V$8=\"\",\"\",'チーム情報(設定)'!$V$8)","v":""},null,{"$f":"IF('チーム情報(設定)'!$W$8=\"\",\"\",'チーム情報(設定)'!$W$8)","v":""}]
[null,null,null,null,null,null,{"$f":"IF('チーム情報(設定)'!$D$8=\"\",\"\",'チーム情報(設定)'!$D$8&\"(\"&'チーム情報(設定)'!X8&\")\")","v":""}]
[null,"学校所在地\nTEL・FAX",null,null,null,null,{"$f":"IF('チーム情報(設定)'!$E$28=\"\",\"\",VLOOKUP('チーム情報(設定)'!$E$28,'学校情報(設定)'!$C$11:$W$40,18,))","v":""},null,null,null,null,null,null,null,null,null,null,null,null,null,null,null,"所在地",null,null,{"$f":"IF('チーム情報(設定)'!$E$28=\"\",\"\",VLOOKUP('チーム情報(設定)'!$E$28,'学校情報(設定)'!$C$11:$W$40,7,))","v":""}]
[null,null,null,null,null,null,"郵便番号",null,null,{"$f":"IF('チーム情報(設定)'!$E$28=\"\",\"\",VLOOKUP('チーム情報(設定)'!$E$28,'学校情報(設定)'!$C$11:$W$40,19,))","v":""}]
[null,null,null,null,null,null,"ＴＥＬ",null,null,{"$f":"IF('チーム情報(設定)'!$E$28=\"\",\"\",VLOOKUP('チーム情報(設定)'!$E$28,'学校情報(設定)'!$C$11:$W$40,20,))","v":""},null,null,null,null,null,null,null,null,null,null,null,null,"ＦＡＸ",null,null,{"$f":"IF('チーム情報(設定)'!$E$28=\"\",\"\",VLOOKUP('チーム情報(設定)'!$E$28,'学校情報(設定)'!$C$11:$W$40,21,))","v":""}]
[null,"監督",null,null,null,null,"学校名",null,null,{"$f":"IF('チーム情報(設定)'!$E$28=\"\",\"\",VLOOKUP('チーム情報(設定)'!$E$28,'学校情報(設定)'!$C$11:$W$40,18,))","v":""},null,null,null,null,null,null,null,null,null,null,null,null,"男女別",null,null," ・部活動指導員の場合は任命権者を記入すること\n ※部活動指導員の任命権者は都道府県または区市教委、\n　 学校法人等です。"]
[null,null,null,null,null,null,"氏名",null,null,{"$f":"IF('チーム情報(設定)'!$C$28=\"\",\"\",'チーム情報(設定)'!$C$28)","v":""},null,null,null,null,null,null,null,null,null,null,null,null,{"$f":"IF('チーム情報(設定)'!$H$28=\"\",\"\",'チーム情報(設定)'!$H$28)","v":""}]
[null,null,null,null,null,null,"役職",null,null,{"$f":"IF('チーム情報(設定)'!$G$28=\"\",\"\",'チーム情報(設定)'!$G$28)","v":""},null,null,null,null,null,null,null,null,null,null,null,null,"任命権者",null,null,{"$f":"IF(J14=\"部活動指導員\",'チーム情報(設定)'!K33,\"－\")","v":"－"}]
[null,"役職",null,null,null,null,"氏名",null,null,null,null,null,"所属等",null,null,null,null,null,null,null,null,null,"大会前","連絡先",null,null,{"$f":"IF('チーム情報(設定)'!$AB$8=\"\",\"\",'チーム情報(設定)'!$AB$8)","v":"(電話)"},null,null,null,null,"メール",null,null,{"$f":"IF('チーム情報(設定)'!$AB$9=\"\",\"\",'チーム情報(設定)'!$AB$9)","v":"アドレス"}]
[null,{"$f":"IF('チーム情報(設定)'!$B29=\"\",\"\",'チーム情報(設定)'!$B29)","v":""},null,null,null,null,{"$f":"IF('チーム情報(設定)'!$C29=\"\",\"\",'チーム情報(設定)'!$C29)","v":""},null,null,null,null,null,{"$f":"IF('チーム情報(設定)'!$C29=\"\",\"\",IF('チーム情報(設定)'!E29=\"\",\"外部指導者\",VLOOKUP('チーム情報(設定)'!$E29,'学校情報(設定)'!$C$11:$W$40,18,)))","v":""},null,null,null,null,null,null,null,null,null,null,{"$f":"IF('チーム情報(設定)'!$AA8=\"\",\"\",'チーム情報(設定)'!$AA8)","v":"--"},null,null,null,null,null,null,null,{"$f":"IF('チーム情報(設定)'!$AA9=\"\",\"\",'チーム情報(設定)'!$AA9)","v":""}]
[null,{"$f":"IF('チーム情報(設定)'!$B30=\"\",\"\",'チーム情報(設定)'!$B30)","v":""},null,null,null,null,{"$f":"IF('チーム情報(設定)'!$C30=\"\",\"\",'チーム情報(設定)'!$C30)","v":""},null,null,null,null,null,{"$f":"IF('チーム情報(設定)'!$C30=\"\",\"\",IF('チーム情報(設定)'!E30=\"\",\"外部指導者\",VLOOKUP('チーム情報(設定)'!$E30,'学校情報(設定)'!$C$11:$W$40,18,)))","v":""},null,null,null,null,null,null,null,null,null,"大会中","連絡先",null,null,{"$f":"IF('チーム情報(設定)'!$AB$10=\"\",\"\",'チーム情報(設定)'!$AB$10)","v":"(電話)"},null,null,null,null,"メール",null,null,{"$f":"IF('チーム情報(設定)'!$AB$11=\"\",\"\",'チーム情報(設定)'!$AB$11)","v":"アドレス"}]
[null,{"$f":"IF('チーム情報(設定)'!$B31=\"\",\"\",'チーム情報(設定)'!$B31)","v":""},null,null,null,null,{"$f":"IF('チーム情報(設定)'!$C31=\"\",\"\",'チーム情報(設定)'!$C31)","v":""},null,null,null,null,null,{"$f":"IF('チーム情報(設定)'!$C31=\"\",\"\",IF('チーム情報(設定)'!E31=\"\",\"外部指導者\",VLOOKUP('チーム情報(設定)'!$E31,'学校情報(設定)'!$C$11:$W$40,18,)))","v":""},null,null,null,null,null,null,null,null,null,null,{"$f":"IF('チーム情報(設定)'!$AA10=\"\",\"\",'チーム情報(設定)'!$AA10)","v":"--"},null,null,null,null,null,null,null,{"$f":"IF('チーム情報(設定)'!$AA11=\"\",\"\",'チーム情報(設定)'!$AA11)","v":""}]
[null,{"$f":"IF('チーム情報(設定)'!$B32=\"\",\"\",'チーム情報(設定)'!$B32)","v":""},null,null,null,null,{"$f":"IF('チーム情報(設定)'!$C32=\"\",\"\",'チーム情報(設定)'!$C32)","v":""},null,null,null,null,null,{"$f":"IF('チーム情報(設定)'!$C32=\"\",\"\",IF('チーム情報(設定)'!E32=\"\",\"外部指導者\",VLOOKUP('チーム情報(設定)'!$E32,'学校情報(設定)'!$C$11:$W$40,18,)))","v":""}]
[null,"ユニホームカラー",null,null,null,null,"背番号1（ファースト）",null,null,null,null,null,{"$f":"IF('チーム情報(設定)'!$E$38=\"\",\"\",'チーム情報(設定)'!$E$38)","v":""},null,null,null,null,null,"背番号2（セカンド）",null,null,null,null,null,{"$f":"IF('チーム情報(設定)'!$G$38=\"\",\"－\",'チーム情報(設定)'!$G$38)","v":"－"}]
[]
[null,"№","位置","背番号1",null,"背番号2",null,"選手氏名",null,null,null,null,null,"ふりがな",null,null,null,null,null,"学年",null,"生年月日",null,null,null,"学校名",null,null,null,null,null,null,"日ア連登録番号",null,null,null,null,"備考"]
[null,null,null,"№","C/A","№","C/A"]
[null,1,{"$f":"IF('チーム情報(設定)'!C68=\"\",\"\",'チーム情報(設定)'!C68)","v":""},{"$f":"IF('チーム情報(設定)'!D68=\"\",\"\",'チーム情報(設定)'!D68)","v":""},{"$f":"IF('チーム情報(設定)'!E68=\"\",\"\",'チーム情報(設定)'!E68)","v":""},{"$f":"IF('チーム情報(設定)'!F68=\"\",\"\",'チーム情報(設定)'!F68)","v":""},{"$f":"IF('チーム情報(設定)'!F68=\"\",\"\",'チーム情報(設定)'!G68)","v":""},{"$f":"IF('チーム情報(設定)'!H68=\"\",\"\",'チーム情報(設定)'!H68)","v":""},null,null,null,null,null,{"$f":"IF('チーム情報(設定)'!I68=\"\",\"\",'チーム情報(設定)'!I68)","v":""},null,null,null,null,null,{"$f":"IF('チーム情報(設定)'!J68=\"\",\"\",'チーム情報(設定)'!J68)","v":""},null,{"$f":"IF('チーム情報(設定)'!K68=\"\",\"\",'チーム情報(設定)'!K68)","v":""},null,null,null,{"$f":"IF('チーム情報(設定)'!L68=\"\",\"\",'チーム情報(設定)'!L68)","v":""},null,null,null,null,null,null,{"$f":"IF('チーム情報(設定)'!M68=\"\",\"\",'チーム情報(設定)'!M68)","v":""}]
[null,2,{"$f":"IF('チーム情報(設定)'!C69=\"\",\"\",'チーム情報(設定)'!C69)","v":""},{"$f":"IF('チーム情報(設定)'!D69=\"\",\"\",'チーム情報(設定)'!D69)","v":""},{"$f":"IF('チーム情報(設定)'!E69=\"\",\"\",'チーム情報(設定)'!E69)","v":""},{"$f":"IF('チーム情報(設定)'!F69=\"\",\"\",'チーム情報(設定)'!F69)","v":""},{"$f":"IF('チーム情報(設定)'!F69=\"\",\"\",'チーム情報(設定)'!G69)","v":""},{"$f":"IF('チーム情報(設定)'!H69=\"\",\"\",'チーム情報(設定)'!H69)","v":""},null,null,null,null,null,{"$f":"IF('チーム情報(設定)'!I69=\"\",\"\",'チーム情報(設定)'!I69)","v":""},null,null,null,null,null,{"$f":"IF('チーム情報(設定)'!J69=\"\",\"\",'チーム情報(設定)'!J69)","v":""},null,{"$f":"IF('チーム情報(設定)'!K69=\"\",\"\",'チーム情報(設定)'!K69)","v":""},null,null,null,{"$f":"IF('チーム情報(設定)'!L69=\"\",\"\",'チーム情報(設定)'!L69)","v":""},null,null,null,null,null,null,{"$f":"IF('チーム情報(設定)'!M69=\"\",\"\",'チーム情報(設定)'!M69)","v":""}]
[null,3,{"$f":"IF('チーム情報(設定)'!C70=\"\",\"\",'チーム情報(設定)'!C70)","v":""},{"$f":"IF('チーム情報(設定)'!D70=\"\",\"\",'チーム情報(設定)'!D70)","v":""},{"$f":"IF('チーム情報(設定)'!E70=\"\",\"\",'チーム情報(設定)'!E70)","v":""},{"$f":"IF('チーム情報(設定)'!F70=\"\",\"\",'チーム情報(設定)'!F70)","v":""},{"$f":"IF('チーム情報(設定)'!F70=\"\",\"\",'チーム情報(設定)'!G70)","v":""},{"$f":"IF('チーム情報(設定)'!H70=\"\",\"\",'チーム情報(設定)'!H70)","v":""},null,null,null,null,null,{"$f":"IF('チーム情報(設定)'!I70=\"\",\"\",'チーム情報(設定)'!I70)","v":""},null,null,null,null,null,{"$f":"IF('チーム情報(設定)'!J70=\"\",\"\",'チーム情報(設定)'!J70)","v":""},null,{"$f":"IF('チーム情報(設定)'!K70=\"\",\"\",'チーム情報(設定)'!K70)","v":""},null,null,null,{"$f":"IF('チーム情報(設定)'!L70=\"\",\"\",'チーム情報(設定)'!L70)","v":""},null,null,null,null,null,null,{"$f":"IF('チーム情報(設定)'!M70=\"\",\"\",'チーム情報(設定)'!M70)","v":""}]
[null,4,{"$f":"IF('チーム情報(設定)'!C71=\"\",\"\",'チーム情報(設定)'!C71)","v":""},{"$f":"IF('チーム情報(設定)'!D71=\"\",\"\",'チーム情報(設定)'!D71)","v":""},{"$f":"IF('チーム情報(設定)'!E71=\"\",\"\",'チーム情報(設定)'!E71)","v":""},{"$f":"IF('チーム情報(設定)'!F71=\"\",\"\",'チーム情報(設定)'!F71)","v":""},{"$f":"IF('チーム情報(設定)'!F71=\"\",\"\",'チーム情報(設定)'!G71)","v":""},{"$f":"IF('チーム情報(設定)'!H71=\"\",\"\",'チーム情報(設定)'!H71)","v":""},null,null,null,null,null,{"$f":"IF('チーム情報(設定)'!I71=\"\",\"\",'チーム情報(設定)'!I71)","v":""},null,null,null,null,null,{"$f":"IF('チーム情報(設定)'!J71=\"\",\"\",'チーム情報(設定)'!J71)","v":""},null,{"$f":"IF('チーム情報(設定)'!K71=\"\",\"\",'チーム情報(設定)'!K71)","v":""},null,null,null,{"$f":"IF('チーム情報(設定)'!L71=\"\",\"\",'チーム情報(設定)'!L71)","v":""},null,null,null,null,null,null,{"$f":"IF('チーム情報(設定)'!M71=\"\",\"\",'チーム情報(設定)'!M71)","v":""}]
[null,5,{"$f":"IF('チーム情報(設定)'!C72=\"\",\"\",'チーム情報(設定)'!C72)","v":""},{"$f":"IF('チーム情報(設定)'!D72=\"\",\"\",'チーム情報(設定)'!D72)","v":""},{"$f":"IF('チーム情報(設定)'!E72=\"\",\"\",'チーム情報(設定)'!E72)","v":""},{"$f":"IF('チーム情報(設定)'!F72=\"\",\"\",'チーム情報(設定)'!F72)","v":""},{"$f":"IF('チーム情報(設定)'!F72=\"\",\"\",'チーム情報(設定)'!G72)","v":""},{"$f":"IF('チーム情報(設定)'!H72=\"\",\"\",'チーム情報(設定)'!H72)","v":""},null,null,null,null,null,{"$f":"IF('チーム情報(設定)'!I72=\"\",\"\",'チーム情報(設定)'!I72)","v":""},null,null,null,null,null,{"$f":"IF('チーム情報(設定)'!J72=\"\",\"\",'チーム情報(設定)'!J72)","v":""},null,{"$f":"IF('チーム情報(設定)'!K72=\"\",\"\",'チーム情報(設定)'!K72)","v":""},null,null,null,{"$f":"IF('チーム情報(設定)'!L72=\"\",\"\",'チーム情報(設定)'!L72)","v":""},null,null,null,null,null,null,{"$f":"IF('チーム情報(設定)'!M72=\"\",\"\",'チーム情報(設定)'!M72)","v":""}]
[null,6,{"$f":"IF('チーム情報(設定)'!C73=\"\",\"\",'チーム情報(設定)'!C73)","v":""},{"$f":"IF('チーム情報(設定)'!D73=\"\",\"\",'チーム情報(設定)'!D73)","v":""},{"$f":"IF('チーム情報(設定)'!E73=\"\",\"\",'チーム情報(設定)'!E73)","v":""},{"$f":"IF('チーム情報(設定)'!F73=\"\",\"\",'チーム情報(設定)'!F73)","v":""},{"$f":"IF('チーム情報(設定)'!F73=\"\",\"\",'チーム情報(設定)'!G73)","v":""},{"$f":"IF('チーム情報(設定)'!H73=\"\",\"\",'チーム情報(設定)'!H73)","v":""},null,null,null,null,null,{"$f":"IF('チーム情報(設定)'!I73=\"\",\"\",'チーム情報(設定)'!I73)","v":""},null,null,null,null,null,{"$f":"IF('チーム情報(設定)'!J73=\"\",\"\",'チーム情報(設定)'!J73)","v":""},null,{"$f":"IF('チーム情報(設定)'!K73=\"\",\"\",'チーム情報(設定)'!K73)","v":""},null,null,null,{"$f":"IF('チーム情報(設定)'!L73=\"\",\"\",'チーム情報(設定)'!L73)","v":""},null,null,null,null,null,null,{"$f":"IF('チーム情報(設定)'!M73=\"\",\"\",'チーム情報(設定)'!M73)","v":""}]
[null,7,{"$f":"IF('チーム情報(設定)'!C74=\"\",\"\",'チーム情報(設定)'!C74)","v":""},{"$f":"IF('チーム情報(設定)'!D74=\"\",\"\",'チーム情報(設定)'!D74)","v":""},{"$f":"IF('チーム情報(設定)'!E74=\"\",\"\",'チーム情報(設定)'!E74)","v":""},{"$f":"IF('チーム情報(設定)'!F74=\"\",\"\",'チーム情報(設定)'!F74)","v":""},{"$f":"IF('チーム情報(設定)'!F74=\"\",\"\",'チーム情報(設定)'!G74)","v":""},{"$f":"IF('チーム情報(設定)'!H74=\"\",\"\",'チーム情報(設定)'!H74)","v":""},null,null,null,null,null,{"$f":"IF('チーム情報(設定)'!I74=\"\",\"\",'チーム情報(設定)'!I74)","v":""},null,null,null,null,null,{"$f":"IF('チーム情報(設定)'!J74=\"\",\"\",'チーム情報(設定)'!J74)","v":""},null,{"$f":"IF('チーム情報(設定)'!K74=\"\",\"\",'チーム情報(設定)'!K74)","v":""},null,null,null,{"$f":"IF('チーム情報(設定)'!L74=\"\",\"\",'チーム情報(設定)'!L74)","v":""},null,null,null,null,null,null,{"$f":"IF('チーム情報(設定)'!M74=\"\",\"\",'チーム情報(設定)'!M74)","v":""}]
[null,8,{"$f":"IF('チーム情報(設定)'!C75=\"\",\"\",'チーム情報(設定)'!C75)","v":""},{"$f":"IF('チーム情報(設定)'!D75=\"\",\"\",'チーム情報(設定)'!D75)","v":""},{"$f":"IF('チーム情報(設定)'!E75=\"\",\"\",'チーム情報(設定)'!E75)","v":""},{"$f":"IF('チーム情報(設定)'!F75=\"\",\"\",'チーム情報(設定)'!F75)","v":""},{"$f":"IF('チーム情報(設定)'!F75=\"\",\"\",'チーム情報(設定)'!G75)","v":""},{"$f":"IF('チーム情報(設定)'!H75=\"\",\"\",'チーム情報(設定)'!H75)","v":""},null,null,null,null,null,{"$f":"IF('チーム情報(設定)'!I75=\"\",\"\",'チーム情報(設定)'!I75)","v":""},null,null,null,null,null,{"$f":"IF('チーム情報(設定)'!J75=\"\",\"\",'チーム情報(設定)'!J75)","v":""},null,{"$f":"IF('チーム情報(設定)'!K75=\"\",\"\",'チーム情報(設定)'!K75)","v":""},null,null,null,{"$f":"IF('チーム情報(設定)'!L75=\"\",\"\",'チーム情報(設定)'!L75)","v":""},null,null,null,null,null,null,{"$f":"IF('チーム情報(設定)'!M75=\"\",\"\",'チーム情報(設定)'!M75)","v":""}]
[null,9,{"$f":"IF('チーム情報(設定)'!C76=\"\",\"\",'チーム情報(設定)'!C76)","v":""},{"$f":"IF('チーム情報(設定)'!D76=\"\",\"\",'チーム情報(設定)'!D76)","v":""},{"$f":"IF('チーム情報(設定)'!E76=\"\",\"\",'チーム情報(設定)'!E76)","v":""},{"$f":"IF('チーム情報(設定)'!F76=\"\",\"\",'チーム情報(設定)'!F76)","v":""},{"$f":"IF('チーム情報(設定)'!F76=\"\",\"\",'チーム情報(設定)'!G76)","v":""},{"$f":"IF('チーム情報(設定)'!H76=\"\",\"\",'チーム情報(設定)'!H76)","v":""},null,null,null,null,null,{"$f":"IF('チーム情報(設定)'!I76=\"\",\"\",'チーム情報(設定)'!I76)","v":""},null,null,null,null,null,{"$f":"IF('チーム情報(設定)'!J76=\"\",\"\",'チーム情報(設定)'!J76)","v":""},null,{"$f":"IF('チーム情報(設定)'!K76=\"\",\"\",'チーム情報(設定)'!K76)","v":""},null,null,null,{"$f":"IF('チーム情報(設定)'!L76=\"\",\"\",'チーム情報(設定)'!L76)","v":""},null,null,null,null,null,null,{"$f":"IF('チーム情報(設定)'!M76=\"\",\"\",'チーム情報(設定)'!M76)","v":""}]
[null,10,{"$f":"IF('チーム情報(設定)'!C77=\"\",\"\",'チーム情報(設定)'!C77)","v":""},{"$f":"IF('チーム情報(設定)'!D77=\"\",\"\",'チーム情報(設定)'!D77)","v":""},{"$f":"IF('チーム情報(設定)'!E77=\"\",\"\",'チーム情報(設定)'!E77)","v":""},{"$f":"IF('チーム情報(設定)'!F77=\"\",\"\",'チーム情報(設定)'!F77)","v":""},{"$f":"IF('チーム情報(設定)'!F77=\"\",\"\",'チーム情報(設定)'!G77)","v":""},{"$f":"IF('チーム情報(設定)'!H77=\"\",\"\",'チーム情報(設定)'!H77)","v":""},null,null,null,null,null,{"$f":"IF('チーム情報(設定)'!I77=\"\",\"\",'チーム情報(設定)'!I77)","v":""},null,null,null,null,null,{"$f":"IF('チーム情報(設定)'!J77=\"\",\"\",'チーム情報(設定)'!J77)","v":""},null,{"$f":"IF('チーム情報(設定)'!K77=\"\",\"\",'チーム情報(設定)'!K77)","v":""},null,null,null,{"$f":"IF('チーム情報(設定)'!L77=\"\",\"\",'チーム情報(設定)'!L77)","v":""},null,null,null,null,null,null,{"$f":"IF('チーム情報(設定)'!M77=\"\",\"\",'チーム情報(設定)'!M77)","v":""}]
[null,11,{"$f":"IF('チーム情報(設定)'!C78=\"\",\"\",'チーム情報(設定)'!C78)","v":""},{"$f":"IF('チーム情報(設定)'!D78=\"\",\"\",'チーム情報(設定)'!D78)","v":""},{"$f":"IF('チーム情報(設定)'!E78=\"\",\"\",'チーム情報(設定)'!E78)","v":""},{"$f":"IF('チーム情報(設定)'!F78=\"\",\"\",'チーム情報(設定)'!F78)","v":""},{"$f":"IF('チーム情報(設定)'!F78=\"\",\"\",'チーム情報(設定)'!G78)","v":""},{"$f":"IF('チーム情報(設定)'!H78=\"\",\"\",'チーム情報(設定)'!H78)","v":""},null,null,null,null,null,{"$f":"IF('チーム情報(設定)'!I78=\"\",\"\",'チーム情報(設定)'!I78)","v":""},null,null,null,null,null,{"$f":"IF('チーム情報(設定)'!J78=\"\",\"\",'チーム情報(設定)'!J78)","v":""},null,{"$f":"IF('チーム情報(設定)'!K78=\"\",\"\",'チーム情報(設定)'!K78)","v":""},null,null,null,{"$f":"IF('チーム情報(設定)'!L78=\"\",\"\",'チーム情報(設定)'!L78)","v":""},null,null,null,null,null,null,{"$f":"IF('チーム情報(設定)'!M78=\"\",\"\",'チーム情報(設定)'!M78)","v":""}]
[null,12,{"$f":"IF('チーム情報(設定)'!C79=\"\",\"\",'チーム情報(設定)'!C79)","v":""},{"$f":"IF('チーム情報(設定)'!D79=\"\",\"\",'チーム情報(設定)'!D79)","v":""},{"$f":"IF('チーム情報(設定)'!E79=\"\",\"\",'チーム情報(設定)'!E79)","v":""},{"$f":"IF('チーム情報(設定)'!F79=\"\",\"\",'チーム情報(設定)'!F79)","v":""},{"$f":"IF('チーム情報(設定)'!F79=\"\",\"\",'チーム情報(設定)'!G79)","v":""},{"$f":"IF('チーム情報(設定)'!H79=\"\",\"\",'チーム情報(設定)'!H79)","v":""},null,null,null,null,null,{"$f":"IF('チーム情報(設定)'!I79=\"\",\"\",'チーム情報(設定)'!I79)","v":""},null,null,null,null,null,{"$f":"IF('チーム情報(設定)'!J79=\"\",\"\",'チーム情報(設定)'!J79)","v":""},null,{"$f":"IF('チーム情報(設定)'!K79=\"\",\"\",'チーム情報(設定)'!K79)","v":""},null,null,null,{"$f":"IF('チーム情報(設定)'!L79=\"\",\"\",'チーム情報(設定)'!L79)","v":""},null,null,null,null,null,null,{"$f":"IF('チーム情報(設定)'!M79=\"\",\"\",'チーム情報(設定)'!M79)","v":""}]
[null,13,{"$f":"IF('チーム情報(設定)'!C80=\"\",\"\",'チーム情報(設定)'!C80)","v":""},{"$f":"IF('チーム情報(設定)'!D80=\"\",\"\",'チーム情報(設定)'!D80)","v":""},{"$f":"IF('チーム情報(設定)'!E80=\"\",\"\",'チーム情報(設定)'!E80)","v":""},{"$f":"IF('チーム情報(設定)'!F80=\"\",\"\",'チーム情報(設定)'!F80)","v":""},{"$f":"IF('チーム情報(設定)'!F80=\"\",\"\",'チーム情報(設定)'!G80)","v":""},{"$f":"IF('チーム情報(設定)'!H80=\"\",\"\",'チーム情報(設定)'!H80)","v":""},null,null,null,null,null,{"$f":"IF('チーム情報(設定)'!I80=\"\",\"\",'チーム情報(設定)'!I80)","v":""},null,null,null,null,null,{"$f":"IF('チーム情報(設定)'!J80=\"\",\"\",'チーム情報(設定)'!J80)","v":""},null,{"$f":"IF('チーム情報(設定)'!K80=\"\",\"\",'チーム情報(設定)'!K80)","v":""},null,null,null,{"$f":"IF('チーム情報(設定)'!L80=\"\",\"\",'チーム情報(設定)'!L80)","v":""},null,null,null,null,null,null,{"$f":"IF('チーム情報(設定)'!M80=\"\",\"\",'チーム情報(設定)'!M80)","v":""}]
[null,14,{"$f":"IF('チーム情報(設定)'!C81=\"\",\"\",'チーム情報(設定)'!C81)","v":""},{"$f":"IF('チーム情報(設定)'!D81=\"\",\"\",'チーム情報(設定)'!D81)","v":""},{"$f":"IF('チーム情報(設定)'!E81=\"\",\"\",'チーム情報(設定)'!E81)","v":""},{"$f":"IF('チーム情報(設定)'!F81=\"\",\"\",'チーム情報(設定)'!F81)","v":""},{"$f":"IF('チーム情報(設定)'!F81=\"\",\"\",'チーム情報(設定)'!G81)","v":""},{"$f":"IF('チーム情報(設定)'!H81=\"\",\"\",'チーム情報(設定)'!H81)","v":""},null,null,null,null,null,{"$f":"IF('チーム情報(設定)'!I81=\"\",\"\",'チーム情報(設定)'!I81)","v":""},null,null,null,null,null,{"$f":"IF('チーム情報(設定)'!J81=\"\",\"\",'チーム情報(設定)'!J81)","v":""},null,{"$f":"IF('チーム情報(設定)'!K81=\"\",\"\",'チーム情報(設定)'!K81)","v":""},null,null,null,{"$f":"IF('チーム情報(設定)'!L81=\"\",\"\",'チーム情報(設定)'!L81)","v":""},null,null,null,null,null,null,{"$f":"IF('チーム情報(設定)'!M81=\"\",\"\",'チーム情報(設定)'!M81)","v":""}]
[null,15,{"$f":"IF('チーム情報(設定)'!C82=\"\",\"\",'チーム情報(設定)'!C82)","v":""},{"$f":"IF('チーム情報(設定)'!D82=\"\",\"\",'チーム情報(設定)'!D82)","v":""},{"$f":"IF('チーム情報(設定)'!E82=\"\",\"\",'チーム情報(設定)'!E82)","v":""},{"$f":"IF('チーム情報(設定)'!F82=\"\",\"\",'チーム情報(設定)'!F82)","v":""},{"$f":"IF('チーム情報(設定)'!F82=\"\",\"\",'チーム情報(設定)'!G82)","v":""},{"$f":"IF('チーム情報(設定)'!H82=\"\",\"\",'チーム情報(設定)'!H82)","v":""},null,null,null,null,null,{"$f":"IF('チーム情報(設定)'!I82=\"\",\"\",'チーム情報(設定)'!I82)","v":""},null,null,null,null,null,{"$f":"IF('チーム情報(設定)'!J82=\"\",\"\",'チーム情報(設定)'!J82)","v":""},null,{"$f":"IF('チーム情報(設定)'!K82=\"\",\"\",'チーム情報(設定)'!K82)","v":""},null,null,null,{"$f":"IF('チーム情報(設定)'!L82=\"\",\"\",'チーム情報(設定)'!L82)","v":""},null,null,null,null,null,null,{"$f":"IF('チーム情報(設定)'!M82=\"\",\"\",'チーム情報(設定)'!M82)","v":""}]
[null,16,{"$f":"IF('チーム情報(設定)'!C83=\"\",\"\",'チーム情報(設定)'!C83)","v":""},{"$f":"IF('チーム情報(設定)'!D83=\"\",\"\",'チーム情報(設定)'!D83)","v":""},{"$f":"IF('チーム情報(設定)'!E83=\"\",\"\",'チーム情報(設定)'!E83)","v":""},{"$f":"IF('チーム情報(設定)'!F83=\"\",\"\",'チーム情報(設定)'!F83)","v":""},{"$f":"IF('チーム情報(設定)'!F83=\"\",\"\",'チーム情報(設定)'!G83)","v":""},{"$f":"IF('チーム情報(設定)'!H83=\"\",\"\",'チーム情報(設定)'!H83)","v":""},null,null,null,null,null,{"$f":"IF('チーム情報(設定)'!I83=\"\",\"\",'チーム情報(設定)'!I83)","v":""},null,null,null,null,null,{"$f":"IF('チーム情報(設定)'!J83=\"\",\"\",'チーム情報(設定)'!J83)","v":""},null,{"$f":"IF('チーム情報(設定)'!K83=\"\",\"\",'チーム情報(設定)'!K83)","v":""},null,null,null,{"$f":"IF('チーム情報(設定)'!L83=\"\",\"\",'チーム情報(設定)'!L83)","v":""},null,null,null,null,null,null,{"$f":"IF('チーム情報(設定)'!M83=\"\",\"\",'チーム情報(設定)'!M83)","v":""}]
[null,17,{"$f":"IF('チーム情報(設定)'!C84=\"\",\"\",'チーム情報(設定)'!C84)","v":""},{"$f":"IF('チーム情報(設定)'!D84=\"\",\"\",'チーム情報(設定)'!D84)","v":""},{"$f":"IF('チーム情報(設定)'!E84=\"\",\"\",'チーム情報(設定)'!E84)","v":""},{"$f":"IF('チーム情報(設定)'!F84=\"\",\"\",'チーム情報(設定)'!F84)","v":""},{"$f":"IF('チーム情報(設定)'!F84=\"\",\"\",'チーム情報(設定)'!G84)","v":""},{"$f":"IF('チーム情報(設定)'!H84=\"\",\"\",'チーム情報(設定)'!H84)","v":""},null,null,null,null,null,{"$f":"IF('チーム情報(設定)'!I84=\"\",\"\",'チーム情報(設定)'!I84)","v":""},null,null,null,null,null,{"$f":"IF('チーム情報(設定)'!J84=\"\",\"\",'チーム情報(設定)'!J84)","v":""},null,{"$f":"IF('チーム情報(設定)'!K84=\"\",\"\",'チーム情報(設定)'!K84)","v":""},null,null,null,{"$f":"IF('チーム情報(設定)'!L84=\"\",\"\",'チーム情報(設定)'!L84)","v":""},null,null,null,null,null,null,{"$f":"IF('チーム情報(設定)'!M84=\"\",\"\",'チーム情報(設定)'!M84)","v":""}]
[null,18,{"$f":"IF('チーム情報(設定)'!C85=\"\",\"\",'チーム情報(設定)'!C85)","v":""},{"$f":"IF('チーム情報(設定)'!D85=\"\",\"\",'チーム情報(設定)'!D85)","v":""},{"$f":"IF('チーム情報(設定)'!E85=\"\",\"\",'チーム情報(設定)'!E85)","v":""},{"$f":"IF('チーム情報(設定)'!F85=\"\",\"\",'チーム情報(設定)'!F85)","v":""},{"$f":"IF('チーム情報(設定)'!F85=\"\",\"\",'チーム情報(設定)'!G85)","v":""},{"$f":"IF('チーム情報(設定)'!H85=\"\",\"\",'チーム情報(設定)'!H85)","v":""},null,null,null,null,null,{"$f":"IF('チーム情報(設定)'!I85=\"\",\"\",'チーム情報(設定)'!I85)","v":""},null,null,null,null,null,{"$f":"IF('チーム情報(設定)'!J85=\"\",\"\",'チーム情報(設定)'!J85)","v":""},null,{"$f":"IF('チーム情報(設定)'!K85=\"\",\"\",'チーム情報(設定)'!K85)","v":""},null,null,null,{"$f":"IF('チーム情報(設定)'!L85=\"\",\"\",'チーム情報(設定)'!L85)","v":""},null,null,null,null,null,null,{"$f":"IF('チーム情報(設定)'!M85=\"\",\"\",'チーム情報(設定)'!M85)","v":""}]
[null,19,{"$f":"IF('チーム情報(設定)'!C86=\"\",\"\",'チーム情報(設定)'!C86)","v":""},{"$f":"IF('チーム情報(設定)'!D86=\"\",\"\",'チーム情報(設定)'!D86)","v":""},{"$f":"IF('チーム情報(設定)'!E86=\"\",\"\",'チーム情報(設定)'!E86)","v":""},{"$f":"IF('チーム情報(設定)'!F86=\"\",\"\",'チーム情報(設定)'!F86)","v":""},{"$f":"IF('チーム情報(設定)'!F86=\"\",\"\",'チーム情報(設定)'!G86)","v":""},{"$f":"IF('チーム情報(設定)'!H86=\"\",\"\",'チーム情報(設定)'!H86)","v":""},null,null,null,null,null,{"$f":"IF('チーム情報(設定)'!I86=\"\",\"\",'チーム情報(設定)'!I86)","v":""},null,null,null,null,null,{"$f":"IF('チーム情報(設定)'!J86=\"\",\"\",'チーム情報(設定)'!J86)","v":""},null,{"$f":"IF('チーム情報(設定)'!K86=\"\",\"\",'チーム情報(設定)'!K86)","v":""},null,null,null,{"$f":"IF('チーム情報(設定)'!L86=\"\",\"\",'チーム情報(設定)'!L86)","v":""},null,null,null,null,null,null,{"$f":"IF('チーム情報(設定)'!M86=\"\",\"\",'チーム情報(設定)'!M86)","v":""}]
[null,20,{"$f":"IF('チーム情報(設定)'!C87=\"\",\"\",'チーム情報(設定)'!C87)","v":""},{"$f":"IF('チーム情報(設定)'!D87=\"\",\"\",'チーム情報(設定)'!D87)","v":""},{"$f":"IF('チーム情報(設定)'!E87=\"\",\"\",'チーム情報(設定)'!E87)","v":""},{"$f":"IF('チーム情報(設定)'!F87=\"\",\"\",'チーム情報(設定)'!F87)","v":""},{"$f":"IF('チーム情報(設定)'!F87=\"\",\"\",'チーム情報(設定)'!G87)","v":""},{"$f":"IF('チーム情報(設定)'!H87=\"\",\"\",'チーム情報(設定)'!H87)","v":""},null,null,null,null,null,{"$f":"IF('チーム情報(設定)'!I87=\"\",\"\",'チーム情報(設定)'!I87)","v":""},null,null,null,null,null,{"$f":"IF('チーム情報(設定)'!J87=\"\",\"\",'チーム情報(設定)'!J87)","v":""},null,{"$f":"IF('チーム情報(設定)'!K87=\"\",\"\",'チーム情報(設定)'!K87)","v":""},null,null,null,{"$f":"IF('チーム情報(設定)'!L87=\"\",\"\",'チーム情報(設定)'!L87)","v":""},null,null,null,null,null,null,{"$f":"IF('チーム情報(設定)'!M87=\"\",\"\",'チーム情報(設定)'!M87)","v":""}]
[null,21,{"$f":"IF('チーム情報(設定)'!C88=\"\",\"\",'チーム情報(設定)'!C88)","v":""},{"$f":"IF('チーム情報(設定)'!D88=\"\",\"\",'チーム情報(設定)'!D88)","v":""},{"$f":"IF('チーム情報(設定)'!E88=\"\",\"\",'チーム情報(設定)'!E88)","v":""},{"$f":"IF('チーム情報(設定)'!F88=\"\",\"\",'チーム情報(設定)'!F88)","v":""},{"$f":"IF('チーム情報(設定)'!F88=\"\",\"\",'チーム情報(設定)'!G88)","v":""},{"$f":"IF('チーム情報(設定)'!H88=\"\",\"\",'チーム情報(設定)'!H88)","v":""},null,null,null,null,null,{"$f":"IF('チーム情報(設定)'!I88=\"\",\"\",'チーム情報(設定)'!I88)","v":""},null,null,null,null,null,{"$f":"IF('チーム情報(設定)'!J88=\"\",\"\",'チーム情報(設定)'!J88)","v":""},null,{"$f":"IF('チーム情報(設定)'!K88=\"\",\"\",'チーム情報(設定)'!K88)","v":""},null,null,null,{"$f":"IF('チーム情報(設定)'!L88=\"\",\"\",'チーム情報(設定)'!L88)","v":""},null,null,null,null,null,null,{"$f":"IF('チーム情報(設定)'!M88=\"\",\"\",'チーム情報(設定)'!M88)","v":""}]
[null,22,{"$f":"IF('チーム情報(設定)'!C89=\"\",\"\",'チーム情報(設定)'!C89)","v":""},{"$f":"IF('チーム情報(設定)'!D89=\"\",\"\",'チーム情報(設定)'!D89)","v":""},{"$f":"IF('チーム情報(設定)'!E89=\"\",\"\",'チーム情報(設定)'!E89)","v":""},{"$f":"IF('チーム情報(設定)'!F89=\"\",\"\",'チーム情報(設定)'!F89)","v":""},{"$f":"IF('チーム情報(設定)'!F89=\"\",\"\",'チーム情報(設定)'!G89)","v":""},{"$f":"IF('チーム情報(設定)'!H89=\"\",\"\",'チーム情報(設定)'!H89)","v":""},null,null,null,null,null,{"$f":"IF('チーム情報(設定)'!I89=\"\",\"\",'チーム情報(設定)'!I89)","v":""},null,null,null,null,null,{"$f":"IF('チーム情報(設定)'!J89=\"\",\"\",'チーム情報(設定)'!J89)","v":""},null,{"$f":"IF('チーム情報(設定)'!K89=\"\",\"\",'チーム情報(設定)'!K89)","v":""},null,null,null,{"$f":"IF('チーム情報(設定)'!L89=\"\",\"\",'チーム情報(設定)'!L89)","v":""},null,null,null,null,null,null,{"$f":"IF('チーム情報(設定)'!M89=\"\",\"\",'チーム情報(設定)'!M89)","v":""}]
[null,23,{"$f":"IF('チーム情報(設定)'!C90=\"\",\"\",'チーム情報(設定)'!C90)","v":""},{"$f":"IF('チーム情報(設定)'!D90=\"\",\"\",'チーム情報(設定)'!D90)","v":""},{"$f":"IF('チーム情報(設定)'!E90=\"\",\"\",'チーム情報(設定)'!E90)","v":""},{"$f":"IF('チーム情報(設定)'!F90=\"\",\"\",'チーム情報(設定)'!F90)","v":""},{"$f":"IF('チーム情報(設定)'!F90=\"\",\"\",'チーム情報(設定)'!G90)","v":""},{"$f":"IF('チーム情報(設定)'!H90=\"\",\"\",'チーム情報(設定)'!H90)","v":""},null,null,null,null,null,{"$f":"IF('チーム情報(設定)'!I90=\"\",\"\",'チーム情報(設定)'!I90)","v":""},null,null,null,null,null,{"$f":"IF('チーム情報(設定)'!J90=\"\",\"\",'チーム情報(設定)'!J90)","v":""},null,{"$f":"IF('チーム情報(設定)'!K90=\"\",\"\",'チーム情報(設定)'!K90)","v":""},null,null,null,{"$f":"IF('チーム情報(設定)'!L90=\"\",\"\",'チーム情報(設定)'!L90)","v":""},null,null,null,null,null,null,{"$f":"IF('チーム情報(設定)'!M90=\"\",\"\",'チーム情報(設定)'!M90)","v":""}]
[null,24,{"$f":"IF('チーム情報(設定)'!C91=\"\",\"\",'チーム情報(設定)'!C91)","v":""},{"$f":"IF('チーム情報(設定)'!D91=\"\",\"\",'チーム情報(設定)'!D91)","v":""},{"$f":"IF('チーム情報(設定)'!E91=\"\",\"\",'チーム情報(設定)'!E91)","v":""},{"$f":"IF('チーム情報(設定)'!F91=\"\",\"\",'チーム情報(設定)'!F91)","v":""},{"$f":"IF('チーム情報(設定)'!F91=\"\",\"\",'チーム情報(設定)'!G91)","v":""},{"$f":"IF('チーム情報(設定)'!H91=\"\",\"\",'チーム情報(設定)'!H91)","v":""},null,null,null,null,null,{"$f":"IF('チーム情報(設定)'!I91=\"\",\"\",'チーム情報(設定)'!I91)","v":""},null,null,null,null,null,{"$f":"IF('チーム情報(設定)'!J91=\"\",\"\",'チーム情報(設定)'!J91)","v":""},null,{"$f":"IF('チーム情報(設定)'!K91=\"\",\"\",'チーム情報(設定)'!K91)","v":""},null,null,null,{"$f":"IF('チーム情報(設定)'!L91=\"\",\"\",'チーム情報(設定)'!L91)","v":""},null,null,null,null,null,null,{"$f":"IF('チーム情報(設定)'!M91=\"\",\"\",'チーム情報(設定)'!M91)","v":""}]
[null,25,{"$f":"IF('チーム情報(設定)'!C92=\"\",\"\",'チーム情報(設定)'!C92)","v":""},{"$f":"IF('チーム情報(設定)'!D92=\"\",\"\",'チーム情報(設定)'!D92)","v":""},{"$f":"IF('チーム情報(設定)'!E92=\"\",\"\",'チーム情報(設定)'!E92)","v":""},{"$f":"IF('チーム情報(設定)'!F92=\"\",\"\",'チーム情報(設定)'!F92)","v":""},{"$f":"IF('チーム情報(設定)'!F92=\"\",\"\",'チーム情報(設定)'!G92)","v":""},{"$f":"IF('チーム情報(設定)'!H92=\"\",\"\",'チーム情報(設定)'!H92)","v":""},null,null,null,null,null,{"$f":"IF('チーム情報(設定)'!I92=\"\",\"\",'チーム情報(設定)'!I92)","v":""},null,null,null,null,null,{"$f":"IF('チーム情報(設定)'!J92=\"\",\"\",'チーム情報(設定)'!J92)","v":""},null,{"$f":"IF('チーム情報(設定)'!K92=\"\",\"\",'チーム情報(設定)'!K92)","v":""},null,null,null,{"$f":"IF('チーム情報(設定)'!L92=\"\",\"\",'チーム情報(設定)'!L92)","v":""},null,null,null,null,null,null,{"$f":"IF('チーム情報(設定)'!M92=\"\",\"\",'チーム情報(設定)'!M92)","v":""}]
[null,"*1　生年月日は、西暦下二桁を記入すること。　（例：01.07.25）"]
[null,"*2　公印のあるものについては、郵送すること。事前にメールでも必ず添付して送信すること。"]
[null,"*3","コーチ・マネージャーが教員の場合は、所属学校を記載すること。"]
[]
[null,"　上記の者は、本大会参加について保護者の同意を得ているので参加を申込みます.また、本大会プログラム作成及び成績上位者の報道発表並びにホーム"]
[null,"　ページにおける氏名、学校名、学年等の個人情報の記載について本人及び保護者の同意を得ています。"]
[null,"　宿泊・弁当については、宿泊・弁当・輸送要項を厳守し申込みます。"]
[]
[]
[null,null,null,null,null,null,null,null,null,null,null,null,null,null,null,null,null,null,null,null,"職　名",null,null,null,null,"氏　　名"]
[{"$f":"IF(設定!$AE$3=\"\",\"\",設定!$AE$3)","v":"令和"},null,{"$f":"IF(設定!$AF$3=\"\",\"\",設定!$AF$3)","v":5},"年",{"$f":"IF(設定!$AH$3=\"\",\"\",設定!$AH$3)","v":11},"月",{"$f":"IF(設定!$AJ$3=\"\",\"\",設定!$AJ$3)","v":22},"日",null,null,null,null,null,null,"監督",null,null,null,null,{"$f":"IF('チーム情報(設定)'!$G$28=\"\",\"\",IF('チーム情報(設定)'!$G$28=\"教員\",\"教諭\",'チーム情報(設定)'!$G$28))","v":""},null,null,null,null,null,{"$f":"IF('チーム情報(設定)'!$C$28=\"\",\"\",'チーム情報(設定)'!$C$28)","v":""},null,null,null,null,null,null,null,null,null,null,null,"印"]
[]
[]
[]
[null,null,null,null,null,null,null,null,"監督所属中学校",null,null,null,null,{"$f":"IF('チーム情報(設定)'!$E$28=\"\",\"\",'チーム情報(設定)'!$E$28)","v":""},null,null,null,null,null,{"$f":"IFERROR(VLOOKUP(N63,'学校情報(設定)'!$C$11:$D$40,2,FALSE),\"\")","v":""},null,null,null,null,null,{"$f":"IF(N63=\"\",\"\",VLOOKUP(N63,'学校情報(設定)'!$C$11:$S$40,3,FALSE))","v":""},null,null,null,null,null,null,null,null,null,null,null,"印"]

{"sheet":"承諾書(10人未満)","index":12,"n_rows":53,"n_cols":47,"rows_kept":53,"cut":false,"hidden":false,"merged":[[0,0,0,37],[1,0,1,37],[2,0,2,37],[4,0,4,37],[15,2,15,6],[8,2,8,6],[9,2,9,6],[10,2,10,6],[6,8,7,20],[10,8,10,9],[10,10,10,37],[11,8,11,37],[14,8,14,9],[14,10,14,37],[13,24,13,26],[13,27,13,37],[11,2,11,6],[12,2,12,6],[13,2,13,6],[14,2,14,6],[6,2,7,6],[6,34,7,37],[6,30,7,33],[6,24,7,29],[6,21,7,23],[8,8,9,20],[8,21,9,23],[8,24,8,26],[9,24,9,26],[8,27,8,37],[9,27,9,37],[12,21,13,23],[12,24,12,26],[12,27,12,37],[12,8,13,20],[20,1,20,12],[20,13,20,16],[20,17,20,26],[20,27,20,37],[21,1,21,12],[21,13,21,16],[21,17,21,26],[21,27,21,37],[25,27,25,37],[22,1,22,12],[22,13,22,16],[22,17,22,26],[22,27,22,37],[23,1,23,12],[23,13,23,16],[23,17,23,26],[23,27,23,37],[18,1,18,12],[18,13,18,16],[18,17,18,26],[18,27,18,37],[19,1,19,12],[19,13,19,16],[19,17,19,26],[15,8,15,37],[19,27,19,37],[28,1,28,12],[28,13,28,16],[28,17,28,26],[28,27,28,37],[4,39,4,40],[29,1,29,12],[29,13,29,16],[29,17,29,26],[29,27,29,37],[26,1,26,12],[26,13,26,16],[26,17,26,26],[26,27,26,37],[27,1,27,12],[27,13,27,16],[27,17,27,26],[27,27,27,37],[24,1,24,12],[24,13,24,16],[24,17,24,26],[24,27,24,37],[25,1,25,12],[25,13,25,16],[25,17,25,26],[32,1,32,12],[32,13,32,16],[32,17,32,26],[32,27,32,37],[33,1,33,12],[33,13,33,16],[33,17,33,26],[33,27,33,37],[30,1,30,12],[30,13,30,16],[30,17,30,26],[30,27,30,37],[31,1,31,12],[31,13,31,16],[31,17,31,26],[31,27,31,37],[36,1,36,12],[36,13,36,16],[36,17,36,26],[36,27,36,37],[37,1,37,12],[37,13,37,16],[37,17,37,26],[37,27,37,37],[34,1,34,12],[34,13,34,16],[34,17,34,26],[34,27,34,37],[35,1,35,12],[35,13,35,16],[35,17,35,26],[35,27,35,37],[40,1,40,12],[40,13,40,16],[40,17,40,26],[40,27,40,37],[43,7,43,8],[43,9,43,10],[43,12,43,13],[43,15,43,16],[38,1,38,12],[38,13,38,16],[38,17,38,26],[38,27,38,37],[39,1,39,12],[39,13,39,16],[39,17,39,26],[39,27,39,37],[41,1,41,37],[51,1,51,3],[48,4,48,37],[49,4,49,37],[50,4,50,37],[51,4,51,37],[52,4,52,37],[45,34,45,36],[45,23,45,33],[48,1,48,3],[49,1,49,3],[50,1,50,3],[45,19,45,22],[45,9,45,18]]}
[{"$f":"IF('大会情報(設定)'!$C$7=\"全道大会\",\"様式－3（参加校→代表校→地区専門委員長(地区中体連)→大会実行委員会）\",IF('大会情報(設定)'!$C$7=\"全国大会\",\"様式－3（参加校→代表校→都道府県専門委員長(都道府県中体連)→大会実行委員会）\",\"様式－3\"))","v":"様式－3（参加校→代表校→地区専門委員長(地区中体連)→大会実行委員会）"}]
[{"$f":"'大会情報(設定)'!$F$9","v":"令和5年度　北海道中学校体育大会"}]
[{"$f":"'大会情報(設定)'!$F$11","v":"第54回北海道中学校アイスホッケー大会"}]
[]
[{"$f":"IF('大会情報(設定)'!$C$7=\"全道大会\",\" (合同チーム)参加承諾書\",IF('大会情報(設定)'!$C$7=\"全国大会\",\" (合同･選抜チーム)参加承諾書\",\" (合同チーム)参加承諾書\"))","v":" (合同チーム)参加承諾書"},null,null,null,null,null,null,null,null,null,null,null,null,null,null,null,null,null,null,null,null,null,null,null,null,null,null,null,null,null,null,null,null,null,null,null,null,null,null,"出力する学校",null,null,"中学校",null,null,1,{"$f":"IFERROR(VLOOKUP(AT5,'チーム情報(設定)'!$C$95:$H$119,3,FALSE),\"\")","v":""}]
[null,null,null,null,null,null,null,null,null,null,null,null,null,null,null,null,null,null,null,null,null,null,null,null,null,null,null,null,null,null,null,null,null,null,null,null,null,null,null,null,null,null,null,null,null,2,{"$f":"IFERROR(VLOOKUP(AT6,'チーム情報(設定)'!$C$95:$H$119,3,FALSE),\"\")","v":""}]
[null,null,"チーム名",null,null,null,null,null,{"$f":"IF('チーム情報(設定)'!D8=\"\",\"\",'チーム情報(設定)'!D8&\"(\"&'チーム情報(設定)'!X8&\")\")","v":""},null,null,null,null,null,null,null,null,null,null,null,null,"監督名",null,null,{"$f":"IF('チーム情報(設定)'!$C$28=\"\",\"\",'チーム情報(設定)'!$C$28)","v":""},null,null,null,null,null,"監督職名",null,null,null,{"$f":"IF('チーム情報(設定)'!$G$28=\"\",\"\",'チーム情報(設定)'!$G$28)","v":""},null,null,null,null,null,null,null,null,null,null,3,{"$f":"IFERROR(VLOOKUP(AT7,'チーム情報(設定)'!$C$95:$H$119,3,FALSE),\"\")","v":""}]
[null,null,null,null,null,null,null,null,null,null,null,null,null,null,null,null,null,null,null,null,null,null,null,null,null,null,null,null,null,null,null,null,null,null,null,null,null,null,null,null,null,null,null,null,null,4,{"$f":"IFERROR(VLOOKUP(AT8,'チーム情報(設定)'!$C$95:$H$119,3,FALSE),\"\")","v":""}]
[null,null,"監督勤務先",null,null,null,null,null,{"$f":"IF('チーム情報(設定)'!$E$28=\"\",\"\",VLOOKUP('チーム情報(設定)'!$E$28,'学校情報(設定)'!$C$11:$W$40,18,))","v":""},null,null,null,null,null,null,null,null,null,null,null,null,"学　校",null,null,"TEL",null,null,{"$f":"IF('チーム情報(設定)'!$E$28=\"\",\"\",VLOOKUP('チーム情報(設定)'!$E$28,'学校情報(設定)'!$C$11:$W$40,20,))","v":""},null,null,null,null,null,null,null,null,null,null,null,null,null,null,null,null,null,5,{"$f":"IFERROR(VLOOKUP(AT9,'チーム情報(設定)'!$C$95:$H$119,3,FALSE),\"\")","v":""}]
[null,null,"学校名",null,null,null,null,null,null,null,null,null,null,null,null,null,null,null,null,null,null,null,null,null,"FAX",null,null,{"$f":"IF('チーム情報(設定)'!$E$28=\"\",\"\",VLOOKUP('チーム情報(設定)'!$E$28,'学校情報(設定)'!$C$11:$W$40,21,))","v":""},null,null,null,null,null,null,null,null,null,null,null,null,null,null,null,null,null,6,{"$f":"IFERROR(VLOOKUP(AT10,'チーム情報(設定)'!$C$95:$H$119,3,FALSE),\"\")","v":""}]
[null,null,"監督勤務先",null,null,null,null,null,"〒",null,{"$f":"IF('チーム情報(設定)'!$E$28=\"\",\"\",VLOOKUP('チーム情報(設定)'!$E$28,'学校情報(設定)'!$C$11:$W$40,19,))","v":""},null,null,null,null,null,null,null,null,null,null,null,null,null,null,null,null,null,null,null,null,null,null,null,null,null,null,null,null,null,null,null,null,null,null,7,{"$f":"IFERROR(VLOOKUP(AT11,'チーム情報(設定)'!$C$95:$H$119,3,FALSE),\"\")","v":""}]
[null,null,"住所",null,null,null,null,null,{"$f":"IF('チーム情報(設定)'!$E$28=\"\",\"\",VLOOKUP('チーム情報(設定)'!$E$28,'学校情報(設定)'!$C$11:$W$40,7,))","v":""},null,null,null,null,null,null,null,null,null,null,null,null,null,null,null,null,null,null,null,null,null,null,null,null,null,null,null,null,null,null,null,null,null,null,null,null,8,{"$f":"IFERROR(VLOOKUP(AT12,'チーム情報(設定)'!$C$95:$H$119,3,FALSE),\"\")","v":""}]
[null,null,"選手所属",null,null,null,null,null,{"$f":"IF(AP5=\"\",\"\",AP5&AQ5)","v":""},null,null,null,null,null,null,null,null,null,null,null,null,"学　校",null,null,"TEL",null,null,{"$f":"IF(AP5=\"\",\"\",VLOOKUP(AP5,'学校情報(設定)'!$C$11:$W$40,20,))","v":""},null,null,null,null,null,null,null,null,null,null,null,null,null,null,null,null,null,9,{"$f":"IFERROR(VLOOKUP(AT13,'チーム情報(設定)'!$C$95:$H$119,3,FALSE),\"\")","v":""}]
[null,null,"学校名",null,null,null,null,null,null,null,null,null,null,null,null,null,null,null,null,null,null,null,null,null,"FAX",null,null,{"$f":"IF(AP5=\"\",\"\",VLOOKUP(AP5,'学校情報(設定)'!$C$11:$W$40,21,))","v":""},null,null,null,null,null,null,null,null,null,null,null,null,null,null,null,null,null,10,{"$f":"IFERROR(VLOOKUP(AT14,'チーム情報(設定)'!$C$95:$H$119,3,FALSE),\"\")","v":""}]
[null,null,"選手所属",null,null,null,null,null,"〒",null,{"$f":"IF(AP5=\"\",\"\",VLOOKUP(AP5,'学校情報(設定)'!$C$11:$W$40,19,))","v":""},null,null,null,null,null,null,null,null,null,null,null,null,null,null,null,null,null,null,null,null,null,null,null,null,null,null,null,null,null,null,null,null,null,null,11,{"$f":"IFERROR(VLOOKUP(AT15,'チーム情報(設定)'!$C$95:$H$119,3,FALSE),\"\")","v":""}]
[null,null,"学校所在地",null,null,null,null,null,{"$f":"IF(AP5=\"\",\"\",VLOOKUP(AP5,'学校情報(設定)'!$C$11:$W$40,7,))","v":""},null,null,null,null,null,null,null,null,null,null,null,null,null,null,null,null,null,null,null,null,null,null,null,null,null,null,null,null,null,null,null,null,null,null,null,null,12,{"$f":"IFERROR(VLOOKUP(AT16,'チーム情報(設定)'!$C$95:$H$119,3,FALSE),\"\")","v":""}]
[null,null,null,null,null,null,null,null,null,null,null,null,null,null,null,null,null,null,null,null,null,null,null,null,null,null,null,null,null,null,null,null,null,null,null,null,null,null,null,null,null,null,null,null,null,13,{"$f":"IFERROR(VLOOKUP(AT17,'チーム情報(設定)'!$C$95:$H$119,3,FALSE),\"\")","v":""}]
[null,null,null,null,null,null,null,null,null,null,null,null,null,null,null,null,null,null,null,null,null,null,null,null,null,null,null,null,null,null,null,null,null,null,null,null,null,null,null,null,null,null,null,null,null,14,{"$f":"IFERROR(VLOOKUP(AT18,'チーム情報(設定)'!$C$95:$H$119,3,FALSE),\"\")","v":""}]
[null,"選　手　氏　名",null,null,null,null,null,null,null,null,null,null,null,"学　年",null,null,null,"生　年　月　日",null,null,null,null,null,null,null,null,null,"備　　考",null,null,null,null,null,null,null,null,null,null,null,null,null,null,null,null,null,15,{"$f":"IFERROR(VLOOKUP(AT19,'チーム情報(設定)'!$C$95:$H$119,3,FALSE),\"\")","v":""}]
[null,{"$f":"IF(AU5=\"\",\"\",AU5)","v":""},null,null,null,null,null,null,null,null,null,null,null,{"$f":"IF(B20=\"\",\"\",VLOOKUP(B20,'チーム情報(設定)'!$E$95:$H$119,3,))","v":""},null,null,null,{"$f":"IF(B20=\"\",\"\",VLOOKUP(B20,'チーム情報(設定)'!$E$95:$H$119,4,))","v":""},null,null,null,null,null,null,null,null,null,null,null,null,null,null,null,null,null,null,null,null,null,null,null,null,null,null,null,16,{"$f":"IFERROR(VLOOKUP(AT20,'チーム情報(設定)'!$C$95:$H$119,3,FALSE),\"\")","v":""}]
[null,{"$f":"IF(AU6=\"\",\"\",AU6)","v":""},null,null,null,null,null,null,null,null,null,null,null,{"$f":"IF(B21=\"\",\"\",VLOOKUP(B21,'チーム情報(設定)'!$E$95:$H$119,3,))","v":""},null,null,null,{"$f":"IF(B21=\"\",\"\",VLOOKUP(B21,'チーム情報(設定)'!$E$95:$H$119,4,))","v":""},null,null,null,null,null,null,null,null,null,null,null,null,null,null,null,null,null,null,null,null,null,null,null,null,null,null,null,17,{"$f":"IFERROR(VLOOKUP(AT21,'チーム情報(設定)'!$C$95:$H$119,3,FALSE),\"\")","v":""}]
[null,"",null,null,null,null,null,null,null,null,null,null,null,{"$f":"IF(B22=\"\",\"\",VLOOKUP(B22,'チーム情報(設定)'!$E$95:$H$119,3,))","v":""},null,null,null,{"$f":"IF(B22=\"\",\"\",VLOOKUP(B22,'チーム情報(設定)'!$E$95:$H$119,4,))","v":""},null,null,null,null,null,null,null,null,null,null,null,null,null,null,null,null,null,null,null,null,null,null,null,null,null,null,null,18,{"$f":"IFERROR(VLOOKUP(AT22,'チーム情報(設定)'!$C$95:$H$119,3,FALSE),\"\")","v":""}]
[null,"",null,null,null,null,null,null,null,null,null,null,null,{"$f":"IF(B23=\"\",\"\",VLOOKUP(B23,'チーム情報(設定)'!$E$95:$H$119,3,))","v":""},null,null,null,{"$f":"IF(B23=\"\",\"\",VLOOKUP(B23,'チーム情報(設定)'!$E$95:$H$119,4,))","v":""},null,null,null,null,null,null,null,null,null,null,null,null,null,null,null,null,null,null,null,null,null,null,null,null,null,null,null,19,{"$f":"IFERROR(VLOOKUP(AT23,'チーム情報(設定)'!$C$95:$H$119,3,FALSE),\"\")","v":""}]
[null,"",null,null,null,null,null,null,null,null,null,null,null,{"$f":"IF(B24=\"\",\"\",VLOOKUP(B24,'チーム情報(設定)'!$E$95:$H$119,3,))","v":""},null,null,null,{"$f":"IF(B24=\"\",\"\",VLOOKUP(B24,'チーム情報(設定)'!$E$95:$H$119,4,))","v":""},null,null,null,null,null,null,null,null,null,null,null,null,null,null,null,null,null,null,null,null,null,null,null,null,null,null,null,20,{"$f":"IFERROR(VLOOKUP(AT24,'チーム情報(設定)'!$C$95:$H$119,3,FALSE),\"\")","v":""}]
[null,"",null,null,null,null,null,null,null,null,null,null,null,{"$f":"IF(B25=\"\",\"\",VLOOKUP(B25,'チーム情報(設定)'!$E$95:$H$119,3,))","v":""},null,null,null,{"$f":"IF(B25=\"\",\"\",VLOOKUP(B25,'チーム情報(設定)'!$E$95:$H$119,4,))","v":""},null,null,null,null,null,null,null,null,null,null,null,null,null,null,null,null,null,null,null,null,null,null,null,null,null,null,null,21,{"$f":"IFERROR(VLOOKUP(AT25,'チーム情報(設定)'!$C$95:$H$119,3,FALSE),\"\")","v":""}]
[null,"",null,null,null,null,null,null,null,null,null,null,null,{"$f":"IF(B26=\"\",\"\",VLOOKUP(B26,'チーム情報(設定)'!$E$95:$H$119,3,))","v":""},null,null,null,{"$f":"IF(B26=\"\",\"\",VLOOKUP(B26,'チーム情報(設定)'!$E$95:$H$119,4,))","v":""},null,null,null,null,null,null,null,null,null,null,null,null,null,null,null,null,null,null,null,null,null,null,null,null,null,null,null,22,{"$f":"IFERROR(VLOOKUP(AT26,'チーム情報(設定)'!$C$95:$H$119,3,FALSE),\"\")","v":""}]
[null,"",null,null,null,null,null,null,null,null,null,null,null,{"$f":"IF(B27=\"\",\"\",VLOOKUP(B27,'チーム情報(設定)'!$E$95:$H$119,3,))","v":""},null,null,null,{"$f":"IF(B27=\"\",\"\",VLOOKUP(B27,'チーム情報(設定)'!$E$95:$H$119,4,))","v":""},null,null,null,null,null,null,null,null,null,null,null,null,null,null,null,null,null,null,null,null,null,null,null,null,null,null,null,23,{"$f":"IFERROR(VLOOKUP(AT27,'チーム情報(設定)'!$C$95:$H$119,3,FALSE),\"\")","v":""}]
[null,"",null,null,null,null,null,null,null,null,null,null,null,{"$f":"IF(B28=\"\",\"\",VLOOKUP(B28,'チーム情報(設定)'!$E$95:$H$119,3,))","v":""},null,null,null,{"$f":"IF(B28=\"\",\"\",VLOOKUP(B28,'チーム情報(設定)'!$E$95:$H$119,4,))","v":""},null,null,null,null,null,null,null,null,null,null,null,null,null,null,null,null,null,null,null,null,null,null,null,null,null,null,null,24,{"$f":"IFERROR(VLOOKUP(AT28,'チーム情報(設定)'!$C$95:$H$119,3,FALSE),\"\")","v":""}]
[null,"",null,null,null,null,null,null,null,null,null,null,null,{"$f":"IF(B29=\"\",\"\",VLOOKUP(B29,'チーム情報(設定)'!$E$95:$H$119,3,))","v":""},null,null,null,{"$f":"IF(B29=\"\",\"\",VLOOKUP(B29,'チーム情報(設定)'!$E$95:$H$119,4,))","v":""},null,null,null,null,null,null,null,null,null,null,null,null,null,null,null,null,null,null,null,null,null,null,null,null,null,null,null,25,{"$f":"IFERROR(VLOOKUP(AT29,'チーム情報(設定)'!$C$95:$H$119,3,FALSE),\"\")","v":""}]
[null,"",null,null,null,null,null,null,null,null,null,null,null,{"$f":"IF(B30=\"\",\"\",VLOOKUP(B30,'チーム情報(設定)'!$E$95:$H$116,3,))","v":""},null,null,null,{"$f":"IF(B30=\"\",\"\",VLOOKUP(B30,'チーム情報(設定)'!$E$95:$H$116,4,))","v":""}]
[null,"",null,null,null,null,null,null,null,null,null,null,null,{"$f":"IF(B31=\"\",\"\",VLOOKUP(B31,'チーム情報(設定)'!$E$95:$H$116,3,))","v":""},null,null,null,{"$f":"IF(B31=\"\",\"\",VLOOKUP(B31,'チーム情報(設定)'!$E$95:$H$116,4,))","v":""}]
[null,"",null,null,null,null,null,null,null,null,null,null,null,{"$f":"IF(B32=\"\",\"\",VLOOKUP(B32,'チーム情報(設定)'!$E$95:$H$116,3,))","v":""},null,null,null,{"$f":"IF(B32=\"\",\"\",VLOOKUP(B32,'チーム情報(設定)'!$E$95:$H$116,4,))","v":""}]
[null,"",null,null,null,null,null,null,null,null,null,null,null,{"$f":"IF(B33=\"\",\"\",VLOOKUP(B33,'チーム情報(設定)'!$E$95:$H$116,3,))","v":""},null,null,null,{"$f":"IF(B33=\"\",\"\",VLOOKUP(B33,'チーム情報(設定)'!$E$95:$H$116,4,))","v":""}]
[null,"",null,null,null,null,null,null,null,null,null,null,null,{"$f":"IF(B34=\"\",\"\",VLOOKUP(B34,'チーム情報(設定)'!$E$95:$H$116,3,))","v":""},null,null,null,{"$f":"IF(B34=\"\",\"\",VLOOKUP(B34,'チーム情報(設定)'!$E$95:$H$116,4,))","v":""}]
[null,"",null,null,null,null,null,null,null,null,null,null,null,{"$f":"IF(B35=\"\",\"\",VLOOKUP(B35,'チーム情報(設定)'!$E$95:$H$116,3,))","v":""},null,null,null,{"$f":"IF(B35=\"\",\"\",VLOOKUP(B35,'チーム情報(設定)'!$E$95:$H$116,4,))","v":""}]
[null,"",null,null,null,null,null,null,null,null,null,null,null,{"$f":"IF(B36=\"\",\"\",VLOOKUP(B36,'チーム情報(設定)'!$E$95:$H$116,3,))","v":""},null,null,null,{"$f":"IF(B36=\"\",\"\",VLOOKUP(B36,'チーム情報(設定)'!$E$95:$H$116,4,))","v":""}]
[null,"",null,null,null,null,null,null,null,null,null,null,null,{"$f":"IF(B37=\"\",\"\",VLOOKUP(B37,'チーム情報(設定)'!$E$95:$H$116,3,))","v":""},null,null,null,{"$f":"IF(B37=\"\",\"\",VLOOKUP(B37,'チーム情報(設定)'!$E$95:$H$116,4,))","v":""}]
[null,"",null,null,null,null,null,null,null,null,null,null,null,{"$f":"IF(B38=\"\",\"\",VLOOKUP(B38,'チーム情報(設定)'!$E$95:$H$116,3,))","v":""},null,null,null,{"$f":"IF(B38=\"\",\"\",VLOOKUP(B38,'チーム情報(設定)'!$E$95:$H$116,4,))","v":""}]
[null,"",null,null,null,null,null,null,null,null,null,null,null,{"$f":"IF(B39=\"\",\"\",VLOOKUP(B39,'チーム情報(設定)'!$E$95:$H$116,3,))","v":""},null,null,null,{"$f":"IF(B39=\"\",\"\",VLOOKUP(B39,'チーム情報(設定)'!$E$95:$H$116,4,))","v":""}]
[null,"",null,null,null,null,null,null,null,null,null,null,null,{"$f":"IF(B40=\"\",\"\",VLOOKUP(B40,'チーム情報(設定)'!$E$95:$H$116,3,))","v":""},null,null,null,{"$f":"IF(B40=\"\",\"\",VLOOKUP(B40,'チーム情報(設定)'!$E$95:$H$116,4,))","v":""}]
[null,"",null,null,null,null,null,null,null,null,null,null,null,{"$f":"IF(B41=\"\",\"\",VLOOKUP(B41,'チーム情報(設定)'!$E$95:$H$116,3,))","v":""},null,null,null,{"$f":"IF(B41=\"\",\"\",VLOOKUP(B41,'チーム情報(設定)'!$E$95:$H$116,4,))","v":""}]
[null," 上記の通り、標記大会に合同・選抜チームとして参加することを承諾します。"]
[]
[null,null,null,null,null,null,null,{"$f":"IF(設定!$AE$3=\"\",\"\",設定!$AE$3)","v":"令和"},null,{"$f":"IF(設定!$AF$3=\"\",\"\",設定!$AF$3)","v":5},null,"年",{"$f":"IF(設定!$AH$3=\"\",\"\",設定!$AH$3)","v":11},null,"月",{"$f":"IF(設定!$AJ$3=\"\",\"\",設定!$AJ$3)","v":22},null,"日"]
[]
[null,null,null,null,null,null,null,null,null,{"$f":"IF(AP5=\"\",\"\",AP5)","v":""},null,null,null,null,null,null,null,null,null,{"$f":"IFERROR(VLOOKUP(J46,'学校情報(設定)'!$C$11:$D$40,2,FALSE),\"\")","v":""},null,null,null,{"$f":"IF(J46=\"\",\"\",VLOOKUP(J46,'学校情報(設定)'!$C$11:$W$40,3,))","v":""},null,null,null,null,null,null,null,null,null,null,"印"]
[]
[]
[null,"※１",null,null,"生年月日は、西暦下２桁を記入する。（例：０１．０７．２５）"]
[null,"※２",null,null,"学校長印は職印とする。"]
[null,"※３",null,null,"公印のあるものについては、郵送してください。"]
[null,"※４",null,null,"合同・選抜チームの監督は、選手の在籍学校長の承諾書を集約し、大会申込書と"]
[null,null,null,null,"一緒に提出する。"]

{"sheet":"承諾書(10人以上) ","index":13,"n_rows":56,"n_cols":47,"rows_kept":56,"cut":false,"hidden":false,"merged":[[41,1,41,12],[41,13,41,16],[41,17,41,26],[41,27,41,37],[42,1,42,12],[42,13,42,16],[42,17,42,26],[42,27,42,37],[43,1,43,12],[43,13,43,16],[43,17,43,26],[43,27,43,37],[0,0,0,37],[1,0,1,37],[2,0,2,37],[4,0,4,37],[4,39,4,40],[6,2,7,6],[6,8,7,20],[6,21,7,23],[6,24,7,29],[6,30,7,33],[6,34,7,37],[8,2,8,6],[8,8,9,20],[8,21,9,23],[8,24,8,26],[8,27,8,37],[9,2,9,6],[9,24,9,26],[9,27,9,37],[13,2,13,6],[13,24,13,26],[13,27,13,37],[14,2,14,6],[14,8,14,9],[14,10,14,37],[10,2,10,6],[10,8,10,9],[10,10,10,37],[11,2,11,6],[11,8,11,37],[12,2,12,6],[12,8,13,20],[12,21,13,23],[12,24,12,26],[12,27,12,37],[19,1,19,12],[19,13,19,16],[19,17,19,26],[19,27,19,37],[20,1,20,12],[20,13,20,16],[20,17,20,26],[20,27,20,37],[15,2,15,6],[15,8,15,37],[18,1,18,12],[18,13,18,16],[18,17,18,26],[18,27,18,37],[23,1,23,12],[23,13,23,16],[23,17,23,26],[23,27,23,37],[24,1,24,12],[24,13,24,16],[24,17,24,26],[24,27,24,37],[21,1,21,12],[21,13,21,16],[21,17,21,26],[21,27,21,37],[22,1,22,12],[22,13,22,16],[22,17,22,26],[22,27,22,37],[27,1,27,12],[27,13,27,16],[27,17,27,26],[27,27,27,37],[28,1,28,12],[28,13,28,16],[28,17,28,26],[28,27,28,37],[25,1,25,12],[25,13,25,16],[25,17,25,26],[25,27,25,37],[26,1,26,12],[26,13,26,16],[26,17,26,26],[26,27,26,37],[31,1,31,12],[31,13,31,16],[31,17,31,26],[31,27,31,37],[32,1,32,12],[32,13,32,16],[32,17,32,26],[32,27,32,37],[29,1,29,12],[29,13,29,16],[29,17,29,26],[29,27,29,37],[30,1,30,12],[30,13,30,16],[30,17,30,26],[30,27,30,37],[35,1,35,12],[35,13,35,16],[35,17,35,26],[35,27,35,37],[36,1,36,12],[36,13,36,16],[36,17,36,26],[36,27,36,37],[33,1,33,12],[33,13,33,16],[33,17,33,26],[33,27,33,37],[34,1,34,12],[34,13,34,16],[34,17,34,26],[34,27,34,37],[39,1,39,12],[39,13,39,16],[39,17,39,26],[39,27,39,37],[40,1,40,12],[40,13,40,16],[40,17,40,26],[40,27,40,37],[37,1,37,12],[37,13,37,16],[37,17,37,26],[37,27,37,37],[38,1,38,12],[38,13,38,16],[38,17,38,26],[38,27,38,37],[44,1,44,37],[46,7,46,8],[46,9,46,10],[46,12,46,13],[46,15,46,16],[48,9,48,18],[48,19,48,22],[48,23,48,33],[48,34,48,36],[54,1,54,3],[54,4,54,37],[55,4,55,37],[51,1,51,3],[51,4,51,37],[52,1,52,3],[52,4,52,37],[53,1,53,3],[53,4,53,37]]}
[{"$f":"IF('大会情報(設定)'!$C$7=\"全道大会\",\"様式－3（参加校→代表校→地区専門委員長(地区中体連)→大会実行委員会）\",IF('大会情報(設定)'!$C$7=\"全国大会\",\"様式－3（参加校→代表校→都道府県専門委員長(都道府県中体連)→大会実行委員会）\",\"様式－3\"))","v":"様式－3（参加校→代表校→地区専門委員長(地区中体連)→大会実行委員会）"}]
[{"$f":"'大会情報(設定)'!$F$9","v":"令和5年度　北海道中学校体育大会"}]
[{"$f":"'大会情報(設定)'!$F$11","v":"第54回北海道中学校アイスホッケー大会"}]
[]
[{"$f":"IF('大会情報(設定)'!$C$7=\"全道大会\",\" (合同チーム)参加承諾書\",IF('大会情報(設定)'!$C$7=\"全国大会\",\" (合同･選抜チーム)参加承諾書\",\" (合同チーム)参加承諾書\"))","v":" (合同チーム)参加承諾書"},null,null,null,null,null,null,null,null,null,null,null,null,null,null,null,null,null,null,null,null,null,null,null,null,null,null,null,null,null,null,null,null,null,null,null,null,null,null,"出力する学校",null,null,"中学校",null,null,1,{"$f":"IFERROR(VLOOKUP(AT5,'チーム情報(設定)'!$C$122:$H$146,3,FALSE),\"\")","v":""}]
[null,null,null,null,null,null,null,null,null,null,null,null,null,null,null,null,null,null,null,null,null,null,null,null,null,null,null,null,null,null,null,null,null,null,null,null,null,null,null,null,null,null,null,null,null,2,{"$f":"IFERROR(VLOOKUP(AT6,'チーム情報(設定)'!$C$122:$H$146,3,FALSE),\"\")","v":""}]
[null,null,"チーム名",null,null,null,null,null,{"$f":"IF('チーム情報(設定)'!D8=\"\",\"\",'チーム情報(設定)'!D8&\"(\"&'チーム情報(設定)'!X8&\")\")","v":""},null,null,null,null,null,null,null,null,null,null,null,null,"監督名",null,null,{"$f":"IF('チーム情報(設定)'!$C$28=\"\",\"\",'チーム情報(設定)'!$C$28)","v":""},null,null,null,null,null,"監督職名",null,null,null,{"$f":"IF('チーム情報(設定)'!$G$28=\"\",\"\",'チーム情報(設定)'!$G$28)","v":""},null,null,null,null,null,null,null,null,null,null,3,{"$f":"IFERROR(VLOOKUP(AT7,'チーム情報(設定)'!$C$122:$H$146,3,FALSE),\"\")","v":""}]
[null,null,null,null,null,null,null,null,null,null,null,null,null,null,null,null,null,null,null,null,null,null,null,null,null,null,null,null,null,null,null,null,null,null,null,null,null,null,null,null,null,null,null,null,null,4,{"$f":"IFERROR(VLOOKUP(AT8,'チーム情報(設定)'!$C$122:$H$146,3,FALSE),\"\")","v":""}]
[null,null,"監督勤務先",null,null,null,null,null,{"$f":"IF('チーム情報(設定)'!$E$28=\"\",\"\",VLOOKUP('チーム情報(設定)'!$E$28,'学校情報(設定)'!$C$11:$W$40,18,))","v":""},null,null,null,null,null,null,null,null,null,null,null,null,"学　校",null,null,"TEL",null,null,{"$f":"IF('チーム情報(設定)'!$E$28=\"\",\"\",VLOOKUP('チーム情報(設定)'!$E$28,'学校情報(設定)'!$C$11:$W$40,20,))","v":""},null,null,null,null,null,null,null,null,null,null,null,null,null,null,null,null,null,5,{"$f":"IFERROR(VLOOKUP(AT9,'チーム情報(設定)'!$C$122:$H$146,3,FALSE),\"\")","v":""}]
[null,null,"学校名",null,null,null,null,null,null,null,null,null,null,null,null,null,null,null,null,null,null,null,null,null,"FAX",null,null,{"$f":"IF('チーム情報(設定)'!$E$28=\"\",\"\",VLOOKUP('チーム情報(設定)'!$E$28,'学校情報(設定)'!$C$11:$W$40,21,))","v":""},null,null,null,null,null,null,null,null,null,null,null,null,null,null,null,null,null,6,{"$f":"IFERROR(VLOOKUP(AT10,'チーム情報(設定)'!$C$122:$H$146,3,FALSE),\"\")","v":""}]
[null,null,"監督勤務先",null,null,null,null,null,"〒",null,{"$f":"IF('チーム情報(設定)'!$E$28=\"\",\"\",VLOOKUP('チーム情報(設定)'!$E$28,'学校情報(設定)'!$C$11:$W$40,19,))","v":""},null,null,null,null,null,null,null,null,null,null,null,null,null,null,null,null,null,null,null,null,null,null,null,null,null,null,null,null,null,null,null,null,null,null,7,{"$f":"IFERROR(VLOOKUP(AT11,'チーム情報(設定)'!$C$122:$H$146,3,FALSE),\"\")","v":""}]
[null,null,"住所",null,null,null,null,null,{"$f":"IF('チーム情報(設定)'!$E$28=\"\",\"\",VLOOKUP('チーム情報(設定)'!$E$28,'学校情報(設定)'!$C$11:$W$40,7,))","v":""},null,null,null,null,null,null,null,null,null,null,null,null,null,null,null,null,null,null,null,null,null,null,null,null,null,null,null,null,null,null,null,null,null,null,null,null,8,{"$f":"IFERROR(VLOOKUP(AT12,'チーム情報(設定)'!$C$122:$H$146,3,FALSE),\"\")","v":""}]
[null,null,"選手所属",null,null,null,null,null,{"$f":"IF(AP5=\"\",\"\",AP5&AQ5)","v":""},null,null,null,null,null,null,null,null,null,null,null,null,"学　校",null,null,"TEL",null,null,{"$f":"IF(AP5=\"\",\"\",VLOOKUP(AP5,'学校情報(設定)'!$C$11:$W$40,20,))","v":""},null,null,null,null,null,null,null,null,null,null,null,null,null,null,null,null,null,9,{"$f":"IFERROR(VLOOKUP(AT13,'チーム情報(設定)'!$C$122:$H$146,3,FALSE),\"\")","v":""}]
[null,null,"学校名",null,null,null,null,null,null,null,null,null,null,null,null,null,null,null,null,null,null,null,null,null,"FAX",null,null,{"$f":"IF(AP5=\"\",\"\",VLOOKUP(AP5,'学校情報(設定)'!$C$11:$W$40,21,))","v":""},null,null,null,null,null,null,null,null,null,null,null,null,null,null,null,null,null,10,{"$f":"IFERROR(VLOOKUP(AT14,'チーム情報(設定)'!$C$122:$H$146,3,FALSE),\"\")","v":""}]
[null,null,"選手所属",null,null,null,null,null,"〒",null,{"$f":"IF(AP5=\"\",\"\",VLOOKUP(AP5,'学校情報(設定)'!$C$11:$W$40,19,))","v":""},null,null,null,null,null,null,null,null,null,null,null,null,null,null,null,null,null,null,null,null,null,null,null,null,null,null,null,null,null,null,null,null,null,null,11,{"$f":"IFERROR(VLOOKUP(AT15,'チーム情報(設定)'!$C$122:$H$146,3,FALSE),\"\")","v":""}]
[null,null,"学校所在地",null,null,null,null,null,{"$f":"IF(AP5=\"\",\"\",VLOOKUP(AP5,'学校情報(設定)'!$C$11:$W$40,7,))","v":""},null,null,null,null,null,null,null,null,null,null,null,null,null,null,null,null,null,null,null,null,null,null,null,null,null,null,null,null,null,null,null,null,null,null,null,null,12,{"$f":"IFERROR(VLOOKUP(AT16,'チーム情報(設定)'!$C$122:$H$146,3,FALSE),\"\")","v":""}]
[null,null,null,null,null,null,null,null,null,null,null,null,null,null,null,null,null,null,null,null,null,null,null,null,null,null,null,null,null,null,null,null,null,null,null,null,null,null,null,null,null,null,null,null,null,13,{"$f":"IFERROR(VLOOKUP(AT17,'チーム情報(設定)'!$C$122:$H$146,3,FALSE),\"\")","v":""}]
[null,null,null,null,null,null,null,null,null,null,null,null,null,null,null,null,null,null,null,null,null,null,null,null,null,null,null,null,null,null,null,null,null,null,null,null,null,null,null,null,null,null,null,null,null,14,{"$f":"IFERROR(VLOOKUP(AT18,'チーム情報(設定)'!$C$122:$H$146,3,FALSE),\"\")","v":""}]
[null,"選　手　氏　名",null,null,null,null,null,null,null,null,null,null,null,"学　年",null,null,null,"生　年　月　日",null,null,null,null,null,null,null,null,null,"備　　考",null,null,null,null,null,null,null,null,null,null,null,null,null,null,null,null,null,15,{"$f":"IFERROR(VLOOKUP(AT19,'チーム情報(設定)'!$C$122:$H$146,3,FALSE),\"\")","v":""}]
[null,{"$f":"IF(AU5=\"\",\"\",AU5)","v":""},null,null,null,null,null,null,null,null,null,null,null,{"$f":"IF(B20=\"\",\"\",VLOOKUP(B20,'チーム情報(設定)'!$E$95:$H$119,3,))","v":""},null,null,null,{"$f":"IF(B20=\"\",\"\",VLOOKUP(B20,'チーム情報(設定)'!$E$95:$H$119,4,))","v":""},null,null,null,null,null,null,null,null,null,null,null,null,null,null,null,null,null,null,null,null,null,null,null,null,null,null,null,16,{"$f":"IFERROR(VLOOKUP(AT20,'チーム情報(設定)'!$C$122:$H$146,3,FALSE),\"\")","v":""}]
[null,{"$f":"IF(AU6=\"\",\"\",AU6)","v":""},null,null,null,null,null,null,null,null,null,null,null,{"$f":"IF(B21=\"\",\"\",VLOOKUP(B21,'チーム情報(設定)'!$E$95:$H$119,3,))","v":""},null,null,null,{"$f":"IF(B21=\"\",\"\",VLOOKUP(B21,'チーム情報(設定)'!$E$95:$H$119,4,))","v":""},null,null,null,null,null,null,null,null,null,null,null,null,null,null,null,null,null,null,null,null,null,null,null,null,null,null,null,17,{"$f":"IFERROR(VLOOKUP(AT21,'チーム情報(設定)'!$C$122:$H$146,3,FALSE),\"\")","v":""}]
[null,"",null,null,null,null,null,null,null,null,null,null,null,{"$f":"IF(B22=\"\",\"\",VLOOKUP(B22,'チーム情報(設定)'!$E$95:$H$119,3,))","v":""},null,null,null,{"$f":"IF(B22=\"\",\"\",VLOOKUP(B22,'チーム情報(設定)'!$E$95:$H$119,4,))","v":""},null,null,null,null,null,null,null,null,null,null,null,null,null,null,null,null,null,null,null,null,null,null,null,null,null,null,null,18,{"$f":"IFERROR(VLOOKUP(AT22,'チーム情報(設定)'!$C$122:$H$146,3,FALSE),\"\")","v":""}]
[null,"",null,null,null,null,null,null,null,null,null,null,null,{"$f":"IF(B23=\"\",\"\",VLOOKUP(B23,'チーム情報(設定)'!$E$95:$H$119,3,))","v":""},null,null,null,{"$f":"IF(B23=\"\",\"\",VLOOKUP(B23,'チーム情報(設定)'!$E$95:$H$119,4,))","v":""},null,null,null,null,null,null,null,null,null,null,null,null,null,null,null,null,null,null,null,null,null,null,null,null,null,null,null,19,{"$f":"IFERROR(VLOOKUP(AT23,'チーム情報(設定)'!$C$122:$H$146,3,FALSE),\"\")","v":""}]
[null,"",null,null,null,null,null,null,null,null,null,null,null,{"$f":"IF(B24=\"\",\"\",VLOOKUP(B24,'チーム情報(設定)'!$E$95:$H$119,3,))","v":""},null,null,null,{"$f":"IF(B24=\"\",\"\",VLOOKUP(B24,'チーム情報(設定)'!$E$95:$H$119,4,))","v":""},null,null,null,null,null,null,null,null,null,null,null,null,null,null,null,null,null,null,null,null,null,null,null,null,null,null,null,20,{"$f":"IFERROR(VLOOKUP(AT24,'チーム情報(設定)'!$C$122:$H$146,3,FALSE),\"\")","v":""}]
[null,"",null,null,null,null,null,null,null,null,null,null,null,{"$f":"IF(B25=\"\",\"\",VLOOKUP(B25,'チーム情報(設定)'!$E$95:$H$119,3,))","v":""},null,null,null,{"$f":"IF(B25=\"\",\"\",VLOOKUP(B25,'チーム情報(設定)'!$E$95:$H$119,4,))","v":""},null,null,null,null,null,null,null,null,null,null,null,null,null,null,null,null,null,null,null,null,null,null,null,null,null,null,null,21,{"$f":"IFERROR(VLOOKUP(AT25,'チーム情報(設定)'!$C$122:$H$146,3,FALSE),\"\")","v":""}]
[null,"",null,null,null,null,null,null,null,null,null,null,null,{"$f":"IF(B26=\"\",\"\",VLOOKUP(B26,'チーム情報(設定)'!$E$95:$H$119,3,))","v":""},null,null,null,{"$f":"IF(B26=\"\",\"\",VLOOKUP(B26,'チーム情報(設定)'!$E$95:$H$119,4,))","v":""},null,null,null,null,null,null,null,null,null,null,null,null,null,null,null,null,null,null,null,null,null,null,null,null,null,null,null,22,{"$f":"IFERROR(VLOOKUP(AT26,'チーム情報(設定)'!$C$122:$H$146,3,FALSE),\"\")","v":""}]
[null,"",null,null,null,null,null,null,null,null,null,null,null,{"$f":"IF(B27=\"\",\"\",VLOOKUP(B27,'チーム情報(設定)'!$E$95:$H$119,3,))","v":""},null,null,null,{"$f":"IF(B27=\"\",\"\",VLOOKUP(B27,'チーム情報(設定)'!$E$95:$H$119,4,))","v":""},null,null,null,null,null,null,null,null,null,null,null,null,null,null,null,null,null,null,null,null,null,null,null,null,null,null,null,23,{"$f":"IFERROR(VLOOKUP(AT27,'チーム情報(設定)'!$C$122:$H$146,3,FALSE),\"\")","v":""}]
[null,"",null,null,null,null,null,null,null,null,null,null,null,{"$f":"IF(B28=\"\",\"\",VLOOKUP(B28,'チーム情報(設定)'!$E$95:$H$119,3,))","v":""},null,null,null,{"$f":"IF(B28=\"\",\"\",VLOOKUP(B28,'チーム情報(設定)'!$E$95:$H$119,4,))","v":""},null,null,null,null,null,null,null,null,null,null,null,null,null,null,null,null,null,null,null,null,null,null,null,null,null,null,null,24,{"$f":"IFERROR(VLOOKUP(AT28,'チーム情報(設定)'!$C$122:$H$146,3,FALSE),\"\")","v":""}]
[null,"",null,null,null,null,null,null,null,null,null,null,null,{"$f":"IF(B29=\"\",\"\",VLOOKUP(B29,'チーム情報(設定)'!$E$95:$H$119,3,))","v":""},null,null,null,{"$f":"IF(B29=\"\",\"\",VLOOKUP(B29,'チーム情報(設定)'!$E$95:$H$119,4,))","v":""},null,null,null,null,null,null,null,null,null,null,null,null,null,null,null,null,null,null,null,null,null,null,null,null,null,null,null,25,{"$f":"IFERROR(VLOOKUP(AT29,'チーム情報(設定)'!$C$122:$H$146,3,FALSE),\"\")","v":""}]
[null,"",null,null,null,null,null,null,null,null,null,null,null,{"$f":"IF(B30=\"\",\"\",VLOOKUP(B30,'チーム情報(設定)'!$E$95:$H$119,3,))","v":""},null,null,null,{"$f":"IF(B30=\"\",\"\",VLOOKUP(B30,'チーム情報(設定)'!$E$95:$H$119,4,))","v":""}]
[null,"",null,null,null,null,null,null,null,null,null,null,null,{"$f":"IF(B31=\"\",\"\",VLOOKUP(B31,'チーム情報(設定)'!$E$95:$H$119,3,))","v":""},null,null,null,{"$f":"IF(B31=\"\",\"\",VLOOKUP(B31,'チーム情報(設定)'!$E$95:$H$119,4,))","v":""}]
[null,"",null,null,null,null,null,null,null,null,null,null,null,{"$f":"IF(B32=\"\",\"\",VLOOKUP(B32,'チーム情報(設定)'!$E$95:$H$119,3,))","v":""},null,null,null,{"$f":"IF(B32=\"\",\"\",VLOOKUP(B32,'チーム情報(設定)'!$E$95:$H$119,4,))","v":""}]
[null,"",null,null,null,null,null,null,null,null,null,null,null,{"$f":"IF(B33=\"\",\"\",VLOOKUP(B33,'チーム情報(設定)'!$E$95:$H$119,3,))","v":""},null,null,null,{"$f":"IF(B33=\"\",\"\",VLOOKUP(B33,'チーム情報(設定)'!$E$95:$H$119,4,))","v":""}]
[null,"",null,null,null,null,null,null,null,null,null,null,null,{"$f":"IF(B34=\"\",\"\",VLOOKUP(B34,'チーム情報(設定)'!$E$95:$H$119,3,))","v":""},null,null,null,{"$f":"IF(B34=\"\",\"\",VLOOKUP(B34,'チーム情報(設定)'!$E$95:$H$119,4,))","v":""}]
[null,"",null,null,null,null,null,null,null,null,null,null,null,{"$f":"IF(B35=\"\",\"\",VLOOKUP(B35,'チーム情報(設定)'!$E$95:$H$119,3,))","v":""},null,null,null,{"$f":"IF(B35=\"\",\"\",VLOOKUP(B35,'チーム情報(設定)'!$E$95:$H$119,4,))","v":""}]
[null,"",null,null,null,null,null,null,null,null,null,null,null,{"$f":"IF(B36=\"\",\"\",VLOOKUP(B36,'チーム情報(設定)'!$E$95:$H$119,3,))","v":""},null,null,null,{"$f":"IF(B36=\"\",\"\",VLOOKUP(B36,'チーム情報(設定)'!$E$95:$H$119,4,))","v":""}]
[null,"",null,null,null,null,null,null,null,null,null,null,null,{"$f":"IF(B37=\"\",\"\",VLOOKUP(B37,'チーム情報(設定)'!$E$95:$H$119,3,))","v":""},null,null,null,{"$f":"IF(B37=\"\",\"\",VLOOKUP(B37,'チーム情報(設定)'!$E$95:$H$119,4,))","v":""}]
[null,"",null,null,null,null,null,null,null,null,null,null,null,{"$f":"IF(B38=\"\",\"\",VLOOKUP(B38,'チーム情報(設定)'!$E$95:$H$119,3,))","v":""},null,null,null,{"$f":"IF(B38=\"\",\"\",VLOOKUP(B38,'チーム情報(設定)'!$E$95:$H$119,4,))","v":""}]
[null,"",null,null,null,null,null,null,null,null,null,null,null,{"$f":"IF(B39=\"\",\"\",VLOOKUP(B39,'チーム情報(設定)'!$E$95:$H$119,3,))","v":""},null,null,null,{"$f":"IF(B39=\"\",\"\",VLOOKUP(B39,'チーム情報(設定)'!$E$95:$H$119,4,))","v":""}]
[null,"",null,null,null,null,null,null,null,null,null,null,null,{"$f":"IF(B40=\"\",\"\",VLOOKUP(B40,'チーム情報(設定)'!$E$95:$H$119,3,))","v":""},null,null,null,{"$f":"IF(B40=\"\",\"\",VLOOKUP(B40,'チーム情報(設定)'!$E$95:$H$119,4,))","v":""}]
[null,"",null,null,null,null,null,null,null,null,null,null,null,{"$f":"IF(B41=\"\",\"\",VLOOKUP(B41,'チーム情報(設定)'!$E$95:$H$119,3,))","v":""},null,null,null,{"$f":"IF(B41=\"\",\"\",VLOOKUP(B41,'チーム情報(設定)'!$E$95:$H$119,4,))","v":""}]
[null,{"$f":"IF(AU27=\"\",\"\",AU27)","v":""},null,null,null,null,null,null,null,null,null,null,null,{"$f":"IF(B42=\"\",\"\",VLOOKUP(B42,'チーム情報(設定)'!$E$95:$H$119,3,))","v":""},null,null,null,{"$f":"IF(B42=\"\",\"\",VLOOKUP(B42,'チーム情報(設定)'!$E$95:$H$119,4,))","v":""}]
[null,{"$f":"IF(AU28=\"\",\"\",AU28)","v":""},null,null,null,null,null,null,null,null,null,null,null,{"$f":"IF(B43=\"\",\"\",VLOOKUP(B43,'チーム情報(設定)'!$E$95:$H$119,3,))","v":""},null,null,null,{"$f":"IF(B43=\"\",\"\",VLOOKUP(B43,'チーム情報(設定)'!$E$95:$H$119,4,))","v":""}]
[null,{"$f":"IF(AU29=\"\",\"\",AU29)","v":""},null,null,null,null,null,null,null,null,null,null,null,{"$f":"IF(B44=\"\",\"\",VLOOKUP(B44,'チーム情報(設定)'!$E$95:$H$119,3,))","v":""},null,null,null,{"$f":"IF(B44=\"\",\"\",VLOOKUP(B44,'チーム情報(設定)'!$E$95:$H$119,4,))","v":""}]
[null," 上記の通り、標記大会に合同・選抜チームとして参加することを承諾します。"]
[]
[null,null,null,null,null,null,null,{"$f":"IF(設定!$AE$3=\"\",\"\",設定!$AE$3)","v":"令和"},null,{"$f":"IF(設定!$AF$3=\"\",\"\",設定!$AF$3)","v":5},null,"年",{"$f":"IF(設定!$AH$3=\"\",\"\",設定!$AH$3)","v":11},null,"月",{"$f":"IF(設定!$AJ$3=\"\",\"\",設定!$AJ$3)","v":22},null,"日"]
[]
[null,null,null,null,null,null,null,null,null,{"$f":"IF(AP5=\"\",\"\",AP5)","v":""},null,null,null,null,null,null,null,null,null,{"$f":"IFERROR(VLOOKUP(J49,'学校情報(設定)'!$C$11:$D$40,2,FALSE),\"\")","v":""},null,null,null,{"$f":"IF(J49=\"\",\"\",VLOOKUP(J49,'学校情報(設定)'!$C$11:$W$40,3,))","v":""},null,null,null,null,null,null,null,null,null,null,"印"]
[]
[]
[null,"※１",null,null,"生年月日は、西暦下２桁を記入する。（例：０１．０７．２５）"]
[null,"※２",null,null,"学校長印は職印とする。"]
[null,"※３",null,null,"公印のあるものについては、郵送してください。"]
[null,"※４",null,null,"合同・選抜チームの監督は、選手の在籍学校長の承諾書を集約し、大会申込書と"]
[null,null,null,null,"一緒に提出する。"]

{"sheet":"オールメンバー表(Pos別1)","index":14,"n_rows":47,"n_cols":42,"rows_kept":47,"cut":false,"hidden":false,"merged":[[0,1,1,5],[32,13,32,20],[33,13,33,20],[5,1,5,6],[12,21,12,28],[9,3,9,7],[9,8,9,15],[11,16,11,20],[10,3,10,7],[7,3,7,7],[7,8,7,15],[14,21,14,28],[11,3,11,7],[11,8,11,15],[12,3,12,7],[12,8,12,15],[12,16,12,20],[32,5,32,7],[33,5,33,7],[8,8,8,15],[8,3,8,7],[24,3,24,4],[32,3,32,4],[33,3,33,4],[11,38,12,39],[9,32,10,35],[9,38,10,39],[38,1,39,4],[38,5,39,12],[38,13,39,16],[38,17,39,28],[25,3,25,4],[26,3,26,4],[27,3,27,4],[28,3,28,4],[29,3,29,4],[30,3,30,4],[10,8,10,15],[14,3,14,4],[15,3,15,4],[16,3,16,4],[17,3,17,4],[18,3,18,4],[14,5,14,7],[22,3,22,4],[23,3,23,4],[34,3,34,4],[35,5,35,7],[36,5,36,7],[15,5,15,7],[16,5,16,7],[17,5,17,7],[18,5,18,7],[19,5,19,7],[26,5,26,7],[27,5,27,7],[28,5,28,7],[29,5,29,7],[30,5,30,7],[31,5,31,7],[20,5,20,7],[21,5,21,7],[22,5,22,7],[23,5,23,7],[24,5,24,7],[25,5,25,7],[35,3,35,4],[36,3,36,4],[34,5,34,7],[31,3,31,4],[35,8,35,10],[36,8,36,10],[14,11,14,12],[15,11,15,12],[16,11,16,12],[17,11,17,12],[18,11,18,12],[26,8,26,10],[27,8,27,10],[28,8,28,10],[29,8,29,10],[30,8,30,10],[31,8,31,10],[20,8,20,10],[21,8,21,10],[22,8,22,10],[23,8,23,10],[24,8,24,10],[25,8,25,10],[14,8,14,10],[34,8,34,10],[19,8,19,10],[31,11,31,12],[32,11,32,12],[33,11,33,12],[34,11,34,12],[35,11,35,12],[36,11,36,12],[25,11,25,12],[26,11,26,12],[27,11,27,12],[28,11,28,12],[29,11,29,12],[30,11,30,12],[22,11,22,12],[23,11,23,12],[24,11,24,12],[32,8,32,10],[33,8,33,10],[19,13,19,20],[0,6,0,28],[1,6,1,28],[5,7,5,28],[30,13,30,20],[31,13,31,20],[27,13,27,20],[28,13,28,20],[29,13,29,20],[22,13,22,20],[23,13,23,20],[24,13,24,20],[25,13,25,20],[15,8,15,10],[16,8,16,10],[17,8,17,10],[18,8,18,10],[34,21,34,28],[35,21,35,28],[36,21,36,28],[14,1,36,2],[7,1,12,2],[28,21,28,28],[29,21,29,28],[30,21,30,28],[31,21,31,28],[32,21,32,28],[33,21,33,28],[22,21,22,28],[23,21,23,28],[24,21,24,28],[25,21,25,28],[26,21,26,28],[27,21,27,28],[34,13,34,20],[35,13,35,20],[36,13,36,20],[26,13,26,20],[14,13,14,20],[15,13,15,20],[16,13,16,20],[11,32,12,35],[3,1,3,28],[15,21,15,28],[16,21,16,28],[17,21,17,28],[18,21,18,28],[19,21,19,28],[20,21,20,28],[21,21,21,28],[20,13,20,20],[21,13,21,20],[19,11,19,12],[20,11,20,12],[21,11,21,12],[19,3,19,4],[20,3,20,4],[21,3,21,4],[11,21,11,28],[9,16,9,20],[9,21,9,28],[10,16,10,20],[10,21,10,28],[17,13,17,20],[18,13,18,20]]}
[null,"（大会名）",null,null,null,null,{"$f":"'大会情報(設定)'!F9","v":"令和5年度　北海道中学校体育大会"}]
[null,null,null,null,null,null,{"$f":"'大会情報(設定)'!F11","v":"第54回北海道中学校アイスホッケー大会"}]
[]
[null,"オールメンバー表"]
[]
[null,"チーム名",null,null,null,null,null,{"$f":"'チーム情報(設定)'!D8&\"(\"&'チーム情報(設定)'!X8&\"）\"","v":"(）"}]
[]
[null,"スタッフ",null,"ふりがな",null,null,null,null,{"$f":"IF('チーム情報(設定)'!$D$28=\"\",\"\",'チーム情報(設定)'!$D$28)","v":""}]
[null,null,null,"監督",null,null,null,null,{"$f":"IF('チーム情報(設定)'!$C$28=\"\",\"\",'チーム情報(設定)'!$C$28)","v":""}]
[null,null,null,"ふりがな",null,null,null,null,{"$f":"IF('チーム情報(設定)'!$D$29=\"\",\"\",'チーム情報(設定)'!$D$29)","v":""},null,null,null,null,null,null,null,"ふりがな",null,null,null,null,{"$f":"IF('チーム情報(設定)'!$D$31=\"\",\"\",'チーム情報(設定)'!$D$31)","v":""},null,null,null,null,null,null,null,null,null,null,"背番号１　(ファースト)",null,null,null,null,null,"試合情報\n(オールメンバー表出力)"]
[null,null,null,{"$f":"IF('チーム情報(設定)'!$B$29=\"\",\"\",'チーム情報(設定)'!$B$29)","v":""},null,null,null,null,{"$f":"IF('チーム情報(設定)'!$C29=\"\",\"\",'チーム情報(設定)'!$C29)","v":""},null,null,null,null,null,null,null,{"$f":"IF('チーム情報(設定)'!$B$31=\"\",\"\",'チーム情報(設定)'!$B$31)","v":""},null,null,null,null,{"$f":"IF('チーム情報(設定)'!$C31=\"\",\"\",'チーム情報(設定)'!$C31)","v":""}]
[null,null,null,"ふりがな",null,null,null,null,{"$f":"IF('チーム情報(設定)'!$D$30=\"\",\"\",'チーム情報(設定)'!$D$30)","v":""},null,null,null,null,null,null,null,"ふりがな",null,null,null,null,{"$f":"IF('チーム情報(設定)'!$D$32=\"\",\"\",'チーム情報(設定)'!$D$32)","v":""},null,null,null,null,null,null,null,null,null,null,{"$f":"IF('チーム情報(設定)'!$E$38=\"\",\"\",'チーム情報(設定)'!$E$38)","v":""}]
[null,null,null,{"$f":"IF('チーム情報(設定)'!$B$30=\"\",\"\",'チーム情報(設定)'!$B$30)","v":""},null,null,null,null,{"$f":"IF('チーム情報(設定)'!$C30=\"\",\"\",'チーム情報(設定)'!$C30)","v":""},null,null,null,null,null,null,null,{"$f":"IF('チーム情報(設定)'!$B$32=\"\",\"\",'チーム情報(設定)'!$B$32)","v":""},null,null,null,null,{"$f":"IF('チーム情報(設定)'!$C32=\"\",\"\",'チーム情報(設定)'!$C32)","v":""},null,null,null,null,null,null,null,"　"]
[]
[null,"選手",null,"№",null,"ポジション",null,null,"背番号",null,null,"C/A",null,"氏　　名",null,null,null,null,null,null,null,"氏名のよみがな",null,null,null,null,null,null,null,null,null,null,"No.","背番号","Pos","名前",null,null,"試合情報","対戦日","試合NO,","対戦チーム"]
[null,null,null,1,null,{"$f":"IF(AI16=\"\",\"\",AI16)","v":""},null,null,{"$f":"IF(AH16=\"\",\"\",AH16)","v":""},null,null,{"$f":"IFERROR(VLOOKUP(I16,'チーム情報(設定)'!$G$149:$K$173,3,FALSE),\"\")","v":""},null,{"$f":"IFERROR(VLOOKUP(I16,'チーム情報(設定)'!$G$149:$K$173,4,FALSE),\"\")","v":""},null,null,null,null,null,null,null,{"$f":"IFERROR(VLOOKUP(I16,'チーム情報(設定)'!$G$149:$K$173,5,FALSE),\"\")","v":""},null,null,null,null,null,null,null,null,null,null,1,null,{"$f":"IFERROR(VLOOKUP(AH16,'チーム情報(設定)'!$G$149:$K$170,2,FALSE),\"\")","v":""},{"$f":"IFERROR(VLOOKUP(AH16,'チーム情報(設定)'!$G$149:$K$170,4,FALSE),\"\")","v":""},null,null,1,{"$f":"IFERROR(VLOOKUP(AM16,'試合情報(設定)'!CA12:CE22,2,FALSE),\"\")","v":"令和5年12月9日(土)"},{"$f":"IFERROR(VLOOKUP($AN16,'試合情報(設定)'!CB12:CF22,2,FALSE),\"\")","v":"1回戦①"},{"$f":"IFERROR(VLOOKUP($AO16,'試合情報(設定)'!CC12:CG22,2,FALSE),\"\")","v":""}]
[null,null,null,2,null,{"$f":"IF(AI17=\"\",\"\",AI17)","v":""},null,null,{"$f":"IF(AH17=\"\",\"\",AH17)","v":""},null,null,{"$f":"IFERROR(VLOOKUP(I17,'チーム情報(設定)'!$G$149:$K$173,3,FALSE),\"\")","v":""},null,{"$f":"IFERROR(VLOOKUP(I17,'チーム情報(設定)'!$G$149:$K$173,4,FALSE),\"\")","v":""},null,null,null,null,null,null,null,{"$f":"IFERROR(VLOOKUP(I17,'チーム情報(設定)'!$G$149:$K$173,5,FALSE),\"\")","v":""},null,null,null,null,null,null,null,null,null,null,2,null,{"$f":"IFERROR(VLOOKUP(AH17,'チーム情報(設定)'!$G$149:$K$170,2,FALSE),\"\")","v":""},{"$f":"IFERROR(VLOOKUP(AH17,'チーム情報(設定)'!$G$149:$K$170,4,FALSE),\"\")","v":""},null,null,2,{"$f":"IFERROR(VLOOKUP(AM17,'試合情報(設定)'!CA13:CE23,2,FALSE),\"\")","v":"令和5年12月9日(土)"},{"$f":"IFERROR(VLOOKUP($AN17,'試合情報(設定)'!CB13:CF23,2,FALSE),\"\")","v":"1回戦②"},{"$f":"IFERROR(VLOOKUP($AO17,'試合情報(設定)'!CC13:CG23,2,FALSE),\"\")","v":""}]
[null,null,null,3,null,"",null,null,"",null,null,{"$f":"IFERROR(VLOOKUP(I18,'チーム情報(設定)'!$G$149:$K$173,3,FALSE),\"\")","v":""},null,{"$f":"IFERROR(VLOOKUP(I18,'チーム情報(設定)'!$G$149:$K$173,4,FALSE),\"\")","v":""},null,null,null,null,null,null,null,{"$f":"IFERROR(VLOOKUP(I18,'チーム情報(設定)'!$G$149:$K$173,5,FALSE),\"\")","v":""},null,null,null,null,null,null,null,null,null,null,3,null,{"$f":"IFERROR(VLOOKUP(AH18,'チーム情報(設定)'!$G$149:$K$170,2,FALSE),\"\")","v":""},{"$f":"IFERROR(VLOOKUP(AH18,'チーム情報(設定)'!$G$149:$K$170,4,FALSE),\"\")","v":""},null,null,3,{"$f":"IFERROR(VLOOKUP(AM18,'試合情報(設定)'!CA14:CE24,2,FALSE),\"\")","v":"令和5年12月9日(土)"},{"$f":"IFERROR(VLOOKUP($AN18,'試合情報(設定)'!CB14:CF24,2,FALSE),\"\")","v":"1回戦③"},{"$f":"IFERROR(VLOOKUP($AO18,'試合情報(設定)'!CC14:CG24,2,FALSE),\"\")","v":""}]
[null,null,null,4,null,"",null,null,"",null,null,{"$f":"IFERROR(VLOOKUP(I19,'チーム情報(設定)'!$G$149:$K$173,3,FALSE),\"\")","v":""},null,{"$f":"IFERROR(VLOOKUP(I19,'チーム情報(設定)'!$G$149:$K$173,4,FALSE),\"\")","v":""},null,null,null,null,null,null,null,{"$f":"IFERROR(VLOOKUP(I19,'チーム情報(設定)'!$G$149:$K$173,5,FALSE),\"\")","v":""},null,null,null,null,null,null,null,null,null,null,4,null,{"$f":"IFERROR(VLOOKUP(AH19,'チーム情報(設定)'!$G$149:$K$170,2,FALSE),\"\")","v":""},{"$f":"IFERROR(VLOOKUP(AH19,'チーム情報(設定)'!$G$149:$K$170,4,FALSE),\"\")","v":""},null,null,4,{"$f":"IFERROR(VLOOKUP(AM19,'試合情報(設定)'!CA15:CE25,2,FALSE),\"\")","v":"令和5年12月10日(日)"},{"$f":"IFERROR(VLOOKUP($AN19,'試合情報(設定)'!CB15:CF25,2,FALSE),\"\")","v":"2回戦④"},{"$f":"IFERROR(VLOOKUP($AO19,'試合情報(設定)'!CC15:CG25,2,FALSE),\"\")","v":""}]
[null,null,null,5,null,"",null,null,"",null,null,{"$f":"IFERROR(VLOOKUP(I20,'チーム情報(設定)'!$G$149:$K$173,3,FALSE),\"\")","v":""},null,{"$f":"IFERROR(VLOOKUP(I20,'チーム情報(設定)'!$G$149:$K$173,4,FALSE),\"\")","v":""},null,null,null,null,null,null,null,{"$f":"IFERROR(VLOOKUP(I20,'チーム情報(設定)'!$G$149:$K$173,5,FALSE),\"\")","v":""},null,null,null,null,null,null,null,null,null,null,5,null,{"$f":"IFERROR(VLOOKUP(AH20,'チーム情報(設定)'!$G$149:$K$170,2,FALSE),\"\")","v":""},{"$f":"IFERROR(VLOOKUP(AH20,'チーム情報(設定)'!$G$149:$K$170,4,FALSE),\"\")","v":""},null,null,5,{"$f":"IFERROR(VLOOKUP(AM20,'試合情報(設定)'!CA16:CE26,2,FALSE),\"\")","v":"令和5年12月10日(日)"},{"$f":"IFERROR(VLOOKUP($AN20,'試合情報(設定)'!CB16:CF26,2,FALSE),\"\")","v":"2回戦⑤"},{"$f":"IFERROR(VLOOKUP($AO20,'試合情報(設定)'!CC16:CG26,2,FALSE),\"\")","v":""}]
[null,null,null,6,null,"",null,null,"",null,null,{"$f":"IFERROR(VLOOKUP(I21,'チーム情報(設定)'!$G$149:$K$173,3,FALSE),\"\")","v":""},null,{"$f":"IFERROR(VLOOKUP(I21,'チーム情報(設定)'!$G$149:$K$173,4,FALSE),\"\")","v":""},null,null,null,null,null,null,null,{"$f":"IFERROR(VLOOKUP(I21,'チーム情報(設定)'!$G$149:$K$173,5,FALSE),\"\")","v":""},null,null,null,null,null,null,null,null,null,null,6,null,{"$f":"IFERROR(VLOOKUP(AH21,'チーム情報(設定)'!$G$149:$K$170,2,FALSE),\"\")","v":""},{"$f":"IFERROR(VLOOKUP(AH21,'チーム情報(設定)'!$G$149:$K$170,4,FALSE),\"\")","v":""},null,null,6,{"$f":"IFERROR(VLOOKUP(AM21,'試合情報(設定)'!CA17:CE27,2,FALSE),\"\")","v":"令和5年12月10日(日)"},{"$f":"IFERROR(VLOOKUP($AN21,'試合情報(設定)'!CB17:CF27,2,FALSE),\"\")","v":"2回戦⑥"},{"$f":"IFERROR(VLOOKUP($AO21,'試合情報(設定)'!CC17:CG27,2,FALSE),\"\")","v":""}]
[null,null,null,7,null,"",null,null,"",null,null,{"$f":"IFERROR(VLOOKUP(I22,'チーム情報(設定)'!$G$149:$K$173,3,FALSE),\"\")","v":""},null,{"$f":"IFERROR(VLOOKUP(I22,'チーム情報(設定)'!$G$149:$K$173,4,FALSE),\"\")","v":""},null,null,null,null,null,null,null,{"$f":"IFERROR(VLOOKUP(I22,'チーム情報(設定)'!$G$149:$K$173,5,FALSE),\"\")","v":""},null,null,null,null,null,null,null,null,null,null,7,null,{"$f":"IFERROR(VLOOKUP(AH22,'チーム情報(設定)'!$G$149:$K$170,2,FALSE),\"\")","v":""},{"$f":"IFERROR(VLOOKUP(AH22,'チーム情報(設定)'!$G$149:$K$170,4,FALSE),\"\")","v":""},null,null,7,{"$f":"IFERROR(VLOOKUP(AM22,'試合情報(設定)'!CA18:CE28,2,FALSE),\"\")","v":"令和5年12月10日(日)"},{"$f":"IFERROR(VLOOKUP($AN22,'試合情報(設定)'!CB18:CF28,2,FALSE),\"\")","v":"2回戦⑦"},{"$f":"IFERROR(VLOOKUP($AO22,'試合情報(設定)'!CC18:CG28,2,FALSE),\"\")","v":""}]
[null,null,null,8,null,"",null,null,"",null,null,{"$f":"IFERROR(VLOOKUP(I23,'チーム情報(設定)'!$G$149:$K$173,3,FALSE),\"\")","v":""},null,{"$f":"IFERROR(VLOOKUP(I23,'チーム情報(設定)'!$G$149:$K$173,4,FALSE),\"\")","v":""},null,null,null,null,null,null,null,{"$f":"IFERROR(VLOOKUP(I23,'チーム情報(設定)'!$G$149:$K$173,5,FALSE),\"\")","v":""},null,null,null,null,null,null,null,null,null,null,8,null,{"$f":"IFERROR(VLOOKUP(AH23,'チーム情報(設定)'!$G$149:$K$170,2,FALSE),\"\")","v":""},{"$f":"IFERROR(VLOOKUP(AH23,'チーム情報(設定)'!$G$149:$K$170,4,FALSE),\"\")","v":""},null,null,8,{"$f":"IFERROR(VLOOKUP(AM23,'試合情報(設定)'!CA19:CE29,2,FALSE),\"\")","v":"令和5年12月10日(日)"},{"$f":"IFERROR(VLOOKUP($AN23,'試合情報(設定)'!CB19:CF29,2,FALSE),\"\")","v":"準決勝⑧"},{"$f":"IFERROR(VLOOKUP($AO23,'試合情報(設定)'!CC19:CG29,2,FALSE),\"\")","v":""}]
[null,null,null,9,null,"",null,null,"",null,null,{"$f":"IFERROR(VLOOKUP(I24,'チーム情報(設定)'!$G$149:$K$173,3,FALSE),\"\")","v":""},null,{"$f":"IFERROR(VLOOKUP(I24,'チーム情報(設定)'!$G$149:$K$173,4,FALSE),\"\")","v":""},null,null,null,null,null,null,null,{"$f":"IFERROR(VLOOKUP(I24,'チーム情報(設定)'!$G$149:$K$173,5,FALSE),\"\")","v":""},null,null,null,null,null,null,null,null,null,null,9,null,{"$f":"IFERROR(VLOOKUP(AH24,'チーム情報(設定)'!$G$149:$K$170,2,FALSE),\"\")","v":""},{"$f":"IFERROR(VLOOKUP(AH24,'チーム情報(設定)'!$G$149:$K$170,4,FALSE),\"\")","v":""},null,null,9,{"$f":"IFERROR(VLOOKUP(AM24,'試合情報(設定)'!CA20:CE30,2,FALSE),\"\")","v":"令和5年12月10日(日)"},{"$f":"IFERROR(VLOOKUP($AN24,'試合情報(設定)'!CB20:CF30,2,FALSE),\"\")","v":"準決勝⑨"},{"$f":"IFERROR(VLOOKUP($AO24,'試合情報(設定)'!CC20:CG30,2,FALSE),\"\")","v":""}]
[null,null,null,10,null,"",null,null,"",null,null,{"$f":"IFERROR(VLOOKUP(I25,'チーム情報(設定)'!$G$149:$K$173,3,FALSE),\"\")","v":""},null,{"$f":"IFERROR(VLOOKUP(I25,'チーム情報(設定)'!$G$149:$K$173,4,FALSE),\"\")","v":""},null,null,null,null,null,null,null,{"$f":"IFERROR(VLOOKUP(I25,'チーム情報(設定)'!$G$149:$K$173,5,FALSE),\"\")","v":""},null,null,null,null,null,null,null,null,null,null,10,null,{"$f":"IFERROR(VLOOKUP(AH25,'チーム情報(設定)'!$G$149:$K$170,2,FALSE),\"\")","v":""},{"$f":"IFERROR(VLOOKUP(AH25,'チーム情報(設定)'!$G$149:$K$170,4,FALSE),\"\")","v":""},null,null,10,{"$f":"IFERROR(VLOOKUP(AM25,'試合情報(設定)'!CA21:CE31,2,FALSE),\"\")","v":"令和5年12月11日(月)"},{"$f":"IFERROR(VLOOKUP($AN25,'試合情報(設定)'!CB21:CF31,2,FALSE),\"\")","v":"第３代表決定戦⑩"},{"$f":"IFERROR(VLOOKUP($AO25,'試合情報(設定)'!CC21:CG31,2,FALSE),\"\")","v":""}]
[null,null,null,11,null,"",null,null,"",null,null,{"$f":"IFERROR(VLOOKUP(I26,'チーム情報(設定)'!$G$149:$K$173,3,FALSE),\"\")","v":""},null,{"$f":"IFERROR(VLOOKUP(I26,'チーム情報(設定)'!$G$149:$K$173,4,FALSE),\"\")","v":""},null,null,null,null,null,null,null,{"$f":"IFERROR(VLOOKUP(I26,'チーム情報(設定)'!$G$149:$K$173,5,FALSE),\"\")","v":""},null,null,null,null,null,null,null,null,null,null,11,null,{"$f":"IFERROR(VLOOKUP(AH26,'チーム情報(設定)'!$G$149:$K$170,2,FALSE),\"\")","v":""},{"$f":"IFERROR(VLOOKUP(AH26,'チーム情報(設定)'!$G$149:$K$170,4,FALSE),\"\")","v":""},null,null,11,{"$f":"IFERROR(VLOOKUP(AM26,'試合情報(設定)'!CA22:CE32,2,FALSE),\"\")","v":"令和5年12月11日(月)"},{"$f":"IFERROR(VLOOKUP($AN26,'試合情報(設定)'!CB22:CF32,2,FALSE),\"\")","v":"決勝⑪"},{"$f":"IFERROR(VLOOKUP($AO26,'試合情報(設定)'!CC22:CG32,2,FALSE),\"\")","v":""}]
[null,null,null,12,null,"",null,null,"",null,null,{"$f":"IFERROR(VLOOKUP(I27,'チーム情報(設定)'!$G$149:$K$173,3,FALSE),\"\")","v":""},null,{"$f":"IFERROR(VLOOKUP(I27,'チーム情報(設定)'!$G$149:$K$173,4,FALSE),\"\")","v":""},null,null,null,null,null,null,null,{"$f":"IFERROR(VLOOKUP(I27,'チーム情報(設定)'!$G$149:$K$173,5,FALSE),\"\")","v":""},null,null,null,null,null,null,null,null,null,null,12,null,{"$f":"IFERROR(VLOOKUP(AH27,'チーム情報(設定)'!$G$149:$K$170,2,FALSE),\"\")","v":""},{"$f":"IFERROR(VLOOKUP(AH27,'チーム情報(設定)'!$G$149:$K$170,4,FALSE),\"\")","v":""}]
[null,null,null,13,null,"",null,null,"",null,null,{"$f":"IFERROR(VLOOKUP(I28,'チーム情報(設定)'!$G$149:$K$173,3,FALSE),\"\")","v":""},null,{"$f":"IFERROR(VLOOKUP(I28,'チーム情報(設定)'!$G$149:$K$173,4,FALSE),\"\")","v":""},null,null,null,null,null,null,null,{"$f":"IFERROR(VLOOKUP(I28,'チーム情報(設定)'!$G$149:$K$173,5,FALSE),\"\")","v":""},null,null,null,null,null,null,null,null,null,null,13,null,{"$f":"IFERROR(VLOOKUP(AH28,'チーム情報(設定)'!$G$149:$K$170,2,FALSE),\"\")","v":""},{"$f":"IFERROR(VLOOKUP(AH28,'チーム情報(設定)'!$G$149:$K$170,4,FALSE),\"\")","v":""}]
[null,null,null,14,null,"",null,null,"",null,null,{"$f":"IFERROR(VLOOKUP(I29,'チーム情報(設定)'!$G$149:$K$173,3,FALSE),\"\")","v":""},null,{"$f":"IFERROR(VLOOKUP(I29,'チーム情報(設定)'!$G$149:$K$173,4,FALSE),\"\")","v":""},null,null,null,null,null,null,null,{"$f":"IFERROR(VLOOKUP(I29,'チーム情報(設定)'!$G$149:$K$173,5,FALSE),\"\")","v":""},null,null,null,null,null,null,null,null,null,null,14,null,{"$f":"IFERROR(VLOOKUP(AH29,'チーム情報(設定)'!$G$149:$K$170,2,FALSE),\"\")","v":""},{"$f":"IFERROR(VLOOKUP(AH29,'チーム情報(設定)'!$G$149:$K$170,4,FALSE),\"\")","v":""}]
[null,null,null,15,null,"",null,null,"",null,null,{"$f":"IFERROR(VLOOKUP(I30,'チーム情報(設定)'!$G$149:$K$173,3,FALSE),\"\")","v":""},null,{"$f":"IFERROR(VLOOKUP(I30,'チーム情報(設定)'!$G$149:$K$173,4,FALSE),\"\")","v":""},null,null,null,null,null,null,null,{"$f":"IFERROR(VLOOKUP(I30,'チーム情報(設定)'!$G$149:$K$173,5,FALSE),\"\")","v":""},null,null,null,null,null,null,null,null,null,null,15,null,{"$f":"IFERROR(VLOOKUP(AH30,'チーム情報(設定)'!$G$149:$K$170,2,FALSE),\"\")","v":""},{"$f":"IFERROR(VLOOKUP(AH30,'チーム情報(設定)'!$G$149:$K$170,4,FALSE),\"\")","v":""}]
[null,null,null,16,null,"",null,null,"",null,null,{"$f":"IFERROR(VLOOKUP(I31,'チーム情報(設定)'!$G$149:$K$173,3,FALSE),\"\")","v":""},null,{"$f":"IFERROR(VLOOKUP(I31,'チーム情報(設定)'!$G$149:$K$173,4,FALSE),\"\")","v":""},null,null,null,null,null,null,null,{"$f":"IFERROR(VLOOKUP(I31,'チーム情報(設定)'!$G$149:$K$173,5,FALSE),\"\")","v":""},null,null,null,null,null,null,null,null,null,null,16,null,{"$f":"IFERROR(VLOOKUP(AH31,'チーム情報(設定)'!$G$149:$K$170,2,FALSE),\"\")","v":""},{"$f":"IFERROR(VLOOKUP(AH31,'チーム情報(設定)'!$G$149:$K$170,4,FALSE),\"\")","v":""}]
[null,null,null,17,null,"",null,null,"",null,null,{"$f":"IFERROR(VLOOKUP(I32,'チーム情報(設定)'!$G$149:$K$173,3,FALSE),\"\")","v":""},null,{"$f":"IFERROR(VLOOKUP(I32,'チーム情報(設定)'!$G$149:$K$173,4,FALSE),\"\")","v":""},null,null,null,null,null,null,null,{"$f":"IFERROR(VLOOKUP(I32,'チーム情報(設定)'!$G$149:$K$173,5,FALSE),\"\")","v":""},null,null,null,null,null,null,null,null,null,null,17,null,{"$f":"IFERROR(VLOOKUP(AH32,'チーム情報(設定)'!$G$149:$K$170,2,FALSE),\"\")","v":""},{"$f":"IFERROR(VLOOKUP(AH32,'チーム情報(設定)'!$G$149:$K$170,4,FALSE),\"\")","v":""}]
[null,null,null,18,null,"",null,null,"",null,null,{"$f":"IFERROR(VLOOKUP(I33,'チーム情報(設定)'!$G$149:$K$173,3,FALSE),\"\")","v":""},null,{"$f":"IFERROR(VLOOKUP(I33,'チーム情報(設定)'!$G$149:$K$173,4,FALSE),\"\")","v":""},null,null,null,null,null,null,null,{"$f":"IFERROR(VLOOKUP(I33,'チーム情報(設定)'!$G$149:$K$173,5,FALSE),\"\")","v":""},null,null,null,null,null,null,null,null,null,null,18,null,{"$f":"IFERROR(VLOOKUP(AH33,'チーム情報(設定)'!$G$149:$K$170,2,FALSE),\"\")","v":""},{"$f":"IFERROR(VLOOKUP(AH33,'チーム情報(設定)'!$G$149:$K$170,4,FALSE),\"\")","v":""}]
[null,null,null,19,null,"",null,null,"",null,null,{"$f":"IFERROR(VLOOKUP(I34,'チーム情報(設定)'!$G$149:$K$173,3,FALSE),\"\")","v":""},null,{"$f":"IFERROR(VLOOKUP(I34,'チーム情報(設定)'!$G$149:$K$173,4,FALSE),\"\")","v":""},null,null,null,null,null,null,null,{"$f":"IFERROR(VLOOKUP(I34,'チーム情報(設定)'!$G$149:$K$173,5,FALSE),\"\")","v":""},null,null,null,null,null,null,null,null,null,null,19,null,{"$f":"IFERROR(VLOOKUP(AH34,'チーム情報(設定)'!$G$149:$K$170,2,FALSE),\"\")","v":""},{"$f":"IFERROR(VLOOKUP(AH34,'チーム情報(設定)'!$G$149:$K$170,4,FALSE),\"\")","v":""}]
[null,null,null,20,null,"",null,null,"",null,null,{"$f":"IFERROR(VLOOKUP(I35,'チーム情報(設定)'!$G$149:$K$173,3,FALSE),\"\")","v":""},null,{"$f":"IFERROR(VLOOKUP(I35,'チーム情報(設定)'!$G$149:$K$173,4,FALSE),\"\")","v":""},null,null,null,null,null,null,null,{"$f":"IFERROR(VLOOKUP(I35,'チーム情報(設定)'!$G$149:$K$173,5,FALSE),\"\")","v":""},null,null,null,null,null,null,null,null,null,null,20,null,{"$f":"IFERROR(VLOOKUP(AH35,'チーム情報(設定)'!$G$149:$K$170,2,FALSE),\"\")","v":""},{"$f":"IFERROR(VLOOKUP(AH35,'チーム情報(設定)'!$G$149:$K$170,4,FALSE),\"\")","v":""}]
[null,null,null,21,null,"",null,null,"",null,null,{"$f":"IFERROR(VLOOKUP(I36,'チーム情報(設定)'!$G$149:$K$173,3,FALSE),\"\")","v":""},null,{"$f":"IFERROR(VLOOKUP(I36,'チーム情報(設定)'!$G$149:$K$173,4,FALSE),\"\")","v":""},null,null,null,null,null,null,null,{"$f":"IFERROR(VLOOKUP(I36,'チーム情報(設定)'!$G$149:$K$173,5,FALSE),\"\")","v":""},null,null,null,null,null,null,null,null,null,null,21,null,{"$f":"IFERROR(VLOOKUP(AH36,'チーム情報(設定)'!$G$149:$K$170,2,FALSE),\"\")","v":""},{"$f":"IFERROR(VLOOKUP(AH36,'チーム情報(設定)'!$G$149:$K$170,4,FALSE),\"\")","v":""}]
[null,null,null,22,null,"",null,null,"",null,null,{"$f":"IFERROR(VLOOKUP(I37,'チーム情報(設定)'!$G$149:$K$173,3,FALSE),\"\")","v":""},null,{"$f":"IFERROR(VLOOKUP(I37,'チーム情報(設定)'!$G$149:$K$173,4,FALSE),\"\")","v":""},null,null,null,null,null,null,null,{"$f":"IFERROR(VLOOKUP(I37,'チーム情報(設定)'!$G$149:$K$173,5,FALSE),\"\")","v":""},null,null,null,null,null,null,null,null,null,null,22,null,{"$f":"IFERROR(VLOOKUP(AH37,'チーム情報(設定)'!$G$149:$K$170,2,FALSE),\"\")","v":""},{"$f":"IFERROR(VLOOKUP(AH37,'チーム情報(設定)'!$G$149:$K$170,4,FALSE),\"\")","v":""}]
[]
[null,"対戦日",null,null,null,{"$f":"IFERROR(VLOOKUP($AM$12,'試合情報(設定)'!CA12:CE22,2,FALSE),\"\")","v":""},null,null,null,null,null,null,null,"対戦チーム名",null,null,null,{"$f":"IFERROR(VLOOKUP($AM$12,'試合情報(設定)'!CA12:CE22,5,FALSE),\"\")","v":""}]
[]
[]
[]
[]
[]
[]
[]
[null,"　"]

{"sheet":"オールメンバー表(Pos別2)","index":15,"n_rows":47,"n_cols":42,"rows_kept":47,"cut":false,"hidden":false,"merged":[[38,1,39,4],[38,5,39,12],[38,13,39,16],[38,17,39,28],[36,3,36,4],[36,5,36,7],[36,8,36,10],[36,11,36,12],[36,13,36,20],[36,21,36,28],[14,1,36,2],[35,3,35,4],[35,5,35,7],[35,8,35,10],[35,11,35,12],[35,13,35,20],[35,21,35,28],[34,3,34,4],[34,5,34,7],[34,8,34,10],[34,11,34,12],[34,13,34,20],[34,21,34,28],[33,3,33,4],[33,5,33,7],[33,8,33,10],[33,11,33,12],[33,13,33,20],[33,21,33,28],[32,3,32,4],[32,5,32,7],[32,8,32,10],[32,11,32,12],[32,13,32,20],[32,21,32,28],[31,3,31,4],[31,5,31,7],[31,8,31,10],[31,11,31,12],[31,13,31,20],[31,21,31,28],[30,3,30,4],[30,5,30,7],[30,8,30,10],[30,11,30,12],[30,13,30,20],[30,21,30,28],[29,3,29,4],[29,5,29,7],[29,8,29,10],[29,11,29,12],[29,13,29,20],[29,21,29,28],[28,3,28,4],[28,5,28,7],[28,8,28,10],[28,11,28,12],[28,13,28,20],[28,21,28,28],[27,3,27,4],[27,5,27,7],[27,8,27,10],[27,11,27,12],[27,13,27,20],[27,21,27,28],[26,3,26,4],[26,5,26,7],[26,8,26,10],[26,11,26,12],[26,13,26,20],[26,21,26,28],[25,3,25,4],[25,5,25,7],[25,8,25,10],[25,11,25,12],[25,13,25,20],[25,21,25,28],[24,3,24,4],[24,5,24,7],[24,8,24,10],[24,11,24,12],[24,13,24,20],[24,21,24,28],[23,3,23,4],[23,5,23,7],[23,8,23,10],[23,11,23,12],[23,13,23,20],[23,21,23,28],[22,3,22,4],[22,5,22,7],[22,8,22,10],[22,11,22,12],[22,13,22,20],[22,21,22,28],[21,3,21,4],[21,5,21,7],[21,8,21,10],[21,11,21,12],[21,13,21,20],[21,21,21,28],[20,3,20,4],[20,5,20,7],[20,8,20,10],[20,11,20,12],[20,13,20,20],[20,21,20,28],[19,3,19,4],[19,5,19,7],[19,8,19,10],[19,11,19,12],[19,13,19,20],[19,21,19,28],[18,3,18,4],[18,5,18,7],[18,8,18,10],[18,11,18,12],[18,13,18,20],[18,21,18,28],[16,13,16,20],[16,21,16,28],[17,3,17,4],[17,5,17,7],[17,8,17,10],[17,11,17,12],[17,13,17,20],[17,21,17,28],[14,21,14,28],[15,3,15,4],[15,5,15,7],[15,8,15,10],[15,11,15,12],[15,13,15,20],[15,21,15,28],[14,3,14,4],[14,5,14,7],[14,8,14,10],[14,11,14,12],[14,13,14,20],[16,3,16,4],[16,5,16,7],[16,8,16,10],[16,11,16,12],[11,32,12,35],[11,38,12,39],[12,3,12,7],[12,8,12,15],[12,16,12,20],[12,21,12,28],[9,16,9,20],[9,21,9,28],[9,32,10,35],[9,38,10,39],[10,3,10,7],[10,8,10,15],[10,16,10,20],[10,21,10,28],[0,1,1,5],[0,6,0,28],[1,6,1,28],[3,1,3,28],[5,1,5,6],[5,7,5,28],[7,1,12,2],[7,3,7,7],[7,8,7,15],[8,3,8,7],[8,8,8,15],[9,3,9,7],[9,8,9,15],[11,3,11,7],[11,8,11,15],[11,16,11,20],[11,21,11,28]]}
[null,"（大会名）",null,null,null,null,{"$f":"'大会情報(設定)'!F9","v":"令和5年度　北海道中学校体育大会"}]
[null,null,null,null,null,null,{"$f":"'大会情報(設定)'!F11","v":"第54回北海道中学校アイスホッケー大会"}]
[]
[null,"オールメンバー表"]
[]
[null,"チーム名",null,null,null,null,null,{"$f":"'チーム情報(設定)'!D8&\"(\"&'チーム情報(設定)'!X8&\"）\"","v":"(）"}]
[]
[null,"スタッフ",null,"ふりがな",null,null,null,null,{"$f":"IF('チーム情報(設定)'!$D$28=\"\",\"\",'チーム情報(設定)'!$D$28)","v":""}]
[null,null,null,"監督",null,null,null,null,{"$f":"IF('チーム情報(設定)'!$C$28=\"\",\"\",'チーム情報(設定)'!$C$28)","v":""}]
[null,null,null,"ふりがな",null,null,null,null,{"$f":"IF('チーム情報(設定)'!$D$29=\"\",\"\",'チーム情報(設定)'!$D$29)","v":""},null,null,null,null,null,null,null,"ふりがな",null,null,null,null,{"$f":"IF('チーム情報(設定)'!$D$31=\"\",\"\",'チーム情報(設定)'!$D$31)","v":""},null,null,null,null,null,null,null,null,null,null,"背番号２　(セカンド)",null,null,null,null,null,"試合情報\n(オールメンバー表出力)"]
[null,null,null,{"$f":"IF('チーム情報(設定)'!$B$29=\"\",\"\",'チーム情報(設定)'!$B$29)","v":""},null,null,null,null,{"$f":"IF('チーム情報(設定)'!$C29=\"\",\"\",'チーム情報(設定)'!$C29)","v":""},null,null,null,null,null,null,null,{"$f":"IF('チーム情報(設定)'!$B$31=\"\",\"\",'チーム情報(設定)'!$B$31)","v":""},null,null,null,null,{"$f":"IF('チーム情報(設定)'!$C31=\"\",\"\",'チーム情報(設定)'!$C31)","v":""}]
[null,null,null,"ふりがな",null,null,null,null,{"$f":"IF('チーム情報(設定)'!$D$30=\"\",\"\",'チーム情報(設定)'!$D$30)","v":""},null,null,null,null,null,null,null,"ふりがな",null,null,null,null,{"$f":"IF('チーム情報(設定)'!$D$32=\"\",\"\",'チーム情報(設定)'!$D$32)","v":""},null,null,null,null,null,null,null,null,null,null,{"$f":"IF('チーム情報(設定)'!$G$38=\"\",\"\",'チーム情報(設定)'!$G$38)","v":""}]
[null,null,null,{"$f":"IF('チーム情報(設定)'!$B$30=\"\",\"\",'チーム情報(設定)'!$B$30)","v":""},null,null,null,null,{"$f":"IF('チーム情報(設定)'!$C30=\"\",\"\",'チーム情報(設定)'!$C30)","v":""},null,null,null,null,null,null,null,{"$f":"IF('チーム情報(設定)'!$B$32=\"\",\"\",'チーム情報(設定)'!$B$32)","v":""},null,null,null,null,{"$f":"IF('チーム情報(設定)'!$C32=\"\",\"\",'チーム情報(設定)'!$C32)","v":""},null,null,null,null,null,null,null,"　"]
[]
[null,"選手",null,"№",null,"ポジション",null,null,"背番号",null,null,"C/A",null,"氏　　名",null,null,null,null,null,null,null,"氏名のよみがな",null,null,null,null,null,null,null,null,null,null,"No.","背番号","Pos","名前",null,null,"試合情報","対戦日","試合NO,","対戦チーム"]
[null,null,null,1,null,{"$f":"IF(AI16=\"\",\"\",AI16)","v":""},null,null,{"$f":"IF(AH16=\"\",\"\",AH16)","v":""},null,null,{"$f":"IFERROR(VLOOKUP(I16,'チーム情報(設定)'!$G$252:$K$276,3,FALSE),\"\")","v":""},null,{"$f":"IFERROR(VLOOKUP(I16,'チーム情報(設定)'!$G$252:$K$276,4,FALSE),\"\")","v":""},null,null,null,null,null,null,null,{"$f":"IFERROR(VLOOKUP(I16,'チーム情報(設定)'!$G$252:$K$276,5,FALSE),\"\")","v":""},null,null,null,null,null,null,null,null,null,null,1,null,{"$f":"IFERROR(VLOOKUP(AH16,'チーム情報(設定)'!$G$252:$K$273,2,FALSE),\"\")","v":""},{"$f":"IFERROR(VLOOKUP(AH16,'チーム情報(設定)'!$G$252:$K$273,4,FALSE),\"\")","v":""},null,null,1,{"$f":"IFERROR(VLOOKUP(AM16,'試合情報(設定)'!CA12:CE21,2,FALSE),\"\")","v":"令和5年12月9日(土)"},{"$f":"IFERROR(VLOOKUP(AN16,'試合情報(設定)'!CB12:CF21,2,FALSE),\"\")","v":"1回戦①"},{"$f":"IFERROR(VLOOKUP(AO16,'試合情報(設定)'!CC12:CG21,2,FALSE),\"\")","v":""}]
[null,null,null,2,null,{"$f":"IF(AI17=\"\",\"\",AI17)","v":""},null,null,{"$f":"IF(AH17=\"\",\"\",AH17)","v":""},null,null,{"$f":"IFERROR(VLOOKUP(I17,'チーム情報(設定)'!$G$252:$K$276,3,FALSE),\"\")","v":""},null,{"$f":"IFERROR(VLOOKUP(I17,'チーム情報(設定)'!$G$252:$K$276,4,FALSE),\"\")","v":""},null,null,null,null,null,null,null,{"$f":"IFERROR(VLOOKUP(I17,'チーム情報(設定)'!$G$252:$K$276,5,FALSE),\"\")","v":""},null,null,null,null,null,null,null,null,null,null,2,null,{"$f":"IFERROR(VLOOKUP(AH17,'チーム情報(設定)'!$G$252:$K$273,2,FALSE),\"\")","v":""},{"$f":"IFERROR(VLOOKUP(AH17,'チーム情報(設定)'!$G$252:$K$273,4,FALSE),\"\")","v":""},null,null,2,{"$f":"IFERROR(VLOOKUP(AM17,'試合情報(設定)'!CA13:CE22,2,FALSE),\"\")","v":"令和5年12月9日(土)"},{"$f":"IFERROR(VLOOKUP(AN17,'試合情報(設定)'!CB13:CF22,2,FALSE),\"\")","v":"1回戦②"},{"$f":"IFERROR(VLOOKUP(AO17,'試合情報(設定)'!CC13:CG22,2,FALSE),\"\")","v":""}]
[null,null,null,3,null,"",null,null,"",null,null,{"$f":"IFERROR(VLOOKUP(I18,'チーム情報(設定)'!$G$252:$K$276,3,FALSE),\"\")","v":""},null,{"$f":"IFERROR(VLOOKUP(I18,'チーム情報(設定)'!$G$252:$K$276,4,FALSE),\"\")","v":""},null,null,null,null,null,null,null,{"$f":"IFERROR(VLOOKUP(I18,'チーム情報(設定)'!$G$252:$K$276,5,FALSE),\"\")","v":""},null,null,null,null,null,null,null,null,null,null,3,null,{"$f":"IFERROR(VLOOKUP(AH18,'チーム情報(設定)'!$G$252:$K$273,2,FALSE),\"\")","v":""},{"$f":"IFERROR(VLOOKUP(AH18,'チーム情報(設定)'!$G$252:$K$273,4,FALSE),\"\")","v":""},null,null,3,{"$f":"IFERROR(VLOOKUP(AM18,'試合情報(設定)'!CA14:CE23,2,FALSE),\"\")","v":"令和5年12月9日(土)"},{"$f":"IFERROR(VLOOKUP(AN18,'試合情報(設定)'!CB14:CF23,2,FALSE),\"\")","v":"1回戦③"},{"$f":"IFERROR(VLOOKUP(AO18,'試合情報(設定)'!CC14:CG23,2,FALSE),\"\")","v":""}]
[null,null,null,4,null,"",null,null,"",null,null,{"$f":"IFERROR(VLOOKUP(I19,'チーム情報(設定)'!$G$252:$K$276,3,FALSE),\"\")","v":""},null,{"$f":"IFERROR(VLOOKUP(I19,'チーム情報(設定)'!$G$252:$K$276,4,FALSE),\"\")","v":""},null,null,null,null,null,null,null,{"$f":"IFERROR(VLOOKUP(I19,'チーム情報(設定)'!$G$252:$K$276,5,FALSE),\"\")","v":""},null,null,null,null,null,null,null,null,null,null,4,null,{"$f":"IFERROR(VLOOKUP(AH19,'チーム情報(設定)'!$G$252:$K$273,2,FALSE),\"\")","v":""},{"$f":"IFERROR(VLOOKUP(AH19,'チーム情報(設定)'!$G$252:$K$273,4,FALSE),\"\")","v":""},null,null,4,{"$f":"IFERROR(VLOOKUP(AM19,'試合情報(設定)'!CA15:CE24,2,FALSE),\"\")","v":"令和5年12月10日(日)"},{"$f":"IFERROR(VLOOKUP(AN19,'試合情報(設定)'!CB15:CF24,2,FALSE),\"\")","v":"2回戦④"},{"$f":"IFERROR(VLOOKUP(AO19,'試合情報(設定)'!CC15:CG24,2,FALSE),\"\")","v":""}]
[null,null,null,5,null,"",null,null,"",null,null,{"$f":"IFERROR(VLOOKUP(I20,'チーム情報(設定)'!$G$252:$K$276,3,FALSE),\"\")","v":""},null,{"$f":"IFERROR(VLOOKUP(I20,'チーム情報(設定)'!$G$252:$K$276,4,FALSE),\"\")","v":""},null,null,null,null,null,null,null,{"$f":"IFERROR(VLOOKUP(I20,'チーム情報(設定)'!$G$252:$K$276,5,FALSE),\"\")","v":""},null,null,null,null,null,null,null,null,null,null,5,null,{"$f":"IFERROR(VLOOKUP(AH20,'チーム情報(設定)'!$G$252:$K$273,2,FALSE),\"\")","v":""},{"$f":"IFERROR(VLOOKUP(AH20,'チーム情報(設定)'!$G$252:$K$273,4,FALSE),\"\")","v":""},null,null,5,{"$f":"IFERROR(VLOOKUP(AM20,'試合情報(設定)'!CA16:CE25,2,FALSE),\"\")","v":"令和5年12月10日(日)"},{"$f":"IFERROR(VLOOKUP(AN20,'試合情報(設定)'!CB16:CF25,2,FALSE),\"\")","v":"2回戦⑤"},{"$f":"IFERROR(VLOOKUP(AO20,'試合情報(設定)'!CC16:CG25,2,FALSE),\"\")","v":""}]
[null,null,null,6,null,"",null,null,"",null,null,{"$f":"IFERROR(VLOOKUP(I21,'チーム情報(設定)'!$G$252:$K$276,3,FALSE),\"\")","v":""},null,{"$f":"IFERROR(VLOOKUP(I21,'チーム情報(設定)'!$G$252:$K$276,4,FALSE),\"\")","v":""},null,null,null,null,null,null,null,{"$f":"IFERROR(VLOOKUP(I21,'チーム情報(設定)'!$G$252:$K$276,5,FALSE),\"\")","v":""},null,null,null,null,null,null,null,null,null,null,6,null,{"$f":"IFERROR(VLOOKUP(AH21,'チーム情報(設定)'!$G$252:$K$273,2,FALSE),\"\")","v":""},{"$f":"IFERROR(VLOOKUP(AH21,'チーム情報(設定)'!$G$252:$K$273,4,FALSE),\"\")","v":""},null,null,6,{"$f":"IFERROR(VLOOKUP(AM21,'試合情報(設定)'!CA17:CE26,2,FALSE),\"\")","v":"令和5年12月10日(日)"},{"$f":"IFERROR(VLOOKUP(AN21,'試合情報(設定)'!CB17:CF26,2,FALSE),\"\")","v":"2回戦⑥"},{"$f":"IFERROR(VLOOKUP(AO21,'試合情報(設定)'!CC17:CG26,2,FALSE),\"\")","v":""}]
[null,null,null,7,null,"",null,null,"",null,null,{"$f":"IFERROR(VLOOKUP(I22,'チーム情報(設定)'!$G$252:$K$276,3,FALSE),\"\")","v":""},null,{"$f":"IFERROR(VLOOKUP(I22,'チーム情報(設定)'!$G$252:$K$276,4,FALSE),\"\")","v":""},null,null,null,null,null,null,null,{"$f":"IFERROR(VLOOKUP(I22,'チーム情報(設定)'!$G$252:$K$276,5,FALSE),\"\")","v":""},null,null,null,null,null,null,null,null,null,null,7,null,{"$f":"IFERROR(VLOOKUP(AH22,'チーム情報(設定)'!$G$252:$K$273,2,FALSE),\"\")","v":""},{"$f":"IFERROR(VLOOKUP(AH22,'チーム情報(設定)'!$G$252:$K$273,4,FALSE),\"\")","v":""},null,null,7,{"$f":"IFERROR(VLOOKUP(AM22,'試合情報(設定)'!CA18:CE27,2,FALSE),\"\")","v":"令和5年12月10日(日)"},{"$f":"IFERROR(VLOOKUP(AN22,'試合情報(設定)'!CB18:CF27,2,FALSE),\"\")","v":"2回戦⑦"},{"$f":"IFERROR(VLOOKUP(AO22,'試合情報(設定)'!CC18:CG27,2,FALSE),\"\")","v":""}]
[null,null,null,8,null,"",null,null,"",null,null,{"$f":"IFERROR(VLOOKUP(I23,'チーム情報(設定)'!$G$252:$K$276,3,FALSE),\"\")","v":""},null,{"$f":"IFERROR(VLOOKUP(I23,'チーム情報(設定)'!$G$252:$K$276,4,FALSE),\"\")","v":""},null,null,null,null,null,null,null,{"$f":"IFERROR(VLOOKUP(I23,'チーム情報(設定)'!$G$252:$K$276,5,FALSE),\"\")","v":""},null,null,null,null,null,null,null,null,null,null,8,null,{"$f":"IFERROR(VLOOKUP(AH23,'チーム情報(設定)'!$G$252:$K$273,2,FALSE),\"\")","v":""},{"$f":"IFERROR(VLOOKUP(AH23,'チーム情報(設定)'!$G$252:$K$273,4,FALSE),\"\")","v":""},null,null,8,{"$f":"IFERROR(VLOOKUP(AM23,'試合情報(設定)'!CA19:CE28,2,FALSE),\"\")","v":"令和5年12月10日(日)"},{"$f":"IFERROR(VLOOKUP(AN23,'試合情報(設定)'!CB19:CF28,2,FALSE),\"\")","v":"準決勝⑧"},{"$f":"IFERROR(VLOOKUP(AO23,'試合情報(設定)'!CC19:CG28,2,FALSE),\"\")","v":""}]
[null,null,null,9,null,"",null,null,"",null,null,{"$f":"IFERROR(VLOOKUP(I24,'チーム情報(設定)'!$G$252:$K$276,3,FALSE),\"\")","v":""},null,{"$f":"IFERROR(VLOOKUP(I24,'チーム情報(設定)'!$G$252:$K$276,4,FALSE),\"\")","v":""},null,null,null,null,null,null,null,{"$f":"IFERROR(VLOOKUP(I24,'チーム情報(設定)'!$G$252:$K$276,5,FALSE),\"\")","v":""},null,null,null,null,null,null,null,null,null,null,9,null,{"$f":"IFERROR(VLOOKUP(AH24,'チーム情報(設定)'!$G$252:$K$273,2,FALSE),\"\")","v":""},{"$f":"IFERROR(VLOOKUP(AH24,'チーム情報(設定)'!$G$252:$K$273,4,FALSE),\"\")","v":""},null,null,9,{"$f":"IFERROR(VLOOKUP(AM24,'試合情報(設定)'!CA20:CE29,2,FALSE),\"\")","v":"令和5年12月10日(日)"},{"$f":"IFERROR(VLOOKUP(AN24,'試合情報(設定)'!CB20:CF29,2,FALSE),\"\")","v":"準決勝⑨"},{"$f":"IFERROR(VLOOKUP(AO24,'試合情報(設定)'!CC20:CG29,2,FALSE),\"\")","v":""}]
[null,null,null,10,null,"",null,null,"",null,null,{"$f":"IFERROR(VLOOKUP(I25,'チーム情報(設定)'!$G$252:$K$276,3,FALSE),\"\")","v":""},null,{"$f":"IFERROR(VLOOKUP(I25,'チーム情報(設定)'!$G$252:$K$276,4,FALSE),\"\")","v":""},null,null,null,null,null,null,null,{"$f":"IFERROR(VLOOKUP(I25,'チーム情報(設定)'!$G$252:$K$276,5,FALSE),\"\")","v":""},null,null,null,null,null,null,null,null,null,null,10,null,{"$f":"IFERROR(VLOOKUP(AH25,'チーム情報(設定)'!$G$252:$K$273,2,FALSE),\"\")","v":""},{"$f":"IFERROR(VLOOKUP(AH25,'チーム情報(設定)'!$G$252:$K$273,4,FALSE),\"\")","v":""},null,null,10,{"$f":"IFERROR(VLOOKUP(AM25,'試合情報(設定)'!CA21:CE30,2,FALSE),\"\")","v":"令和5年12月11日(月)"},{"$f":"IFERROR(VLOOKUP(AN25,'試合情報(設定)'!CB21:CF30,2,FALSE),\"\")","v":"第３代表決定戦⑩"},{"$f":"IFERROR(VLOOKUP(AO25,'試合情報(設定)'!CC21:CG30,2,FALSE),\"\")","v":""}]
[null,null,null,11,null,"",null,null,"",null,null,{"$f":"IFERROR(VLOOKUP(I26,'チーム情報(設定)'!$G$252:$K$276,3,FALSE),\"\")","v":""},null,{"$f":"IFERROR(VLOOKUP(I26,'チーム情報(設定)'!$G$252:$K$276,4,FALSE),\"\")","v":""},null,null,null,null,null,null,null,{"$f":"IFERROR(VLOOKUP(I26,'チーム情報(設定)'!$G$252:$K$276,5,FALSE),\"\")","v":""},null,null,null,null,null,null,null,null,null,null,11,null,{"$f":"IFERROR(VLOOKUP(AH26,'チーム情報(設定)'!$G$252:$K$273,2,FALSE),\"\")","v":""},{"$f":"IFERROR(VLOOKUP(AH26,'チーム情報(設定)'!$G$252:$K$273,4,FALSE),\"\")","v":""},null,null,11,{"$f":"IFERROR(VLOOKUP(AM26,'試合情報(設定)'!CA22:CE31,2,FALSE),\"\")","v":"令和5年12月11日(月)"},{"$f":"IFERROR(VLOOKUP(AN26,'試合情報(設定)'!CB22:CF31,2,FALSE),\"\")","v":"決勝⑪"},{"$f":"IFERROR(VLOOKUP(AO26,'試合情報(設定)'!CC22:CG31,2,FALSE),\"\")","v":""}]
[null,null,null,12,null,"",null,null,"",null,null,{"$f":"IFERROR(VLOOKUP(I27,'チーム情報(設定)'!$G$252:$K$276,3,FALSE),\"\")","v":""},null,{"$f":"IFERROR(VLOOKUP(I27,'チーム情報(設定)'!$G$252:$K$276,4,FALSE),\"\")","v":""},null,null,null,null,null,null,null,{"$f":"IFERROR(VLOOKUP(I27,'チーム情報(設定)'!$G$252:$K$276,5,FALSE),\"\")","v":""},null,null,null,null,null,null,null,null,null,null,12,null,{"$f":"IFERROR(VLOOKUP(AH27,'チーム情報(設定)'!$G$252:$K$273,2,FALSE),\"\")","v":""},{"$f":"IFERROR(VLOOKUP(AH27,'チーム情報(設定)'!$G$252:$K$273,4,FALSE),\"\")","v":""}]
[null,null,null,13,null,"",null,null,"",null,null,{"$f":"IFERROR(VLOOKUP(I28,'チーム情報(設定)'!$G$252:$K$276,3,FALSE),\"\")","v":""},null,{"$f":"IFERROR(VLOOKUP(I28,'チーム情報(設定)'!$G$252:$K$276,4,FALSE),\"\")","v":""},null,null,null,null,null,null,null,{"$f":"IFERROR(VLOOKUP(I28,'チーム情報(設定)'!$G$252:$K$276,5,FALSE),\"\")","v":""},null,null,null,null,null,null,null,null,null,null,13,null,{"$f":"IFERROR(VLOOKUP(AH28,'チーム情報(設定)'!$G$252:$K$273,2,FALSE),\"\")","v":""},{"$f":"IFERROR(VLOOKUP(AH28,'チーム情報(設定)'!$G$252:$K$273,4,FALSE),\"\")","v":""}]
[null,null,null,14,null,"",null,null,"",null,null,{"$f":"IFERROR(VLOOKUP(I29,'チーム情報(設定)'!$G$252:$K$276,3,FALSE),\"\")","v":""},null,{"$f":"IFERROR(VLOOKUP(I29,'チーム情報(設定)'!$G$252:$K$276,4,FALSE),\"\")","v":""},null,null,null,null,null,null,null,{"$f":"IFERROR(VLOOKUP(I29,'チーム情報(設定)'!$G$252:$K$276,5,FALSE),\"\")","v":""},null,null,null,null,null,null,null,null,null,null,14,null,{"$f":"IFERROR(VLOOKUP(AH29,'チーム情報(設定)'!$G$252:$K$273,2,FALSE),\"\")","v":""},{"$f":"IFERROR(VLOOKUP(AH29,'チーム情報(設定)'!$G$252:$K$273,4,FALSE),\"\")","v":""}]
[null,null,null,15,null,"",null,null,"",null,null,{"$f":"IFERROR(VLOOKUP(I30,'チーム情報(設定)'!$G$252:$K$276,3,FALSE),\"\")","v":""},null,{"$f":"IFERROR(VLOOKUP(I30,'チーム情報(設定)'!$G$252:$K$276,4,FALSE),\"\")","v":""},null,null,null,null,null,null,null,{"$f":"IFERROR(VLOOKUP(I30,'チーム情報(設定)'!$G$252:$K$276,5,FALSE),\"\")","v":""},null,null,null,null,null,null,null,null,null,null,15,null,{"$f":"IFERROR(VLOOKUP(AH30,'チーム情報(設定)'!$G$252:$K$273,2,FALSE),\"\")","v":""},{"$f":"IFERROR(VLOOKUP(AH30,'チーム情報(設定)'!$G$252:$K$273,4,FALSE),\"\")","v":""}]
[null,null,null,16,null,"",null,null,"",null,null,{"$f":"IFERROR(VLOOKUP(I31,'チーム情報(設定)'!$G$252:$K$276,3,FALSE),\"\")","v":""},null,{"$f":"IFERROR(VLOOKUP(I31,'チーム情報(設定)'!$G$252:$K$276,4,FALSE),\"\")","v":""},null,null,null,null,null,null,null,{"$f":"IFERROR(VLOOKUP(I31,'チーム情報(設定)'!$G$252:$K$276,5,FALSE),\"\")","v":""},null,null,null,null,null,null,null,null,null,null,16,null,{"$f":"IFERROR(VLOOKUP(AH31,'チーム情報(設定)'!$G$252:$K$273,2,FALSE),\"\")","v":""},{"$f":"IFERROR(VLOOKUP(AH31,'チーム情報(設定)'!$G$252:$K$273,4,FALSE),\"\")","v":""}]
[null,null,null,17,null,"",null,null,"",null,null,{"$f":"IFERROR(VLOOKUP(I32,'チーム情報(設定)'!$G$252:$K$276,3,FALSE),\"\")","v":""},null,{"$f":"IFERROR(VLOOKUP(I32,'チーム情報(設定)'!$G$252:$K$276,4,FALSE),\"\")","v":""},null,null,null,null,null,null,null,{"$f":"IFERROR(VLOOKUP(I32,'チーム情報(設定)'!$G$252:$K$276,5,FALSE),\"\")","v":""},null,null,null,null,null,null,null,null,null,null,17,null,{"$f":"IFERROR(VLOOKUP(AH32,'チーム情報(設定)'!$G$252:$K$273,2,FALSE),\"\")","v":""},{"$f":"IFERROR(VLOOKUP(AH32,'チーム情報(設定)'!$G$252:$K$273,4,FALSE),\"\")","v":""}]
[null,null,null,18,null,"",null,null,"",null,null,{"$f":"IFERROR(VLOOKUP(I33,'チーム情報(設定)'!$G$252:$K$276,3,FALSE),\"\")","v":""},null,{"$f":"IFERROR(VLOOKUP(I33,'チーム情報(設定)'!$G$252:$K$276,4,FALSE),\"\")","v":""},null,null,null,null,null,null,null,{"$f":"IFERROR(VLOOKUP(I33,'チーム情報(設定)'!$G$252:$K$276,5,FALSE),\"\")","v":""},null,null,null,null,null,null,null,null,null,null,18,null,{"$f":"IFERROR(VLOOKUP(AH33,'チーム情報(設定)'!$G$252:$K$273,2,FALSE),\"\")","v":""},{"$f":"IFERROR(VLOOKUP(AH33,'チーム情報(設定)'!$G$252:$K$273,4,FALSE),\"\")","v":""}]
[null,null,null,19,null,"",null,null,"",null,null,{"$f":"IFERROR(VLOOKUP(I34,'チーム情報(設定)'!$G$252:$K$276,3,FALSE),\"\")","v":""},null,{"$f":"IFERROR(VLOOKUP(I34,'チーム情報(設定)'!$G$252:$K$276,4,FALSE),\"\")","v":""},null,null,null,null,null,null,null,{"$f":"IFERROR(VLOOKUP(I34,'チーム情報(設定)'!$G$252:$K$276,5,FALSE),\"\")","v":""},null,null,null,null,null,null,null,null,null,null,19,null,{"$f":"IFERROR(VLOOKUP(AH34,'チーム情報(設定)'!$G$252:$K$273,2,FALSE),\"\")","v":""},{"$f":"IFERROR(VLOOKUP(AH34,'チーム情報(設定)'!$G$252:$K$273,4,FALSE),\"\")","v":""}]
[null,null,null,20,null,"",null,null,"",null,null,{"$f":"IFERROR(VLOOKUP(I35,'チーム情報(設定)'!$G$252:$K$276,3,FALSE),\"\")","v":""},null,{"$f":"IFERROR(VLOOKUP(I35,'チーム情報(設定)'!$G$252:$K$276,4,FALSE),\"\")","v":""},null,null,null,null,null,null,null,{"$f":"IFERROR(VLOOKUP(I35,'チーム情報(設定)'!$G$252:$K$276,5,FALSE),\"\")","v":""},null,null,null,null,null,null,null,null,null,null,20,null,{"$f":"IFERROR(VLOOKUP(AH35,'チーム情報(設定)'!$G$252:$K$273,2,FALSE),\"\")","v":""},{"$f":"IFERROR(VLOOKUP(AH35,'チーム情報(設定)'!$G$252:$K$273,4,FALSE),\"\")","v":""}]
[null,null,null,21,null,"",null,null,"",null,null,{"$f":"IFERROR(VLOOKUP(I36,'チーム情報(設定)'!$G$252:$K$276,3,FALSE),\"\")","v":""},null,{"$f":"IFERROR(VLOOKUP(I36,'チーム情報(設定)'!$G$252:$K$276,4,FALSE),\"\")","v":""},null,null,null,null,null,null,null,{"$f":"IFERROR(VLOOKUP(I36,'チーム情報(設定)'!$G$252:$K$276,5,FALSE),\"\")","v":""},null,null,null,null,null,null,null,null,null,null,21,null,{"$f":"IFERROR(VLOOKUP(AH36,'チーム情報(設定)'!$G$252:$K$273,2,FALSE),\"\")","v":""},{"$f":"IFERROR(VLOOKUP(AH36,'チーム情報(設定)'!$G$252:$K$273,4,FALSE),\"\")","v":""}]
[null,null,null,22,null,"",null,null,"",null,null,{"$f":"IFERROR(VLOOKUP(I37,'チーム情報(設定)'!$G$252:$K$276,3,FALSE),\"\")","v":""},null,{"$f":"IFERROR(VLOOKUP(I37,'チーム情報(設定)'!$G$252:$K$276,4,FALSE),\"\")","v":""},null,null,null,null,null,null,null,{"$f":"IFERROR(VLOOKUP(I37,'チーム情報(設定)'!$G$252:$K$276,5,FALSE),\"\")","v":""},null,null,null,null,null,null,null,null,null,null,22,null,{"$f":"IFERROR(VLOOKUP(AH37,'チーム情報(設定)'!$G$252:$K$273,2,FALSE),\"\")","v":""},{"$f":"IFERROR(VLOOKUP(AH37,'チーム情報(設定)'!$G$252:$K$273,4,FALSE),\"\")","v":""}]
[]
[null,"対戦日",null,null,null,{"$f":"IFERROR(VLOOKUP($AM$12,'試合情報(設定)'!CA12:CE22,2,FALSE),\"\")","v":""},null,null,null,null,null,null,null,"対戦チーム名",null,null,null,{"$f":"IFERROR(VLOOKUP($AM$12,'試合情報(設定)'!CA12:CE22,5,FALSE),\"\")","v":""}]
[]
[]
[]
[]
[]
[]
[]
[null,"　"]

{"sheet":"オールメンバー表(セット別1)","index":16,"n_rows":30,"n_cols":39,"rows_kept":30,"cut":false,"hidden":false,"merged":[[2,18,3,19],[4,18,5,19],[5,1,5,4],[5,5,5,7],[1,1,3,6],[1,8,1,9],[2,8,2,9],[4,11,5,14],[2,11,3,14],[3,8,5,9],[22,7,22,8],[13,7,13,8],[19,7,19,8],[14,7,14,8],[15,7,15,8],[16,7,16,8],[17,7,17,8],[18,7,18,8],[12,7,12,8],[0,8,0,9],[29,7,29,8],[23,7,23,8],[25,7,25,8],[26,7,26,8],[28,7,28,8],[27,7,27,8],[20,7,20,8],[24,7,24,8],[7,7,7,8],[8,7,8,8],[9,7,9,8],[10,7,10,8],[11,7,11,8],[21,7,21,8]]}
[null,"チーム：",null,null,null,null,null,null,{"$f":"'大会情報(設定)'!F9","v":"令和5年度　北海道中学校体育大会"}]
[null,{"$f":"'チーム情報(設定)'!D8&\"(\"&'チーム情報(設定)'!X8&\"）\"","v":"(）"},null,null,null,null,null,null,{"$f":"'大会情報(設定)'!F11","v":"第54回北海道中学校アイスホッケー大会"}]
[null,null,null,null,null,null,null,null,"オールメンバー表",null,null,"背番号１　(ファースト)",null,null,null,null,null,null,"試合情報\n(オールメンバー表出力)"]
[null,null,null,null,null,null,null,null,{"$f":"IFERROR(VLOOKUP($S$5,'試合情報(設定)'!$CA$12:$CE$22,5,FALSE),\"\")","v":""}]
[null,null,null,null,null,null,null,null,null,null,null,{"$f":"IF('チーム情報(設定)'!$E$38=\"\",\"\",'チーム情報(設定)'!$E$38)","v":""}]
[null,{"$f":"IFERROR(VLOOKUP($S$5,'試合情報(設定)'!$CA$12:$CE$22,2,FALSE),\"\")","v":""},null,null,null,"　　対戦チーム："]
[]
[null,"役　　　員",null,"№","位置","背番号","C/A","氏　　　　　名",null,"氏名のよみがな",null,"No.","位置","背番号","Pos","名前",null,null,"試合情報","対戦日","試合NO,","対戦チーム"]
[null,"監督",null,1,{"$f":"IF(M9=\"\",\"\",M9)","v":""},{"$f":"IF(N9=\"\",\"\",N9)","v":""},{"$f":"IFERROR(VLOOKUP(F9,'チーム情報(設定)'!$G$149:$K$173,3,FALSE),\"\")","v":""},{"$f":"IFERROR(VLOOKUP(F9,'チーム情報(設定)'!$G$149:$K$173,4,FALSE),\"\")","v":""},null,{"$f":"IFERROR(VLOOKUP(F9,'チーム情報(設定)'!$G$149:$K$173,5,FALSE),\"\")","v":""},null,1,null,null,{"$f":"IFERROR(VLOOKUP(N9,'チーム情報(設定)'!$G$149:$K$170,2,FALSE),\"\")","v":""},{"$f":"IFERROR(VLOOKUP(N9,'チーム情報(設定)'!$G$149:$K$170,4,FALSE),\"\")","v":""},null,null,1,{"$f":"IFERROR(VLOOKUP($S9,'試合情報(設定)'!$CA$12:$CE$22,2,FALSE),\"\")","v":"令和5年12月9日(土)"},{"$f":"IFERROR(VLOOKUP($S9,'試合情報(設定)'!$CA$12:$CE$22,3,FALSE),\"\")","v":"1回戦①"},{"$f":"IFERROR(VLOOKUP($S9,'試合情報(設定)'!$CA$12:$CE$22,4,FALSE),\"\")","v":""}]
[null,{"$f":"IF('チーム情報(設定)'!$C$28=\"\",\"\",'チーム情報(設定)'!$C$28)","v":""},null,2,{"$f":"IF(M10=\"\",\"\",M10)","v":""},{"$f":"IF(N10=\"\",\"\",N10)","v":""},{"$f":"IFERROR(VLOOKUP(F10,'チーム情報(設定)'!$G$149:$K$173,3,FALSE),\"\")","v":""},{"$f":"IFERROR(VLOOKUP(F10,'チーム情報(設定)'!$G$149:$K$173,4,FALSE),\"\")","v":""},null,{"$f":"IFERROR(VLOOKUP(F10,'チーム情報(設定)'!$G$149:$K$173,5,FALSE),\"\")","v":""},null,2,null,null,{"$f":"IFERROR(VLOOKUP(N10,'チーム情報(設定)'!$G$149:$K$170,2,FALSE),\"\")","v":""},{"$f":"IFERROR(VLOOKUP(N10,'チーム情報(設定)'!$G$149:$K$170,4,FALSE),\"\")","v":""},null,null,2,{"$f":"IFERROR(VLOOKUP($S10,'試合情報(設定)'!$CA$12:$CE$22,2,FALSE),\"\")","v":"令和5年12月9日(土)"},{"$f":"IFERROR(VLOOKUP($S10,'試合情報(設定)'!$CA$12:$CE$22,3,FALSE),\"\")","v":"1回戦②"},{"$f":"IFERROR(VLOOKUP($S10,'試合情報(設定)'!$CA$12:$CE$22,4,FALSE),\"\")","v":""}]
[null,{"$f":"IF('チーム情報(設定)'!$B$29=\"\",\"\",'チーム情報(設定)'!$B$29)","v":""},null,3,"","",{"$f":"IFERROR(VLOOKUP(F11,'チーム情報(設定)'!$G$149:$K$173,3,FALSE),\"\")","v":""},{"$f":"IFERROR(VLOOKUP(F11,'チーム情報(設定)'!$G$149:$K$173,4,FALSE),\"\")","v":""},null,{"$f":"IFERROR(VLOOKUP(F11,'チーム情報(設定)'!$G$149:$K$173,5,FALSE),\"\")","v":""},null,3,null,null,{"$f":"IFERROR(VLOOKUP(N11,'チーム情報(設定)'!$G$149:$K$170,2,FALSE),\"\")","v":""},{"$f":"IFERROR(VLOOKUP(N11,'チーム情報(設定)'!$G$149:$K$170,4,FALSE),\"\")","v":""},null,null,3,{"$f":"IFERROR(VLOOKUP($S11,'試合情報(設定)'!$CA$12:$CE$22,2,FALSE),\"\")","v":"令和5年12月9日(土)"},{"$f":"IFERROR(VLOOKUP($S11,'試合情報(設定)'!$CA$12:$CE$22,3,FALSE),\"\")","v":"1回戦③"},{"$f":"IFERROR(VLOOKUP($S11,'試合情報(設定)'!$CA$12:$CE$22,4,FALSE),\"\")","v":""}]
[null,{"$f":"IF('チーム情報(設定)'!$C29=\"\",\"\",'チーム情報(設定)'!$C29)","v":""},null,4,"","",{"$f":"IFERROR(VLOOKUP(F12,'チーム情報(設定)'!$G$149:$K$173,3,FALSE),\"\")","v":""},{"$f":"IFERROR(VLOOKUP(F12,'チーム情報(設定)'!$G$149:$K$173,4,FALSE),\"\")","v":""},null,{"$f":"IFERROR(VLOOKUP(F12,'チーム情報(設定)'!$G$149:$K$173,5,FALSE),\"\")","v":""},null,4,null,null,{"$f":"IFERROR(VLOOKUP(N12,'チーム情報(設定)'!$G$149:$K$170,2,FALSE),\"\")","v":""},{"$f":"IFERROR(VLOOKUP(N12,'チーム情報(設定)'!$G$149:$K$170,4,FALSE),\"\")","v":""},null,null,4,{"$f":"IFERROR(VLOOKUP($S12,'試合情報(設定)'!$CA$12:$CE$22,2,FALSE),\"\")","v":"令和5年12月10日(日)"},{"$f":"IFERROR(VLOOKUP($S12,'試合情報(設定)'!$CA$12:$CE$22,3,FALSE),\"\")","v":"2回戦④"},{"$f":"IFERROR(VLOOKUP($S12,'試合情報(設定)'!$CA$12:$CE$22,4,FALSE),\"\")","v":""},null,null,null,null,null,null,null,null,null,null,null,null,null,null,null,null,3]
[null,{"$f":"IF('チーム情報(設定)'!$B$30=\"\",\"\",'チーム情報(設定)'!$B$30)","v":""},null,5,"","",{"$f":"IFERROR(VLOOKUP(F13,'チーム情報(設定)'!$G$149:$K$173,3,FALSE),\"\")","v":""},{"$f":"IFERROR(VLOOKUP(F13,'チーム情報(設定)'!$G$149:$K$173,4,FALSE),\"\")","v":""},null,{"$f":"IFERROR(VLOOKUP(F13,'チーム情報(設定)'!$G$149:$K$173,5,FALSE),\"\")","v":""},null,5,null,null,{"$f":"IFERROR(VLOOKUP(N13,'チーム情報(設定)'!$G$149:$K$170,2,FALSE),\"\")","v":""},{"$f":"IFERROR(VLOOKUP(N13,'チーム情報(設定)'!$G$149:$K$170,4,FALSE),\"\")","v":""},null,null,5,{"$f":"IFERROR(VLOOKUP($S13,'試合情報(設定)'!$CA$12:$CE$22,2,FALSE),\"\")","v":"令和5年12月10日(日)"},{"$f":"IFERROR(VLOOKUP($S13,'試合情報(設定)'!$CA$12:$CE$22,3,FALSE),\"\")","v":"2回戦⑤"},{"$f":"IFERROR(VLOOKUP($S13,'試合情報(設定)'!$CA$12:$CE$22,4,FALSE),\"\")","v":""}]
[null,{"$f":"IF('チーム情報(設定)'!$C30=\"\",\"\",'チーム情報(設定)'!$C30)","v":""},null,6,"","",{"$f":"IFERROR(VLOOKUP(F14,'チーム情報(設定)'!$G$149:$K$173,3,FALSE),\"\")","v":""},{"$f":"IFERROR(VLOOKUP(F14,'チーム情報(設定)'!$G$149:$K$173,4,FALSE),\"\")","v":""},null,{"$f":"IFERROR(VLOOKUP(F14,'チーム情報(設定)'!$G$149:$K$173,5,FALSE),\"\")","v":""},null,6,null,null,{"$f":"IFERROR(VLOOKUP(N14,'チーム情報(設定)'!$G$149:$K$170,2,FALSE),\"\")","v":""},{"$f":"IFERROR(VLOOKUP(N14,'チーム情報(設定)'!$G$149:$K$170,4,FALSE),\"\")","v":""},null,null,6,{"$f":"IFERROR(VLOOKUP($S14,'試合情報(設定)'!$CA$12:$CE$22,2,FALSE),\"\")","v":"令和5年12月10日(日)"},{"$f":"IFERROR(VLOOKUP($S14,'試合情報(設定)'!$CA$12:$CE$22,3,FALSE),\"\")","v":"2回戦⑥"},{"$f":"IFERROR(VLOOKUP($S14,'試合情報(設定)'!$CA$12:$CE$22,4,FALSE),\"\")","v":""}]
[null,{"$f":"IF('チーム情報(設定)'!$B$31=\"\",\"\",'チーム情報(設定)'!$B$31)","v":""},null,7,"","",{"$f":"IFERROR(VLOOKUP(F15,'チーム情報(設定)'!$G$149:$K$173,3,FALSE),\"\")","v":""},{"$f":"IFERROR(VLOOKUP(F15,'チーム情報(設定)'!$G$149:$K$173,4,FALSE),\"\")","v":""},null,{"$f":"IFERROR(VLOOKUP(F15,'チーム情報(設定)'!$G$149:$K$173,5,FALSE),\"\")","v":""},null,7,null,null,{"$f":"IFERROR(VLOOKUP(N15,'チーム情報(設定)'!$G$149:$K$170,2,FALSE),\"\")","v":""},{"$f":"IFERROR(VLOOKUP(N15,'チーム情報(設定)'!$G$149:$K$170,4,FALSE),\"\")","v":""},null,null,7,{"$f":"IFERROR(VLOOKUP($S15,'試合情報(設定)'!$CA$12:$CE$22,2,FALSE),\"\")","v":"令和5年12月10日(日)"},{"$f":"IFERROR(VLOOKUP($S15,'試合情報(設定)'!$CA$12:$CE$22,3,FALSE),\"\")","v":"2回戦⑦"},{"$f":"IFERROR(VLOOKUP($S15,'試合情報(設定)'!$CA$12:$CE$22,4,FALSE),\"\")","v":""}]
[null,{"$f":"IF('チーム情報(設定)'!$C31=\"\",\"\",'チーム情報(設定)'!$C31)","v":""},null,8,"","",{"$f":"IFERROR(VLOOKUP(F16,'チーム情報(設定)'!$G$149:$K$173,3,FALSE),\"\")","v":""},{"$f":"IFERROR(VLOOKUP(F16,'チーム情報(設定)'!$G$149:$K$173,4,FALSE),\"\")","v":""},null,{"$f":"IFERROR(VLOOKUP(F16,'チーム情報(設定)'!$G$149:$K$173,5,FALSE),\"\")","v":""},null,8,null,null,{"$f":"IFERROR(VLOOKUP(N16,'チーム情報(設定)'!$G$149:$K$170,2,FALSE),\"\")","v":""},{"$f":"IFERROR(VLOOKUP(N16,'チーム情報(設定)'!$G$149:$K$170,4,FALSE),\"\")","v":""},null,null,8,{"$f":"IFERROR(VLOOKUP($S16,'試合情報(設定)'!$CA$12:$CE$22,2,FALSE),\"\")","v":"令和5年12月10日(日)"},{"$f":"IFERROR(VLOOKUP($S16,'試合情報(設定)'!$CA$12:$CE$22,3,FALSE),\"\")","v":"準決勝⑧"},{"$f":"IFERROR(VLOOKUP($S16,'試合情報(設定)'!$CA$12:$CE$22,4,FALSE),\"\")","v":""}]
[null,{"$f":"IF('チーム情報(設定)'!$B$32=\"\",\"\",'チーム情報(設定)'!$B$32)","v":""},null,9,"","",{"$f":"IFERROR(VLOOKUP(F17,'チーム情報(設定)'!$G$149:$K$173,3,FALSE),\"\")","v":""},{"$f":"IFERROR(VLOOKUP(F17,'チーム情報(設定)'!$G$149:$K$173,4,FALSE),\"\")","v":""},null,{"$f":"IFERROR(VLOOKUP(F17,'チーム情報(設定)'!$G$149:$K$173,5,FALSE),\"\")","v":""},null,9,null,null,{"$f":"IFERROR(VLOOKUP(N17,'チーム情報(設定)'!$G$149:$K$170,2,FALSE),\"\")","v":""},{"$f":"IFERROR(VLOOKUP(N17,'チーム情報(設定)'!$G$149:$K$170,4,FALSE),\"\")","v":""},null,null,9,{"$f":"IFERROR(VLOOKUP($S17,'試合情報(設定)'!$CA$12:$CE$22,2,FALSE),\"\")","v":"令和5年12月10日(日)"},{"$f":"IFERROR(VLOOKUP($S17,'試合情報(設定)'!$CA$12:$CE$22,3,FALSE),\"\")","v":"準決勝⑨"},{"$f":"IFERROR(VLOOKUP($S17,'試合情報(設定)'!$CA$12:$CE$22,4,FALSE),\"\")","v":""}]
[null,{"$f":"IF('チーム情報(設定)'!$C32=\"\",\"\",'チーム情報(設定)'!$C32)","v":""},null,10,"","",{"$f":"IFERROR(VLOOKUP(F18,'チーム情報(設定)'!$G$149:$K$173,3,FALSE),\"\")","v":""},{"$f":"IFERROR(VLOOKUP(F18,'チーム情報(設定)'!$G$149:$K$173,4,FALSE),\"\")","v":""},null,{"$f":"IFERROR(VLOOKUP(F18,'チーム情報(設定)'!$G$149:$K$173,5,FALSE),\"\")","v":""},null,10,null,null,{"$f":"IFERROR(VLOOKUP(N18,'チーム情報(設定)'!$G$149:$K$170,2,FALSE),\"\")","v":""},{"$f":"IFERROR(VLOOKUP(N18,'チーム情報(設定)'!$G$149:$K$170,4,FALSE),\"\")","v":""},null,null,10,{"$f":"IFERROR(VLOOKUP($S18,'試合情報(設定)'!$CA$12:$CE$22,2,FALSE),\"\")","v":"令和5年12月11日(月)"},{"$f":"IFERROR(VLOOKUP($S18,'試合情報(設定)'!$CA$12:$CE$22,3,FALSE),\"\")","v":"第３代表決定戦⑩"},{"$f":"IFERROR(VLOOKUP($S18,'試合情報(設定)'!$CA$12:$CE$22,4,FALSE),\"\")","v":""}]
[null,null,null,11,"","",{"$f":"IFERROR(VLOOKUP(F19,'チーム情報(設定)'!$G$149:$K$173,3,FALSE),\"\")","v":""},{"$f":"IFERROR(VLOOKUP(F19,'チーム情報(設定)'!$G$149:$K$173,4,FALSE),\"\")","v":""},null,{"$f":"IFERROR(VLOOKUP(F19,'チーム情報(設定)'!$G$149:$K$173,5,FALSE),\"\")","v":""},null,11,null,null,{"$f":"IFERROR(VLOOKUP(N19,'チーム情報(設定)'!$G$149:$K$170,2,FALSE),\"\")","v":""},{"$f":"IFERROR(VLOOKUP(N19,'チーム情報(設定)'!$G$149:$K$170,4,FALSE),\"\")","v":""},null,null,11,{"$f":"IFERROR(VLOOKUP($S19,'試合情報(設定)'!$CA$12:$CE$22,2,FALSE),\"\")","v":"令和5年12月11日(月)"},{"$f":"IFERROR(VLOOKUP($S19,'試合情報(設定)'!$CA$12:$CE$22,3,FALSE),\"\")","v":"決勝⑪"},{"$f":"IFERROR(VLOOKUP($S19,'試合情報(設定)'!$CA$12:$CE$22,4,FALSE),\"\")","v":""}]
[null,null,null,12,"","",{"$f":"IFERROR(VLOOKUP(F20,'チーム情報(設定)'!$G$149:$K$173,3,FALSE),\"\")","v":""},{"$f":"IFERROR(VLOOKUP(F20,'チーム情報(設定)'!$G$149:$K$173,4,FALSE),\"\")","v":""},null,{"$f":"IFERROR(VLOOKUP(F20,'チーム情報(設定)'!$G$149:$K$173,5,FALSE),\"\")","v":""},null,12,null,null,{"$f":"IFERROR(VLOOKUP(N20,'チーム情報(設定)'!$G$149:$K$170,2,FALSE),\"\")","v":""},{"$f":"IFERROR(VLOOKUP(N20,'チーム情報(設定)'!$G$149:$K$170,4,FALSE),\"\")","v":""}]
[null,null,null,13,"","",{"$f":"IFERROR(VLOOKUP(F21,'チーム情報(設定)'!$G$149:$K$173,3,FALSE),\"\")","v":""},{"$f":"IFERROR(VLOOKUP(F21,'チーム情報(設定)'!$G$149:$K$173,4,FALSE),\"\")","v":""},null,{"$f":"IFERROR(VLOOKUP(F21,'チーム情報(設定)'!$G$149:$K$173,5,FALSE),\"\")","v":""},null,13,null,null,{"$f":"IFERROR(VLOOKUP(N21,'チーム情報(設定)'!$G$149:$K$170,2,FALSE),\"\")","v":""},{"$f":"IFERROR(VLOOKUP(N21,'チーム情報(設定)'!$G$149:$K$170,4,FALSE),\"\")","v":""}]
[null,null,null,14,"","",{"$f":"IFERROR(VLOOKUP(F22,'チーム情報(設定)'!$G$149:$K$173,3,FALSE),\"\")","v":""},{"$f":"IFERROR(VLOOKUP(F22,'チーム情報(設定)'!$G$149:$K$173,4,FALSE),\"\")","v":""},null,{"$f":"IFERROR(VLOOKUP(F22,'チーム情報(設定)'!$G$149:$K$173,5,FALSE),\"\")","v":""},null,14,null,null,{"$f":"IFERROR(VLOOKUP(N22,'チーム情報(設定)'!$G$149:$K$170,2,FALSE),\"\")","v":""},{"$f":"IFERROR(VLOOKUP(N22,'チーム情報(設定)'!$G$149:$K$170,4,FALSE),\"\")","v":""}]
[null,null,null,15,"","",{"$f":"IFERROR(VLOOKUP(F23,'チーム情報(設定)'!$G$149:$K$173,3,FALSE),\"\")","v":""},{"$f":"IFERROR(VLOOKUP(F23,'チーム情報(設定)'!$G$149:$K$173,4,FALSE),\"\")","v":""},null,{"$f":"IFERROR(VLOOKUP(F23,'チーム情報(設定)'!$G$149:$K$173,5,FALSE),\"\")","v":""},null,15,null,null,{"$f":"IFERROR(VLOOKUP(N23,'チーム情報(設定)'!$G$149:$K$170,2,FALSE),\"\")","v":""},{"$f":"IFERROR(VLOOKUP(N23,'チーム情報(設定)'!$G$149:$K$170,4,FALSE),\"\")","v":""}]
[null,null,null,16,"","",{"$f":"IFERROR(VLOOKUP(F24,'チーム情報(設定)'!$G$149:$K$173,3,FALSE),\"\")","v":""},{"$f":"IFERROR(VLOOKUP(F24,'チーム情報(設定)'!$G$149:$K$173,4,FALSE),\"\")","v":""},null,{"$f":"IFERROR(VLOOKUP(F24,'チーム情報(設定)'!$G$149:$K$173,5,FALSE),\"\")","v":""},null,16,null,null,{"$f":"IFERROR(VLOOKUP(N24,'チーム情報(設定)'!$G$149:$K$170,2,FALSE),\"\")","v":""},{"$f":"IFERROR(VLOOKUP(N24,'チーム情報(設定)'!$G$149:$K$170,4,FALSE),\"\")","v":""}]
[null,null,null,17,"","",{"$f":"IFERROR(VLOOKUP(F25,'チーム情報(設定)'!$G$149:$K$173,3,FALSE),\"\")","v":""},{"$f":"IFERROR(VLOOKUP(F25,'チーム情報(設定)'!$G$149:$K$173,4,FALSE),\"\")","v":""},null,{"$f":"IFERROR(VLOOKUP(F25,'チーム情報(設定)'!$G$149:$K$173,5,FALSE),\"\")","v":""},null,17,null,null,{"$f":"IFERROR(VLOOKUP(N25,'チーム情報(設定)'!$G$149:$K$170,2,FALSE),\"\")","v":""},{"$f":"IFERROR(VLOOKUP(N25,'チーム情報(設定)'!$G$149:$K$170,4,FALSE),\"\")","v":""}]
[null,null,null,18,"","",{"$f":"IFERROR(VLOOKUP(F26,'チーム情報(設定)'!$G$149:$K$173,3,FALSE),\"\")","v":""},{"$f":"IFERROR(VLOOKUP(F26,'チーム情報(設定)'!$G$149:$K$173,4,FALSE),\"\")","v":""},null,{"$f":"IFERROR(VLOOKUP(F26,'チーム情報(設定)'!$G$149:$K$173,5,FALSE),\"\")","v":""},null,18,null,null,{"$f":"IFERROR(VLOOKUP(N26,'チーム情報(設定)'!$G$149:$K$170,2,FALSE),\"\")","v":""},{"$f":"IFERROR(VLOOKUP(N26,'チーム情報(設定)'!$G$149:$K$170,4,FALSE),\"\")","v":""}]
[null,null,null,19,"","",{"$f":"IFERROR(VLOOKUP(F27,'チーム情報(設定)'!$G$149:$K$173,3,FALSE),\"\")","v":""},{"$f":"IFERROR(VLOOKUP(F27,'チーム情報(設定)'!$G$149:$K$173,4,FALSE),\"\")","v":""},null,{"$f":"IFERROR(VLOOKUP(F27,'チーム情報(設定)'!$G$149:$K$173,5,FALSE),\"\")","v":""},null,19,null,null,{"$f":"IFERROR(VLOOKUP(N27,'チーム情報(設定)'!$G$149:$K$170,2,FALSE),\"\")","v":""},{"$f":"IFERROR(VLOOKUP(N27,'チーム情報(設定)'!$G$149:$K$170,4,FALSE),\"\")","v":""}]
[null,null,null,20,"","",{"$f":"IFERROR(VLOOKUP(F28,'チーム情報(設定)'!$G$149:$K$173,3,FALSE),\"\")","v":""},{"$f":"IFERROR(VLOOKUP(F28,'チーム情報(設定)'!$G$149:$K$173,4,FALSE),\"\")","v":""},null,{"$f":"IFERROR(VLOOKUP(F28,'チーム情報(設定)'!$G$149:$K$173,5,FALSE),\"\")","v":""},null,20,null,null,{"$f":"IFERROR(VLOOKUP(N28,'チーム情報(設定)'!$G$149:$K$170,2,FALSE),\"\")","v":""},{"$f":"IFERROR(VLOOKUP(N28,'チーム情報(設定)'!$G$149:$K$170,4,FALSE),\"\")","v":""}]
[null,null,null,21,"","",{"$f":"IFERROR(VLOOKUP(F29,'チーム情報(設定)'!$G$149:$K$173,3,FALSE),\"\")","v":""},{"$f":"IFERROR(VLOOKUP(F29,'チーム情報(設定)'!$G$149:$K$173,4,FALSE),\"\")","v":""},null,{"$f":"IFERROR(VLOOKUP(F29,'チーム情報(設定)'!$G$149:$K$173,5,FALSE),\"\")","v":""},null,21,null,null,{"$f":"IFERROR(VLOOKUP(N29,'チーム情報(設定)'!$G$149:$K$170,2,FALSE),\"\")","v":""},{"$f":"IFERROR(VLOOKUP(N29,'チーム情報(設定)'!$G$149:$K$170,4,FALSE),\"\")","v":""}]
[null,null,null,22,"","",{"$f":"IFERROR(VLOOKUP(F30,'チーム情報(設定)'!$G$149:$K$173,3,FALSE),\"\")","v":""},{"$f":"IFERROR(VLOOKUP(F30,'チーム情報(設定)'!$G$149:$K$173,4,FALSE),\"\")","v":""},null,{"$f":"IFERROR(VLOOKUP(F30,'チーム情報(設定)'!$G$149:$K$173,5,FALSE),\"\")","v":""},null,22,null,null,{"$f":"IFERROR(VLOOKUP(N30,'チーム情報(設定)'!$G$149:$K$170,2,FALSE),\"\")","v":""},{"$f":"IFERROR(VLOOKUP(N30,'チーム情報(設定)'!$G$149:$K$170,4,FALSE),\"\")","v":""}]

{"sheet":"オールメンバー表(セット別2)","index":17,"n_rows":30,"n_cols":22,"rows_kept":30,"cut":false,"hidden":false,"merged":[[29,7,29,8],[18,7,18,8],[19,7,19,8],[20,7,20,8],[21,7,21,8],[22,7,22,8],[23,7,23,8],[24,7,24,8],[25,7,25,8],[26,7,26,8],[27,7,27,8],[28,7,28,8],[17,7,17,8],[5,5,5,7],[7,7,7,8],[8,7,8,8],[9,7,9,8],[10,7,10,8],[11,7,11,8],[12,7,12,8],[13,7,13,8],[14,7,14,8],[15,7,15,8],[16,7,16,8],[0,8,0,9],[1,1,3,6],[1,8,1,9],[2,8,2,9],[2,11,3,14],[2,18,3,19],[3,8,5,9],[4,11,5,14],[4,18,5,19],[5,1,5,4]]}
[null,"チーム：",null,null,null,null,null,null,{"$f":"'大会情報(設定)'!F9","v":"令和5年度　北海道中学校体育大会"}]
[null,{"$f":"'チーム情報(設定)'!D8&\"(\"&'チーム情報(設定)'!X8&\"）\"","v":"(）"},null,null,null,null,null,null,{"$f":"'大会情報(設定)'!F11","v":"第54回北海道中学校アイスホッケー大会"}]
[null,null,null,null,null,null,null,null,"オールメンバー表",null,null,"背番号２　(セカンド)",null,null,null,null,null,null,"試合情報\n(オールメンバー表出力)"]
[null,null,null,null,null,null,null,null,{"$f":"IFERROR(VLOOKUP($S$5,'試合情報(設定)'!$CA$12:$CE$22,5,FALSE),\"\")","v":""}]
[null,null,null,null,null,null,null,null,null,null,null,{"$f":"IF('チーム情報(設定)'!$G$38=\"\",\"\",'チーム情報(設定)'!$G$38)","v":""}]
[null,{"$f":"IFERROR(VLOOKUP($S$5,'試合情報(設定)'!$CA$12:$CE$22,2,FALSE),\"\")","v":""},null,null,null,"　　対戦チーム："]
[]
[null,"役　　　員",null,"№","位置","背番号","C/A","氏　　　　　名",null,"氏名のよみがな",null,"No.","位置","背番号","Pos","名前",null,null,"試合情報","対戦日","試合NO,","対戦チーム"]
[null,"監督",null,1,{"$f":"IF(M9=\"\",\"\",M9)","v":""},{"$f":"IF(N9=\"\",\"\",N9)","v":""},{"$f":"IFERROR(VLOOKUP(F9,'チーム情報(設定)'!$G$252:$K$276,3,FALSE),\"\")","v":""},{"$f":"IFERROR(VLOOKUP(F9,'チーム情報(設定)'!$G$252:$K$276,4,FALSE),\"\")","v":""},null,{"$f":"IFERROR(VLOOKUP(F9,'チーム情報(設定)'!$G$252:$K$276,5,FALSE),\"\")","v":""},null,1,null,null,{"$f":"IFERROR(VLOOKUP(N9,'チーム情報(設定)'!$G$252:$K$273,2,FALSE),\"\")","v":""},{"$f":"IFERROR(VLOOKUP(N9,'チーム情報(設定)'!$G$252:$K$273,4,FALSE),\"\")","v":""},null,null,1,{"$f":"IFERROR(VLOOKUP($S9,'試合情報(設定)'!$CA$12:$CE$22,2,FALSE),\"\")","v":"令和5年12月9日(土)"},{"$f":"IFERROR(VLOOKUP($S9,'試合情報(設定)'!$CA$12:$CE$22,3,FALSE),\"\")","v":"1回戦①"},{"$f":"IFERROR(VLOOKUP($S9,'試合情報(設定)'!$CA$12:$CE$22,4,FALSE),\"\")","v":""}]
[null,{"$f":"IF('チーム情報(設定)'!$C$28=\"\",\"\",'チーム情報(設定)'!$C$28)","v":""},null,2,{"$f":"IF(M10=\"\",\"\",M10)","v":""},{"$f":"IF(N10=\"\",\"\",N10)","v":""},{"$f":"IFERROR(VLOOKUP(F10,'チーム情報(設定)'!$G$252:$K$276,3,FALSE),\"\")","v":""},{"$f":"IFERROR(VLOOKUP(F10,'チーム情報(設定)'!$G$252:$K$276,4,FALSE),\"\")","v":""},null,{"$f":"IFERROR(VLOOKUP(F10,'チーム情報(設定)'!$G$252:$K$276,5,FALSE),\"\")","v":""},null,2,null,null,{"$f":"IFERROR(VLOOKUP(N10,'チーム情報(設定)'!$G$252:$K$273,2,FALSE),\"\")","v":""},{"$f":"IFERROR(VLOOKUP(N10,'チーム情報(設定)'!$G$252:$K$273,4,FALSE),\"\")","v":""},null,null,2,{"$f":"IFERROR(VLOOKUP($S10,'試合情報(設定)'!$CA$12:$CE$22,2,FALSE),\"\")","v":"令和5年12月9日(土)"},{"$f":"IFERROR(VLOOKUP($S10,'試合情報(設定)'!$CA$12:$CE$22,3,FALSE),\"\")","v":"1回戦②"},{"$f":"IFERROR(VLOOKUP($S10,'試合情報(設定)'!$CA$12:$CE$22,4,FALSE),\"\")","v":""}]
[null,{"$f":"IF('チーム情報(設定)'!$B$29=\"\",\"\",'チーム情報(設定)'!$B$29)","v":""},null,3,"","",{"$f":"IFERROR(VLOOKUP(F11,'チーム情報(設定)'!$G$252:$K$276,3,FALSE),\"\")","v":""},{"$f":"IFERROR(VLOOKUP(F11,'チーム情報(設定)'!$G$252:$K$276,4,FALSE),\"\")","v":""},null,{"$f":"IFERROR(VLOOKUP(F11,'チーム情報(設定)'!$G$252:$K$276,5,FALSE),\"\")","v":""},null,3,null,null,{"$f":"IFERROR(VLOOKUP(N11,'チーム情報(設定)'!$G$252:$K$273,2,FALSE),\"\")","v":""},{"$f":"IFERROR(VLOOKUP(N11,'チーム情報(設定)'!$G$252:$K$273,4,FALSE),\"\")","v":""},null,null,3,{"$f":"IFERROR(VLOOKUP($S11,'試合情報(設定)'!$CA$12:$CE$22,2,FALSE),\"\")","v":"令和5年12月9日(土)"},{"$f":"IFERROR(VLOOKUP($S11,'試合情報(設定)'!$CA$12:$CE$22,3,FALSE),\"\")","v":"1回戦③"},{"$f":"IFERROR(VLOOKUP($S11,'試合情報(設定)'!$CA$12:$CE$22,4,FALSE),\"\")","v":""}]
[null,{"$f":"IF('チーム情報(設定)'!$C29=\"\",\"\",'チーム情報(設定)'!$C29)","v":""},null,4,"","",{"$f":"IFERROR(VLOOKUP(F12,'チーム情報(設定)'!$G$252:$K$276,3,FALSE),\"\")","v":""},{"$f":"IFERROR(VLOOKUP(F12,'チーム情報(設定)'!$G$252:$K$276,4,FALSE),\"\")","v":""},null,{"$f":"IFERROR(VLOOKUP(F12,'チーム情報(設定)'!$G$252:$K$276,5,FALSE),\"\")","v":""},null,4,null,null,{"$f":"IFERROR(VLOOKUP(N12,'チーム情報(設定)'!$G$252:$K$273,2,FALSE),\"\")","v":""},{"$f":"IFERROR(VLOOKUP(N12,'チーム情報(設定)'!$G$252:$K$273,4,FALSE),\"\")","v":""},null,null,4,{"$f":"IFERROR(VLOOKUP($S12,'試合情報(設定)'!$CA$12:$CE$22,2,FALSE),\"\")","v":"令和5年12月10日(日)"},{"$f":"IFERROR(VLOOKUP($S12,'試合情報(設定)'!$CA$12:$CE$22,3,FALSE),\"\")","v":"2回戦④"},{"$f":"IFERROR(VLOOKUP($S12,'試合情報(設定)'!$CA$12:$CE$22,4,FALSE),\"\")","v":""}]
[null,{"$f":"IF('チーム情報(設定)'!$B$30=\"\",\"\",'チーム情報(設定)'!$B$30)","v":""},null,5,"","",{"$f":"IFERROR(VLOOKUP(F13,'チーム情報(設定)'!$G$252:$K$276,3,FALSE),\"\")","v":""},{"$f":"IFERROR(VLOOKUP(F13,'チーム情報(設定)'!$G$252:$K$276,4,FALSE),\"\")","v":""},null,{"$f":"IFERROR(VLOOKUP(F13,'チーム情報(設定)'!$G$252:$K$276,5,FALSE),\"\")","v":""},null,5,null,null,{"$f":"IFERROR(VLOOKUP(N13,'チーム情報(設定)'!$G$252:$K$273,2,FALSE),\"\")","v":""},{"$f":"IFERROR(VLOOKUP(N13,'チーム情報(設定)'!$G$252:$K$273,4,FALSE),\"\")","v":""},null,null,5,{"$f":"IFERROR(VLOOKUP($S13,'試合情報(設定)'!$CA$12:$CE$22,2,FALSE),\"\")","v":"令和5年12月10日(日)"},{"$f":"IFERROR(VLOOKUP($S13,'試合情報(設定)'!$CA$12:$CE$22,3,FALSE),\"\")","v":"2回戦⑤"},{"$f":"IFERROR(VLOOKUP($S13,'試合情報(設定)'!$CA$12:$CE$22,4,FALSE),\"\")","v":""}]
[null,{"$f":"IF('チーム情報(設定)'!$C30=\"\",\"\",'チーム情報(設定)'!$C30)","v":""},null,6,"","",{"$f":"IFERROR(VLOOKUP(F14,'チーム情報(設定)'!$G$252:$K$276,3,FALSE),\"\")","v":""},{"$f":"IFERROR(VLOOKUP(F14,'チーム情報(設定)'!$G$252:$K$276,4,FALSE),\"\")","v":""},null,{"$f":"IFERROR(VLOOKUP(F14,'チーム情報(設定)'!$G$252:$K$276,5,FALSE),\"\")","v":""},null,6,null,null,{"$f":"IFERROR(VLOOKUP(N14,'チーム情報(設定)'!$G$252:$K$273,2,FALSE),\"\")","v":""},{"$f":"IFERROR(VLOOKUP(N14,'チーム情報(設定)'!$G$252:$K$273,4,FALSE),\"\")","v":""},null,null,6,{"$f":"IFERROR(VLOOKUP($S14,'試合情報(設定)'!$CA$12:$CE$22,2,FALSE),\"\")","v":"令和5年12月10日(日)"},{"$f":"IFERROR(VLOOKUP($S14,'試合情報(設定)'!$CA$12:$CE$22,3,FALSE),\"\")","v":"2回戦⑥"},{"$f":"IFERROR(VLOOKUP($S14,'試合情報(設定)'!$CA$12:$CE$22,4,FALSE),\"\")","v":""}]
[null,{"$f":"IF('チーム情報(設定)'!$B$31=\"\",\"\",'チーム情報(設定)'!$B$31)","v":""},null,7,"","",{"$f":"IFERROR(VLOOKUP(F15,'チーム情報(設定)'!$G$252:$K$276,3,FALSE),\"\")","v":""},{"$f":"IFERROR(VLOOKUP(F15,'チーム情報(設定)'!$G$252:$K$276,4,FALSE),\"\")","v":""},null,{"$f":"IFERROR(VLOOKUP(F15,'チーム情報(設定)'!$G$252:$K$276,5,FALSE),\"\")","v":""},null,7,null,null,{"$f":"IFERROR(VLOOKUP(N15,'チーム情報(設定)'!$G$252:$K$273,2,FALSE),\"\")","v":""},{"$f":"IFERROR(VLOOKUP(N15,'チーム情報(設定)'!$G$252:$K$273,4,FALSE),\"\")","v":""},null,null,7,{"$f":"IFERROR(VLOOKUP($S15,'試合情報(設定)'!$CA$12:$CE$22,2,FALSE),\"\")","v":"令和5年12月10日(日)"},{"$f":"IFERROR(VLOOKUP($S15,'試合情報(設定)'!$CA$12:$CE$22,3,FALSE),\"\")","v":"2回戦⑦"},{"$f":"IFERROR(VLOOKUP($S15,'試合情報(設定)'!$CA$12:$CE$22,4,FALSE),\"\")","v":""}]
[null,{"$f":"IF('チーム情報(設定)'!$C31=\"\",\"\",'チーム情報(設定)'!$C31)","v":""},null,8,"","",{"$f":"IFERROR(VLOOKUP(F16,'チーム情報(設定)'!$G$252:$K$276,3,FALSE),\"\")","v":""},{"$f":"IFERROR(VLOOKUP(F16,'チーム情報(設定)'!$G$252:$K$276,4,FALSE),\"\")","v":""},null,{"$f":"IFERROR(VLOOKUP(F16,'チーム情報(設定)'!$G$252:$K$276,5,FALSE),\"\")","v":""},null,8,null,null,{"$f":"IFERROR(VLOOKUP(N16,'チーム情報(設定)'!$G$252:$K$273,2,FALSE),\"\")","v":""},{"$f":"IFERROR(VLOOKUP(N16,'チーム情報(設定)'!$G$252:$K$273,4,FALSE),\"\")","v":""},null,null,8,{"$f":"IFERROR(VLOOKUP($S16,'試合情報(設定)'!$CA$12:$CE$22,2,FALSE),\"\")","v":"令和5年12月10日(日)"},{"$f":"IFERROR(VLOOKUP($S16,'試合情報(設定)'!$CA$12:$CE$22,3,FALSE),\"\")","v":"準決勝⑧"},{"$f":"IFERROR(VLOOKUP($S16,'試合情報(設定)'!$CA$12:$CE$22,4,FALSE),\"\")","v":""}]
[null,{"$f":"IF('チーム情報(設定)'!$B$32=\"\",\"\",'チーム情報(設定)'!$B$32)","v":""},null,9,"","",{"$f":"IFERROR(VLOOKUP(F17,'チーム情報(設定)'!$G$252:$K$276,3,FALSE),\"\")","v":""},{"$f":"IFERROR(VLOOKUP(F17,'チーム情報(設定)'!$G$252:$K$276,4,FALSE),\"\")","v":""},null,{"$f":"IFERROR(VLOOKUP(F17,'チーム情報(設定)'!$G$252:$K$276,5,FALSE),\"\")","v":""},null,9,null,null,{"$f":"IFERROR(VLOOKUP(N17,'チーム情報(設定)'!$G$252:$K$273,2,FALSE),\"\")","v":""},{"$f":"IFERROR(VLOOKUP(N17,'チーム情報(設定)'!$G$252:$K$273,4,FALSE),\"\")","v":""},null,null,9,{"$f":"IFERROR(VLOOKUP($S17,'試合情報(設定)'!$CA$12:$CE$22,2,FALSE),\"\")","v":"令和5年12月10日(日)"},{"$f":"IFERROR(VLOOKUP($S17,'試合情報(設定)'!$CA$12:$CE$22,3,FALSE),\"\")","v":"準決勝⑨"},{"$f":"IFERROR(VLOOKUP($S17,'試合情報(設定)'!$CA$12:$CE$22,4,FALSE),\"\")","v":""}]
[null,{"$f":"IF('チーム情報(設定)'!$C32=\"\",\"\",'チーム情報(設定)'!$C32)","v":""},null,10,"","",{"$f":"IFERROR(VLOOKUP(F18,'チーム情報(設定)'!$G$252:$K$276,3,FALSE),\"\")","v":""},{"$f":"IFERROR(VLOOKUP(F18,'チーム情報(設定)'!$G$252:$K$276,4,FALSE),\"\")","v":""},null,{"$f":"IFERROR(VLOOKUP(F18,'チーム情報(設定)'!$G$252:$K$276,5,FALSE),\"\")","v":""},null,10,null,null,{"$f":"IFERROR(VLOOKUP(N18,'チーム情報(設定)'!$G$252:$K$273,2,FALSE),\"\")","v":""},{"$f":"IFERROR(VLOOKUP(N18,'チーム情報(設定)'!$G$252:$K$273,4,FALSE),\"\")","v":""},null,null,10,{"$f":"IFERROR(VLOOKUP($S18,'試合情報(設定)'!$CA$12:$CE$22,2,FALSE),\"\")","v":"令和5年12月11日(月)"},{"$f":"IFERROR(VLOOKUP($S18,'試合情報(設定)'!$CA$12:$CE$22,3,FALSE),\"\")","v":"第３代表決定戦⑩"},{"$f":"IFERROR(VLOOKUP($S18,'試合情報(設定)'!$CA$12:$CE$22,4,FALSE),\"\")","v":""}]
[null,null,null,11,"","",{"$f":"IFERROR(VLOOKUP(F19,'チーム情報(設定)'!$G$252:$K$276,3,FALSE),\"\")","v":""},{"$f":"IFERROR(VLOOKUP(F19,'チーム情報(設定)'!$G$252:$K$276,4,FALSE),\"\")","v":""},null,{"$f":"IFERROR(VLOOKUP(F19,'チーム情報(設定)'!$G$252:$K$276,5,FALSE),\"\")","v":""},null,11,null,null,{"$f":"IFERROR(VLOOKUP(N19,'チーム情報(設定)'!$G$252:$K$273,2,FALSE),\"\")","v":""},{"$f":"IFERROR(VLOOKUP(N19,'チーム情報(設定)'!$G$252:$K$273,4,FALSE),\"\")","v":""},null,null,11,{"$f":"IFERROR(VLOOKUP($S19,'試合情報(設定)'!$CA$12:$CE$22,2,FALSE),\"\")","v":"令和5年12月11日(月)"},{"$f":"IFERROR(VLOOKUP($S19,'試合情報(設定)'!$CA$12:$CE$22,3,FALSE),\"\")","v":"決勝⑪"},{"$f":"IFERROR(VLOOKUP($S19,'試合情報(設定)'!$CA$12:$CE$22,4,FALSE),\"\")","v":""}]
[null,null,null,12,"","",{"$f":"IFERROR(VLOOKUP(F20,'チーム情報(設定)'!$G$252:$K$276,3,FALSE),\"\")","v":""},{"$f":"IFERROR(VLOOKUP(F20,'チーム情報(設定)'!$G$252:$K$276,4,FALSE),\"\")","v":""},null,{"$f":"IFERROR(VLOOKUP(F20,'チーム情報(設定)'!$G$252:$K$276,5,FALSE),\"\")","v":""},null,12,null,null,{"$f":"IFERROR(VLOOKUP(N20,'チーム情報(設定)'!$G$252:$K$273,2,FALSE),\"\")","v":""},{"$f":"IFERROR(VLOOKUP(N20,'チーム情報(設定)'!$G$252:$K$273,4,FALSE),\"\")","v":""}]
[null,null,null,13,"","",{"$f":"IFERROR(VLOOKUP(F21,'チーム情報(設定)'!$G$252:$K$276,3,FALSE),\"\")","v":""},{"$f":"IFERROR(VLOOKUP(F21,'チーム情報(設定)'!$G$252:$K$276,4,FALSE),\"\")","v":""},null,{"$f":"IFERROR(VLOOKUP(F21,'チーム情報(設定)'!$G$252:$K$276,5,FALSE),\"\")","v":""},null,13,null,null,{"$f":"IFERROR(VLOOKUP(N21,'チーム情報(設定)'!$G$252:$K$273,2,FALSE),\"\")","v":""},{"$f":"IFERROR(VLOOKUP(N21,'チーム情報(設定)'!$G$252:$K$273,4,FALSE),\"\")","v":""}]
[null,null,null,14,"","",{"$f":"IFERROR(VLOOKUP(F22,'チーム情報(設定)'!$G$252:$K$276,3,FALSE),\"\")","v":""},{"$f":"IFERROR(VLOOKUP(F22,'チーム情報(設定)'!$G$252:$K$276,4,FALSE),\"\")","v":""},null,{"$f":"IFERROR(VLOOKUP(F22,'チーム情報(設定)'!$G$252:$K$276,5,FALSE),\"\")","v":""},null,14,null,null,{"$f":"IFERROR(VLOOKUP(N22,'チーム情報(設定)'!$G$252:$K$273,2,FALSE),\"\")","v":""},{"$f":"IFERROR(VLOOKUP(N22,'チーム情報(設定)'!$G$252:$K$273,4,FALSE),\"\")","v":""}]
[null,null,null,15,"","",{"$f":"IFERROR(VLOOKUP(F23,'チーム情報(設定)'!$G$252:$K$276,3,FALSE),\"\")","v":""},{"$f":"IFERROR(VLOOKUP(F23,'チーム情報(設定)'!$G$252:$K$276,4,FALSE),\"\")","v":""},null,{"$f":"IFERROR(VLOOKUP(F23,'チーム情報(設定)'!$G$252:$K$276,5,FALSE),\"\")","v":""},null,15,null,null,{"$f":"IFERROR(VLOOKUP(N23,'チーム情報(設定)'!$G$252:$K$273,2,FALSE),\"\")","v":""},{"$f":"IFERROR(VLOOKUP(N23,'チーム情報(設定)'!$G$252:$K$273,4,FALSE),\"\")","v":""}]
[null,null,null,16,"","",{"$f":"IFERROR(VLOOKUP(F24,'チーム情報(設定)'!$G$252:$K$276,3,FALSE),\"\")","v":""},{"$f":"IFERROR(VLOOKUP(F24,'チーム情報(設定)'!$G$252:$K$276,4,FALSE),\"\")","v":""},null,{"$f":"IFERROR(VLOOKUP(F24,'チーム情報(設定)'!$G$252:$K$276,5,FALSE),\"\")","v":""},null,16,null,null,{"$f":"IFERROR(VLOOKUP(N24,'チーム情報(設定)'!$G$252:$K$273,2,FALSE),\"\")","v":""},{"$f":"IFERROR(VLOOKUP(N24,'チーム情報(設定)'!$G$252:$K$273,4,FALSE),\"\")","v":""}]
[null,null,null,17,"","",{"$f":"IFERROR(VLOOKUP(F25,'チーム情報(設定)'!$G$252:$K$276,3,FALSE),\"\")","v":""},{"$f":"IFERROR(VLOOKUP(F25,'チーム情報(設定)'!$G$252:$K$276,4,FALSE),\"\")","v":""},null,{"$f":"IFERROR(VLOOKUP(F25,'チーム情報(設定)'!$G$252:$K$276,5,FALSE),\"\")","v":""},null,17,null,null,{"$f":"IFERROR(VLOOKUP(N25,'チーム情報(設定)'!$G$252:$K$273,2,FALSE),\"\")","v":""},{"$f":"IFERROR(VLOOKUP(N25,'チーム情報(設定)'!$G$252:$K$273,4,FALSE),\"\")","v":""}]
[null,null,null,18,"","",{"$f":"IFERROR(VLOOKUP(F26,'チーム情報(設定)'!$G$252:$K$276,3,FALSE),\"\")","v":""},{"$f":"IFERROR(VLOOKUP(F26,'チーム情報(設定)'!$G$252:$K$276,4,FALSE),\"\")","v":""},null,{"$f":"IFERROR(VLOOKUP(F26,'チーム情報(設定)'!$G$252:$K$276,5,FALSE),\"\")","v":""},null,18,null,null,{"$f":"IFERROR(VLOOKUP(N26,'チーム情報(設定)'!$G$252:$K$273,2,FALSE),\"\")","v":""},{"$f":"IFERROR(VLOOKUP(N26,'チーム情報(設定)'!$G$252:$K$273,4,FALSE),\"\")","v":""}]
[null,null,null,19,"","",{"$f":"IFERROR(VLOOKUP(F27,'チーム情報(設定)'!$G$252:$K$276,3,FALSE),\"\")","v":""},{"$f":"IFERROR(VLOOKUP(F27,'チーム情報(設定)'!$G$252:$K$276,4,FALSE),\"\")","v":""},null,{"$f":"IFERROR(VLOOKUP(F27,'チーム情報(設定)'!$G$252:$K$276,5,FALSE),\"\")","v":""},null,19,null,null,{"$f":"IFERROR(VLOOKUP(N27,'チーム情報(設定)'!$G$252:$K$273,2,FALSE),\"\")","v":""},{"$f":"IFERROR(VLOOKUP(N27,'チーム情報(設定)'!$G$252:$K$273,4,FALSE),\"\")","v":""}]
[null,null,null,20,"","",{"$f":"IFERROR(VLOOKUP(F28,'チーム情報(設定)'!$G$252:$K$276,3,FALSE),\"\")","v":""},{"$f":"IFERROR(VLOOKUP(F28,'チーム情報(設定)'!$G$252:$K$276,4,FALSE),\"\")","v":""},null,{"$f":"IFERROR(VLOOKUP(F28,'チーム情報(設定)'!$G$252:$K$276,5,FALSE),\"\")","v":""},null,20,null,null,{"$f":"IFERROR(VLOOKUP(N28,'チーム情報(設定)'!$G$252:$K$273,2,FALSE),\"\")","v":""},{"$f":"IFERROR(VLOOKUP(N28,'チーム情報(設定)'!$G$252:$K$273,4,FALSE),\"\")","v":""}]
[null,null,null,21,"","",{"$f":"IFERROR(VLOOKUP(F29,'チーム情報(設定)'!$G$252:$K$276,3,FALSE),\"\")","v":""},{"$f":"IFERROR(VLOOKUP(F29,'チーム情報(設定)'!$G$252:$K$276,4,FALSE),\"\")","v":""},null,{"$f":"IFERROR(VLOOKUP(F29,'チーム情報(設定)'!$G$252:$K$276,5,FALSE),\"\")","v":""},null,21,null,null,{"$f":"IFERROR(VLOOKUP(N29,'チーム情報(設定)'!$G$252:$K$273,2,FALSE),\"\")","v":""},{"$f":"IFERROR(VLOOKUP(N29,'チーム情報(設定)'!$G$252:$K$273,4,FALSE),\"\")","v":""}]
[null,null,null,22,"","",{"$f":"IFERROR(VLOOKUP(F30,'チーム情報(設定)'!$G$252:$K$276,3,FALSE),\"\")","v":""},{"$f":"IFERROR(VLOOKUP(F30,'チーム情報(設定)'!$G$252:$K$276,4,FALSE),\"\")","v":""},null,{"$f":"IFERROR(VLOOKUP(F30,'チーム情報(設定)'!$G$252:$K$276,5,FALSE),\"\")","v":""},null,22,null,null,{"$f":"IFERROR(VLOOKUP(N30,'チーム情報(設定)'!$G$252:$K$273,2,FALSE),\"\")","v":""},{"$f":"IFERROR(VLOOKUP(N30,'チーム情報(設定)'!$G$252:$K$273,4,FALSE),\"\")","v":""}]

{"sheet":"単独校プロ用","index":18,"n_rows":30,"n_cols":9,"rows_kept":30,"cut":false,"hidden":true,"merged":[[3,0,4,3],[5,0,5,3],[0,0,0,8],[1,0,1,3],[2,0,2,3],[6,6,7,6],[6,7,7,7],[6,8,7,8],[6,0,7,0],[6,1,7,1],[6,2,6,3],[6,4,7,4],[6,5,7,5]]}
[{"$f":"#REF!&#REF!","v":{"$error":"#REF!"}}]
[" 監　 　督 ",null,null,null,null,null,{"$f":"#REF!&\"\"","v":{"$error":"#REF!"}}]
["コ　ー　チ",null,null,null,null,null,{"$f":"#REF!&\"\"","v":{"$error":"#REF!"}}]
["マネージャー",null,null,null,null,null,{"$f":"#REF!&\"\"","v":{"$error":"#REF!"}}]
[null,null,null,null,null,null,{"$f":"#REF!&\"\"","v":{"$error":"#REF!"}}]
["主　　　将"]
["NO.","位置","背番号",null,"C/A",null,"選 手 氏 名",null,"学年"]
[null,null,"1st","2nd"]
[1,{"$f":"#REF!&\"\"","v":{"$error":"#REF!"}},{"$f":"#REF!&\"\"","v":{"$error":"#REF!"}},{"$f":"#REF!&\"\"","v":{"$error":"#REF!"}},{"$f":"#REF!&\"\"","v":{"$error":"#REF!"}},null,{"$f":"#REF!&\"\"","v":{"$error":"#REF!"}},null,{"$f":"#REF!&\"\"","v":{"$error":"#REF!"}}]
[2,{"$f":"#REF!&\"\"","v":{"$error":"#REF!"}},{"$f":"#REF!&\"\"","v":{"$error":"#REF!"}},{"$f":"#REF!&\"\"","v":{"$error":"#REF!"}},{"$f":"#REF!&\"\"","v":{"$error":"#REF!"}},null,{"$f":"#REF!&\"\"","v":{"$error":"#REF!"}},null,{"$f":"#REF!&\"\"","v":{"$error":"#REF!"}}]
[3,{"$f":"#REF!&\"\"","v":{"$error":"#REF!"}},{"$f":"#REF!&\"\"","v":{"$error":"#REF!"}},{"$f":"#REF!&\"\"","v":{"$error":"#REF!"}},{"$f":"#REF!&\"\"","v":{"$error":"#REF!"}},null,{"$f":"#REF!&\"\"","v":{"$error":"#REF!"}},null,{"$f":"#REF!&\"\"","v":{"$error":"#REF!"}}]
[4,{"$f":"#REF!&\"\"","v":{"$error":"#REF!"}},{"$f":"#REF!&\"\"","v":{"$error":"#REF!"}},{"$f":"#REF!&\"\"","v":{"$error":"#REF!"}},{"$f":"#REF!&\"\"","v":{"$error":"#REF!"}},null,{"$f":"#REF!&\"\"","v":{"$error":"#REF!"}},null,{"$f":"#REF!&\"\"","v":{"$error":"#REF!"}}]
[5,{"$f":"#REF!&\"\"","v":{"$error":"#REF!"}},{"$f":"#REF!&\"\"","v":{"$error":"#REF!"}},{"$f":"#REF!&\"\"","v":{"$error":"#REF!"}},{"$f":"#REF!&\"\"","v":{"$error":"#REF!"}},null,{"$f":"#REF!&\"\"","v":{"$error":"#REF!"}},null,{"$f":"#REF!&\"\"","v":{"$error":"#REF!"}}]
[6,{"$f":"#REF!&\"\"","v":{"$error":"#REF!"}},{"$f":"#REF!&\"\"","v":{"$error":"#REF!"}},{"$f":"#REF!&\"\"","v":{"$error":"#REF!"}},{"$f":"#REF!&\"\"","v":{"$error":"#REF!"}},null,{"$f":"#REF!&\"\"","v":{"$error":"#REF!"}},null,{"$f":"#REF!&\"\"","v":{"$error":"#REF!"}}]
[7,{"$f":"#REF!&\"\"","v":{"$error":"#REF!"}},{"$f":"#REF!&\"\"","v":{"$error":"#REF!"}},{"$f":"#REF!&\"\"","v":{"$error":"#REF!"}},{"$f":"#REF!&\"\"","v":{"$error":"#REF!"}},null,{"$f":"#REF!&\"\"","v":{"$error":"#REF!"}},null,{"$f":"#REF!&\"\"","v":{"$error":"#REF!"}}]
[8,{"$f":"#REF!&\"\"","v":{"$error":"#REF!"}},{"$f":"#REF!&\"\"","v":{"$error":"#REF!"}},{"$f":"#REF!&\"\"","v":{"$error":"#REF!"}},{"$f":"#REF!&\"\"","v":{"$error":"#REF!"}},null,{"$f":"#REF!&\"\"","v":{"$error":"#REF!"}},null,{"$f":"#REF!&\"\"","v":{"$error":"#REF!"}}]
[9,{"$f":"#REF!&\"\"","v":{"$error":"#REF!"}},{"$f":"#REF!&\"\"","v":{"$error":"#REF!"}},{"$f":"#REF!&\"\"","v":{"$error":"#REF!"}},{"$f":"#REF!&\"\"","v":{"$error":"#REF!"}},null,{"$f":"#REF!&\"\"","v":{"$error":"#REF!"}},null,{"$f":"#REF!&\"\"","v":{"$error":"#REF!"}}]
[10,{"$f":"#REF!&\"\"","v":{"$error":"#REF!"}},{"$f":"#REF!&\"\"","v":{"$error":"#REF!"}},{"$f":"#REF!&\"\"","v":{"$error":"#REF!"}},{"$f":"#REF!&\"\"","v":{"$error":"#REF!"}},null,{"$f":"#REF!&\"\"","v":{"$error":"#REF!"}},null,{"$f":"#REF!&\"\"","v":{"$error":"#REF!"}}]
[11,{"$f":"#REF!&\"\"","v":{"$error":"#REF!"}},{"$f":"#REF!&\"\"","v":{"$error":"#REF!"}},{"$f":"#REF!&\"\"","v":{"$error":"#REF!"}},{"$f":"#REF!&\"\"","v":{"$error":"#REF!"}},null,{"$f":"#REF!&\"\"","v":{"$error":"#REF!"}},null,{"$f":"#REF!&\"\"","v":{"$error":"#REF!"}}]
[12,{"$f":"#REF!&\"\"","v":{"$error":"#REF!"}},{"$f":"#REF!&\"\"","v":{"$error":"#REF!"}},{"$f":"#REF!&\"\"","v":{"$error":"#REF!"}},{"$f":"#REF!&\"\"","v":{"$error":"#REF!"}},null,{"$f":"#REF!&\"\"","v":{"$error":"#REF!"}},null,{"$f":"#REF!&\"\"","v":{"$error":"#REF!"}}]
[13,{"$f":"#REF!&\"\"","v":{"$error":"#REF!"}},{"$f":"#REF!&\"\"","v":{"$error":"#REF!"}},{"$f":"#REF!&\"\"","v":{"$error":"#REF!"}},{"$f":"#REF!&\"\"","v":{"$error":"#REF!"}},null,{"$f":"#REF!&\"\"","v":{"$error":"#REF!"}},null,{"$f":"#REF!&\"\"","v":{"$error":"#REF!"}}]
[14,{"$f":"#REF!&\"\"","v":{"$error":"#REF!"}},{"$f":"#REF!&\"\"","v":{"$error":"#REF!"}},{"$f":"#REF!&\"\"","v":{"$error":"#REF!"}},{"$f":"#REF!&\"\"","v":{"$error":"#REF!"}},null,{"$f":"#REF!&\"\"","v":{"$error":"#REF!"}},null,{"$f":"#REF!&\"\"","v":{"$error":"#REF!"}}]
[15,{"$f":"#REF!&\"\"","v":{"$error":"#REF!"}},{"$f":"#REF!&\"\"","v":{"$error":"#REF!"}},{"$f":"#REF!&\"\"","v":{"$error":"#REF!"}},{"$f":"#REF!&\"\"","v":{"$error":"#REF!"}},null,{"$f":"#REF!&\"\"","v":{"$error":"#REF!"}},null,{"$f":"#REF!&\"\"","v":{"$error":"#REF!"}}]
[16,{"$f":"#REF!&\"\"","v":{"$error":"#REF!"}},{"$f":"#REF!&\"\"","v":{"$error":"#REF!"}},{"$f":"#REF!&\"\"","v":{"$error":"#REF!"}},{"$f":"#REF!&\"\"","v":{"$error":"#REF!"}},null,{"$f":"#REF!&\"\"","v":{"$error":"#REF!"}},null,{"$f":"#REF!&\"\"","v":{"$error":"#REF!"}}]
[17,{"$f":"#REF!&\"\"","v":{"$error":"#REF!"}},{"$f":"#REF!&\"\"","v":{"$error":"#REF!"}},{"$f":"#REF!&\"\"","v":{"$error":"#REF!"}},{"$f":"#REF!&\"\"","v":{"$error":"#REF!"}},null,{"$f":"#REF!&\"\"","v":{"$error":"#REF!"}},null,{"$f":"#REF!&\"\"","v":{"$error":"#REF!"}}]
[18,{"$f":"#REF!&\"\"","v":{"$error":"#REF!"}},{"$f":"#REF!&\"\"","v":{"$error":"#REF!"}},{"$f":"#REF!&\"\"","v":{"$error":"#REF!"}},{"$f":"#REF!&\"\"","v":{"$error":"#REF!"}},null,{"$f":"#REF!&\"\"","v":{"$error":"#REF!"}},null,{"$f":"#REF!&\"\"","v":{"$error":"#REF!"}}]
[19,{"$f":"#REF!&\"\"","v":{"$error":"#REF!"}},{"$f":"#REF!&\"\"","v":{"$error":"#REF!"}},{"$f":"#REF!&\"\"","v":{"$error":"#REF!"}},{"$f":"#REF!&\"\"","v":{"$error":"#REF!"}},null,{"$f":"#REF!&\"\"","v":{"$error":"#REF!"}},null,{"$f":"#REF!&\"\"","v":{"$error":"#REF!"}}]
[20,{"$f":"#REF!&\"\"","v":{"$error":"#REF!"}},{"$f":"#REF!&\"\"","v":{"$error":"#REF!"}},{"$f":"#REF!&\"\"","v":{"$error":"#REF!"}},{"$f":"#REF!&\"\"","v":{"$error":"#REF!"}},null,{"$f":"#REF!&\"\"","v":{"$error":"#REF!"}},null,{"$f":"#REF!&\"\"","v":{"$error":"#REF!"}}]
[21,{"$f":"#REF!&\"\"","v":{"$error":"#REF!"}},{"$f":"#REF!&\"\"","v":{"$error":"#REF!"}},{"$f":"#REF!&\"\"","v":{"$error":"#REF!"}},{"$f":"#REF!&\"\"","v":{"$error":"#REF!"}},null,{"$f":"#REF!&\"\"","v":{"$error":"#REF!"}},null,{"$f":"#REF!&\"\"","v":{"$error":"#REF!"}}]
[22,{"$f":"#REF!&\"\"","v":{"$error":"#REF!"}},{"$f":"#REF!&\"\"","v":{"$error":"#REF!"}},{"$f":"#REF!&\"\"","v":{"$error":"#REF!"}},{"$f":"#REF!&\"\"","v":{"$error":"#REF!"}},null,{"$f":"#REF!&\"\"","v":{"$error":"#REF!"}},null,{"$f":"#REF!&\"\"","v":{"$error":"#REF!"}}]

{"sheet":"合同プロ用","index":19,"n_rows":30,"n_cols":9,"rows_kept":30,"cut":false,"hidden":true,"merged":[[0,0,0,8],[1,0,1,3],[2,0,2,3],[3,0,4,3],[5,0,5,3],[6,8,7,8],[6,5,7,5],[6,7,7,7],[6,0,7,0],[6,1,7,1],[6,2,6,3],[6,4,7,4],[6,6,7,6]]}
[{"$f":"#REF!&#REF!","v":{"$error":"#REF!"}}]
[" 監　 　督 ",null,null,null,null,null,{"$f":"#REF!&\"\"","v":{"$error":"#REF!"}}]
["コ　ー　チ",null,null,null,null,null,{"$f":"#REF!&\"\"","v":{"$error":"#REF!"}}]
["マネージャー",null,null,null,null,null,{"$f":"#REF!&\"\"","v":{"$error":"#REF!"}}]
[null,null,null,null,null,null,{"$f":"#REF!&\"\"","v":{"$error":"#REF!"}}]
["主　　　将"]
["NO.","位置","背番号",null,"C/A",null,"選 手 氏 名",null,"学年"]
[null,null,"1st","2nd"]
[1,{"$f":"#REF!&\"\"","v":{"$error":"#REF!"}},{"$f":"#REF!&\"\"","v":{"$error":"#REF!"}},{"$f":"#REF!&\"\"","v":{"$error":"#REF!"}},{"$f":"#REF!&\"\"","v":{"$error":"#REF!"}},null,{"$f":"#REF!&\"\"","v":{"$error":"#REF!"}},null,{"$f":"#REF!&\"\"","v":{"$error":"#REF!"}}]
[2,{"$f":"#REF!&\"\"","v":{"$error":"#REF!"}},{"$f":"#REF!&\"\"","v":{"$error":"#REF!"}},{"$f":"#REF!&\"\"","v":{"$error":"#REF!"}},{"$f":"#REF!&\"\"","v":{"$error":"#REF!"}},null,{"$f":"#REF!&\"\"","v":{"$error":"#REF!"}},null,{"$f":"#REF!&\"\"","v":{"$error":"#REF!"}}]
[3,{"$f":"#REF!&\"\"","v":{"$error":"#REF!"}},{"$f":"#REF!&\"\"","v":{"$error":"#REF!"}},{"$f":"#REF!&\"\"","v":{"$error":"#REF!"}},{"$f":"#REF!&\"\"","v":{"$error":"#REF!"}},null,{"$f":"#REF!&\"\"","v":{"$error":"#REF!"}},null,{"$f":"#REF!&\"\"","v":{"$error":"#REF!"}}]
[4,{"$f":"#REF!&\"\"","v":{"$error":"#REF!"}},{"$f":"#REF!&\"\"","v":{"$error":"#REF!"}},{"$f":"#REF!&\"\"","v":{"$error":"#REF!"}},{"$f":"#REF!&\"\"","v":{"$error":"#REF!"}},null,{"$f":"#REF!&\"\"","v":{"$error":"#REF!"}},null,{"$f":"#REF!&\"\"","v":{"$error":"#REF!"}}]
[5,{"$f":"#REF!&\"\"","v":{"$error":"#REF!"}},{"$f":"#REF!&\"\"","v":{"$error":"#REF!"}},{"$f":"#REF!&\"\"","v":{"$error":"#REF!"}},{"$f":"#REF!&\"\"","v":{"$error":"#REF!"}},null,{"$f":"#REF!&\"\"","v":{"$error":"#REF!"}},null,{"$f":"#REF!&\"\"","v":{"$error":"#REF!"}}]
[6,{"$f":"#REF!&\"\"","v":{"$error":"#REF!"}},{"$f":"#REF!&\"\"","v":{"$error":"#REF!"}},{"$f":"#REF!&\"\"","v":{"$error":"#REF!"}},{"$f":"#REF!&\"\"","v":{"$error":"#REF!"}},null,{"$f":"#REF!&\"\"","v":{"$error":"#REF!"}},null,{"$f":"#REF!&\"\"","v":{"$error":"#REF!"}}]
[7,{"$f":"#REF!&\"\"","v":{"$error":"#REF!"}},{"$f":"#REF!&\"\"","v":{"$error":"#REF!"}},{"$f":"#REF!&\"\"","v":{"$error":"#REF!"}},{"$f":"#REF!&\"\"","v":{"$error":"#REF!"}},null,{"$f":"#REF!&\"\"","v":{"$error":"#REF!"}},null,{"$f":"#REF!&\"\"","v":{"$error":"#REF!"}}]
[8,{"$f":"#REF!&\"\"","v":{"$error":"#REF!"}},{"$f":"#REF!&\"\"","v":{"$error":"#REF!"}},{"$f":"#REF!&\"\"","v":{"$error":"#REF!"}},{"$f":"#REF!&\"\"","v":{"$error":"#REF!"}},null,{"$f":"#REF!&\"\"","v":{"$error":"#REF!"}},null,{"$f":"#REF!&\"\"","v":{"$error":"#REF!"}}]
[9,{"$f":"#REF!&\"\"","v":{"$error":"#REF!"}},{"$f":"#REF!&\"\"","v":{"$error":"#REF!"}},{"$f":"#REF!&\"\"","v":{"$error":"#REF!"}},{"$f":"#REF!&\"\"","v":{"$error":"#REF!"}},null,{"$f":"#REF!&\"\"","v":{"$error":"#REF!"}},null,{"$f":"#REF!&\"\"","v":{"$error":"#REF!"}}]
[10,{"$f":"#REF!&\"\"","v":{"$error":"#REF!"}},{"$f":"#REF!&\"\"","v":{"$error":"#REF!"}},{"$f":"#REF!&\"\"","v":{"$error":"#REF!"}},{"$f":"#REF!&\"\"","v":{"$error":"#REF!"}},null,{"$f":"#REF!&\"\"","v":{"$error":"#REF!"}},null,{"$f":"#REF!&\"\"","v":{"$error":"#REF!"}}]
[11,{"$f":"#REF!&\"\"","v":{"$error":"#REF!"}},{"$f":"#REF!&\"\"","v":{"$error":"#REF!"}},{"$f":"#REF!&\"\"","v":{"$error":"#REF!"}},{"$f":"#REF!&\"\"","v":{"$error":"#REF!"}},null,{"$f":"#REF!&\"\"","v":{"$error":"#REF!"}},null,{"$f":"#REF!&\"\"","v":{"$error":"#REF!"}}]
[12,{"$f":"#REF!&\"\"","v":{"$error":"#REF!"}},{"$f":"#REF!&\"\"","v":{"$error":"#REF!"}},{"$f":"#REF!&\"\"","v":{"$error":"#REF!"}},{"$f":"#REF!&\"\"","v":{"$error":"#REF!"}},null,{"$f":"#REF!&\"\"","v":{"$error":"#REF!"}},null,{"$f":"#REF!&\"\"","v":{"$error":"#REF!"}}]
[13,{"$f":"#REF!&\"\"","v":{"$error":"#REF!"}},{"$f":"#REF!&\"\"","v":{"$error":"#REF!"}},{"$f":"#REF!&\"\"","v":{"$error":"#REF!"}},{"$f":"#REF!&\"\"","v":{"$error":"#REF!"}},null,{"$f":"#REF!&\"\"","v":{"$error":"#REF!"}},null,{"$f":"#REF!&\"\"","v":{"$error":"#REF!"}}]
[14,{"$f":"#REF!&\"\"","v":{"$error":"#REF!"}},{"$f":"#REF!&\"\"","v":{"$error":"#REF!"}},{"$f":"#REF!&\"\"","v":{"$error":"#REF!"}},{"$f":"#REF!&\"\"","v":{"$error":"#REF!"}},null,{"$f":"#REF!&\"\"","v":{"$error":"#REF!"}},null,{"$f":"#REF!&\"\"","v":{"$error":"#REF!"}}]
[15,{"$f":"#REF!&\"\"","v":{"$error":"#REF!"}},{"$f":"#REF!&\"\"","v":{"$error":"#REF!"}},{"$f":"#REF!&\"\"","v":{"$error":"#REF!"}},{"$f":"#REF!&\"\"","v":{"$error":"#REF!"}},null,{"$f":"#REF!&\"\"","v":{"$error":"#REF!"}},null,{"$f":"#REF!&\"\"","v":{"$error":"#REF!"}}]
[16,{"$f":"#REF!&\"\"","v":{"$error":"#REF!"}},{"$f":"#REF!&\"\"","v":{"$error":"#REF!"}},{"$f":"#REF!&\"\"","v":{"$error":"#REF!"}},{"$f":"#REF!&\"\"","v":{"$error":"#REF!"}},null,{"$f":"#REF!&\"\"","v":{"$error":"#REF!"}},null,{"$f":"#REF!&\"\"","v":{"$error":"#REF!"}}]
[17,{"$f":"#REF!&\"\"","v":{"$error":"#REF!"}},{"$f":"#REF!&\"\"","v":{"$error":"#REF!"}},{"$f":"#REF!&\"\"","v":{"$error":"#REF!"}},{"$f":"#REF!&\"\"","v":{"$error":"#REF!"}},null,{"$f":"#REF!&\"\"","v":{"$error":"#REF!"}},null,{"$f":"#REF!&\"\"","v":{"$error":"#REF!"}}]
[18,{"$f":"#REF!&\"\"","v":{"$error":"#REF!"}},{"$f":"#REF!&\"\"","v":{"$error":"#REF!"}},{"$f":"#REF!&\"\"","v":{"$error":"#REF!"}},{"$f":"#REF!&\"\"","v":{"$error":"#REF!"}},null,{"$f":"#REF!&\"\"","v":{"$error":"#REF!"}},null,{"$f":"#REF!&\"\"","v":{"$error":"#REF!"}}]
[19,{"$f":"#REF!&\"\"","v":{"$error":"#REF!"}},{"$f":"#REF!&\"\"","v":{"$error":"#REF!"}},{"$f":"#REF!&\"\"","v":{"$error":"#REF!"}},{"$f":"#REF!&\"\"","v":{"$error":"#REF!"}},null,{"$f":"#REF!&\"\"","v":{"$error":"#REF!"}},null,{"$f":"#REF!&\"\"","v":{"$error":"#REF!"}}]
[20,{"$f":"#REF!&\"\"","v":{"$error":"#REF!"}},{"$f":"#REF!&\"\"","v":{"$error":"#REF!"}},{"$f":"#REF!&\"\"","v":{"$error":"#REF!"}},{"$f":"#REF!&\"\"","v":{"$error":"#REF!"}},null,{"$f":"#REF!&\"\"","v":{"$error":"#REF!"}},null,{"$f":"#REF!&\"\"","v":{"$error":"#REF!"}}]
[21,{"$f":"#REF!&\"\"","v":{"$error":"#REF!"}},{"$f":"#REF!&\"\"","v":{"$error":"#REF!"}},{"$f":"#REF!&\"\"","v":{"$error":"#REF!"}},{"$f":"#REF!&\"\"","v":{"$error":"#REF!"}},null,{"$f":"#REF!&\"\"","v":{"$error":"#REF!"}},null,{"$f":"#REF!&\"\"","v":{"$error":"#REF!"}}]
[22,{"$f":"#REF!&\"\"","v":{"$error":"#REF!"}},{"$f":"#REF!&\"\"","v":{"$error":"#REF!"}},{"$f":"#REF!&\"\"","v":{"$error":"#REF!"}},{"$f":"#REF!&\"\"","v":{"$error":"#REF!"}},null,{"$f":"#REF!&\"\"","v":{"$error":"#REF!"}},null,{"$f":"#REF!&\"\"","v":{"$error":"#REF!"}}]